Workbook

Sheet Rekapitulácia stavby
A1: Export Komplet | BA1: 2.0 | BT1: False | BU1: False | BV1: {2ae54fbb-70e4-4016-8972-02e6b78626b8}
AR2: >> skryté stĺpce << | BS2: 0,001 | BT2: 20
BS3: 0,001 | BT3: 20
D4: REKAPITULÁCIA STAVBY | AS4: v --- nižšie sa nachádzajú doplnkové a pomocné údaje k zostavám --- v | BS4: 0,001
D5: Kód: | K5: 991 | BS5: 0,001
D6: Stavba: | K6: Oprava internátu SPoŠ 1NP Bernolákovo bunky A10,A9,A5,A4 + vstup,čiastočne chodba 1.04 | BS6: 0,001
D7: JKSO: | K7: 801 73 | AK7: KS: | AN7: 1263 | BS7: 0,001
D8: Miesto: | AK8: Dátum: | AN8: 07.12.2020 | BS8: 0,001
D9: CPV: | K9: 45000000-7 | BS9: 0,001
D10: Objednávateľ: | K10: Spojená škola, ul. SNP 30, 900 28 Ivanka pri Dunaji | AK10: IČO: | BS10: 0,001
AK11: IČ DPH: | BS11: 0,001
BS12: 0,001
D13: Zhotoviteľ: | K13: Ferrmont a.s. Púchov | AK13: IČO: | AN13: 31619916 | BS13: 0,001
AK14: IČ DPH: | AN14: SK2020441907 | BS14: 0,001
BS15: False
D16: Projektant: | AK16: IČO: | BS16: False
AK17: IČ DPH: | BS17: True
BS18: 0,01
D19: Spracovateľ: | AK19: IČO: | BS19: 0,01
AK20: IČ DPH: | BS20: True
D22: Poznámka:
D26: Cena bez DPH | AK26: =ROUND(AG94,2) -> 170000
L28: Sadzba dane | W28: Základ dane | AK28: Výška dane
D29: DPH | F29: základná | L29: 0.2 | W29: =ROUND(AZ94, 2) -> 0 | AK29: =ROUND(AV94, 2) -> 0
F30: znížená | L30: 0.2 | W30: =ROUND(BA94, 2) -> 170000 | AK30: =ROUND(AW94, 2) -> 34000
F31: zákl. prenesená | L31: 0.2 | W31: =ROUND(BB94, 2) -> 0 | AK31: 0
F32: zníž. prenesená | L32: 0.2 | W32: =ROUND(BC94, 2) -> 0 | AK32: 0
F33: nulová | L33: 0 | W33: =ROUND(BD94, 2) -> 0 | AK33: 0
D35: Cena s DPH | T35: v | X35: EUR | AK35: =SUM(AK26:AK33) -> 204000
D49: Projektant | AH49: Spracovateľ
D60: Dátum a podpis: | V60: Pečiatka | AH60: Dátum a podpis: | AM60: Pečiatka
D64: Objednávateľ | AH64: Zhotoviteľ
D75: Dátum a podpis: | V75: Pečiatka | AH75: Dátum a podpis: | AM75: Pečiatka
C82: REKAPITULÁCIA OBJEKTOV STAVBY
C84: Kód: | L84: =K5 -> 991
C85: Stavba: | L85: =K6 -> Oprava internátu SPoŠ 1NP Bernolákovo bunky A10,A9,A5,A4 + vstup,čiastočne chodba 1.04
C87: Miesto: | L87: =IF(K8="","",K8) | AI87: Dátum: | AM87: =IF(AN8= "","",AN8) -> 07.12.2020
C89: Objednávateľ: | L89: Spojená škola, ul. SNP 30, 900 28 Ivanka pri Dunaji | AI89: Projektant: | AM89: =IF(E17="","",E17) | AS89: Informatívne údaje z listov zákaziek
C90: Zhotoviteľ: | L90: Ferrmont a.s. Púchov | AI90: Spracovateľ: | AM90: =IF(E20="","",E20)
C92: Kód | I92: Popis | AG92: Cena bez DPH [EUR] | AN92: Cena s DPH [EUR] | AQ92: Typ | AS92: z toho Ostat._x000D_ náklady [EUR] | AT92: DPH [EUR] | AU92: Normohodiny [h] | AV92: DPH základná [EUR] | AW92: DPH znížená [EUR] | AX92: DPH základná prenesená_x000D_ [EUR] | AY92: DPH znížená prenesená_x000D_ [EUR] | AZ92: Základňa_x000D_ DPH základná | BA92: Základňa_x000D_ DPH znížená | BB92: Základňa_x000D_ DPH zákl. prenesená | BC92: Základňa_x000D_ DPH zníž. prenesená | BD92: Základňa_x000D_ DPH nulová
...

Sheet SO01 - Oprava bunky A10, ...
L2: >> skryté stĺpce << | AT2: {73a9b796-c7a0-41d1-a608-6349083809a7}
AT3: 0
D4: KRYCÍ LIST ROZPOČTU | M4: v --- nižšie sa nachádzajú doplnkové a pomocné údaje k zostavám --- v | AT4: False
D6: Stavba:
E7: ='Rekapitulácia stavby'!K6 -> Oprava internátu SPoŠ 1NP Bernolákovo bunky A10,A9,A5,A4 + vstup,čiastočne chodba 1.04
D8: Objekt:
E9: SO01 - Oprava bunky A10, A9, A5, A4_ stavebná časť
D11: JKSO: | I11: KS:
D12: Miesto: | I12: Dátum: | J12: 44172
D14: Objednávateľ: | F14: Spojená škola, ul. SNP 30, 900 28 Ivanka pri Dunaji | I14: IČO: | J14: =IF('Rekapitulácia stavby'!AN10="","",'Rekapitulácia stavby'!AN10)
E15: =IF('Rekapitulácia stavby'!E11="","",'Rekapitulácia stavby'!E11) | I15: IČ DPH: | J15: =IF('Rekapitulácia stavby'!AN11="","",'Rekapitulácia stavby'!AN11)
D17: Zhotoviteľ: | F17: Ferrmont a.s. Púchov | I17: IČO: | J17: ='Rekapitulácia stavby'!AN13 -> 31619916
E18: ='Rekapitulácia stavby'!E14 | I18: IČ DPH: | J18: ='Rekapitulácia stavby'!AN14 -> SK2020441907
D20: Projektant: | I20: IČO: | J20: =IF('Rekapitulácia stavby'!AN16="","",'Rekapitulácia stavby'!AN16)
E21: =IF('Rekapitulácia stavby'!E17="","",'Rekapitulácia stavby'!E17) | I21: IČ DPH: | J21: =IF('Rekapitulácia stavby'!AN17="","",'Rekapitulácia stavby'!AN17)
D23: Spracovateľ: | I23: IČO: | J23: =IF('Rekapitulácia stavby'!AN19="","",'Rekapitulácia stavby'!AN19)
E24: =IF('Rekapitulácia stavby'!E20="","",'Rekapitulácia stavby'!E20) | I24: IČ DPH: | J24: =IF('Rekapitulácia stavby'!AN20="","",'Rekapitulácia stavby'!AN20)
D26: Poznámka:
D30: Cena bez DPH | J30: =ROUND(J133, 2) -> 73594.67
F32: Základ dane | I32: Sadzba dane | J32: Výška dane
D33: DPH | E33: základná | F33: =ROUND((SUM(BE133:BE269)), 2) -> 0 | I33: 0.2 | J33: =ROUND(((SUM(BE133:BE269))*I33), 2) -> 0
E34: znížená | F34: =ROUND((SUM(BF133:BF269)), 2) -> 73594.67 | I34: 0.2 | J34: =ROUND(((SUM(BF133:BF269))*I34), 2) -> 14718.93
E35: zákl. prenesená | F35: =ROUND((SUM(BG133:BG269)), 2) -> 0 | I35: 0.2 | J35: =0 -> 0
E36: zníž. prenesená | F36: =ROUND((SUM(BH133:BH269)), 2) -> 0 | I36: 0.2 | J36: =0 -> 0
E37: nulová | F37: =ROUND((SUM(BI133:BI269)), 2) -> 0 | I37: 0 | J37: =0 -> 0
D39: Cena s DPH | G39: v | H39: EUR | J39: =SUM(J30:J37) -> 88313.6
D50: Projektant | G50: Spracovateľ
D61: Dátum a podpis: | F61: Pečiatka | G61: Dátum a podpis: | J61: Pečiatka
D65: Objednávateľ | G65: Zhotoviteľ
D76: Dátum a podpis: | F76: Pečiatka | G76: Dátum a podpis: | J76: Pečiatka
C82: REKAPITULÁCIA ROZPOČTU
C84: Stavba:
E85: =E7 -> Oprava internátu SPoŠ 1NP Bernolákovo bunky A10,A9,A5,A4 + vstup,čiastočne chodba 1.04
C86: Objekt:
E87: =E9 -> SO01 - Oprava bunky A10, A9, A5, A4_ stavebná časť
C89: Miesto: | F89: =F12 | I89: Dátum: | J89: =IF(J12="","",J12) -> 44172
C91: Objednávateľ: | F91: Spojená škola, ul. SNP 30, 900 28 Ivanka pri Dunaji | I91: Projektant: | J91: =E21
C92: Zhotoviteľ: | F92: Ferrmont a.s. Púchov | I92: Spracovateľ: | J92: =E24
C94: Kód dielu - Popis | J94: Cena celkom [EUR]
C96: Náklady z rozpočtu | J96: =J133 -> 73594.673 | AU96: -1
...

Sheet SO02 - Oprava bunky A10,A...
L2: >> skryté stĺpce << | AT2: {375c6242-ebf2-4303-a952-806b7da1758a}
AT3: 0
D4: KRYCÍ LIST ROZPOČTU | M4: v --- nižšie sa nachádzajú doplnkové a pomocné údaje k zostavám --- v | AT4: False
D6: Stavba:
E7: ='Rekapitulácia stavby'!K6 -> Oprava internátu SPoŠ 1NP Bernolákovo bunky A10,A9,A5,A4 + vstup,čiastočne chodba 1.04
D8: Objekt:
E9: SO02 - Oprava bunky A10,A9, A5,A4_ zdravotechnika
D11: JKSO: | F11: 801 73 | I11: KS: | J11: 1263
D12: Miesto: | I12: Dátum: | J12: 44172
D13: CPV: | F13: 45000000-7
D14: Objednávateľ: | F14: Spojená škola, ul. SNP 30, 900 28 Ivanka pri Dunaji | I14: IČO: | J14: =IF('Rekapitulácia stavby'!AN10="","",'Rekapitulácia stavby'!AN10)
E15: =IF('Rekapitulácia stavby'!E11="","",'Rekapitulácia stavby'!E11) | I15: IČ DPH: | J15: =IF('Rekapitulácia stavby'!AN11="","",'Rekapitulácia stavby'!AN11)
D17: Zhotoviteľ: | F17: Ferrmont a.s. Púchov | I17: IČO: | J17: ='Rekapitulácia stavby'!AN13 -> 31619916
E18: ='Rekapitulácia stavby'!E14 | I18: IČ DPH: | J18: ='Rekapitulácia stavby'!AN14 -> SK2020441907
D20: Projektant: | I20: IČO: | J20: =IF('Rekapitulácia stavby'!AN16="","",'Rekapitulácia stavby'!AN16)
E21: =IF('Rekapitulácia stavby'!E17="","",'Rekapitulácia stavby'!E17) | I21: IČ DPH: | J21: =IF('Rekapitulácia stavby'!AN17="","",'Rekapitulácia stavby'!AN17)
D23: Spracovateľ: | I23: IČO: | J23: =IF('Rekapitulácia stavby'!AN19="","",'Rekapitulácia stavby'!AN19)
E24: =IF('Rekapitulácia stavby'!E20="","",'Rekapitulácia stavby'!E20) | I24: IČ DPH: | J24: =IF('Rekapitulácia stavby'!AN20="","",'Rekapitulácia stavby'!AN20)
D26: Poznámka:
D30: Cena bez DPH | J30: =ROUND(J119, 2) -> 12971
F32: Základ dane | I32: Sadzba dane | J32: Výška dane
D33: DPH | E33: základná | F33: =ROUND((SUM(BE119:BE213)), 2) -> 0 | I33: 0.2 | J33: =ROUND(((SUM(BE119:BE213))*I33), 2) -> 0
E34: znížená | F34: =ROUND((SUM(BF119:BF213)), 2) -> 12971 | I34: 0.2 | J34: =ROUND(((SUM(BF119:BF213))*I34), 2) -> 2594.2
E35: zákl. prenesená | F35: =ROUND((SUM(BG119:BG213)), 2) -> 0 | I35: 0.2 | J35: =0 -> 0
E36: zníž. prenesená | F36: =ROUND((SUM(BH119:BH213)), 2) -> 0 | I36: 0.2 | J36: =0 -> 0
E37: nulová | F37: =ROUND((SUM(BI119:BI213)), 2) -> 0 | I37: 0 | J37: =0 -> 0
D39: Cena s DPH | G39: v | H39: EUR | J39: =SUM(J30:J37) -> 15565.2
D49: Projektant | G49: Spracovateľ
D60: Dátum a podpis: | F60: Pečiatka | G60: Dátum a podpis: | J60: Pečiatka
D64: Objednávateľ | G64: Zhotoviteľ
D75: Dátum a podpis: | F75: Pečiatka | G75: Dátum a podpis: | J75: Pečiatka
C81: REKAPITULÁCIA ROZPOČTU
C83: Stavba:
E84: =E7 -> Oprava internátu SPoŠ 1NP Bernolákovo bunky A10,A9,A5,A4 + vstup,čiastočne chodba 1.04
C85: Objekt:
E86: =E9 -> SO02 - Oprava bunky A10,A9, A5,A4_ zdravotechnika
C88: Miesto: | F88: =F12 | I88: Dátum: | J88: =IF(J12="","",J12) -> 44172
C90: Objednávateľ: | F90: Spojená škola, ul. SNP 30, 900 28 Ivanka pri Dunaji | I90: Projektant: | J90: =E21
C91: Zhotoviteľ: | F91: Ferrmont a.s. Púchov | I91: Spracovateľ: | J91: =E24
C93: Kód dielu - Popis | J93: Cena celkom [EUR]
...

Sheet SO03 - Elektroinštalácia ...
L2: >> skryté stĺpce << | AT2: {72f730e2-1a15-411d-b32f-3a85f5b41dc9}
AT3: 0
D4: KRYCÍ LIST ROZPOČTU | M4: v --- nižšie sa nachádzajú doplnkové a pomocné údaje k zostavám --- v | AT4: False
D6: Stavba:
E7: ='Rekapitulácia stavby'!K6 -> Oprava internátu SPoŠ 1NP Bernolákovo bunky A10,A9,A5,A4 + vstup,čiastočne chodba 1.04
D8: Objekt:
E9: SO03 - Elektroinštalácia chodba + bunky A10,A9,A5,A4,
D11: JKSO: | I11: KS:
D12: Miesto: | I12: Dátum: | J12: 44172
D14: Objednávateľ: | F14: Spojená škola, ul. SNP 30, 900 28 Ivanka pri Dunaji | I14: IČO: | J14: =IF('Rekapitulácia stavby'!AN10="","",'Rekapitulácia stavby'!AN10)
E15: =IF('Rekapitulácia stavby'!E11="","",'Rekapitulácia stavby'!E11) | I15: IČ DPH: | J15: =IF('Rekapitulácia stavby'!AN11="","",'Rekapitulácia stavby'!AN11)
D17: Zhotoviteľ: | F17: Ferrmont a.s. Púchov | I17: IČO: | J17: ='Rekapitulácia stavby'!AN13 -> 31619916
E18: ='Rekapitulácia stavby'!E14 | I18: IČ DPH: | J18: ='Rekapitulácia stavby'!AN14 -> SK2020441907
D20: Projektant: | I20: IČO: | J20: =IF('Rekapitulácia stavby'!AN16="","",'Rekapitulácia stavby'!AN16)
E21: =IF('Rekapitulácia stavby'!E17="","",'Rekapitulácia stavby'!E17) | I21: IČ DPH: | J21: =IF('Rekapitulácia stavby'!AN17="","",'Rekapitulácia stavby'!AN17)
D23: Spracovateľ: | I23: IČO: | J23: =IF('Rekapitulácia stavby'!AN19="","",'Rekapitulácia stavby'!AN19)
E24: =IF('Rekapitulácia stavby'!E20="","",'Rekapitulácia stavby'!E20) | I24: IČ DPH: | J24: =IF('Rekapitulácia stavby'!AN20="","",'Rekapitulácia stavby'!AN20)
D26: Poznámka:
D30: Cena bez DPH | J30: =ROUND(J123, 2) -> 47544.54
F32: Základ dane | I32: Sadzba dane | J32: Výška dane
D33: DPH | E33: základná | F33: =ROUND((SUM(BE123:BE210)), 2) -> 0 | I33: 0.2 | J33: =ROUND(((SUM(BE123:BE210))*I33), 2) -> 0
E34: znížená | F34: =ROUND((SUM(BF123:BF210)), 2) -> 47544.54 | I34: 0.2 | J34: =ROUND(((SUM(BF123:BF210))*I34), 2) -> 9508.91
E35: zákl. prenesená | F35: =ROUND((SUM(BG123:BG210)), 2) -> 0 | I35: 0.2 | J35: =0 -> 0
E36: zníž. prenesená | F36: =ROUND((SUM(BH123:BH210)), 2) -> 0 | I36: 0.2 | J36: =0 -> 0
E37: nulová | F37: =ROUND((SUM(BI123:BI210)), 2) -> 0 | I37: 0 | J37: =0 -> 0
D39: Cena s DPH | G39: v | H39: EUR | J39: =SUM(J30:J37) -> 57053.45
D50: Projektant | G50: Spracovateľ
D61: Dátum a podpis: | F61: Pečiatka | G61: Dátum a podpis: | J61: Pečiatka
D65: Objednávateľ | G65: Zhotoviteľ
D76: Dátum a podpis: | F76: Pečiatka | G76: Dátum a podpis: | J76: Pečiatka
C82: REKAPITULÁCIA ROZPOČTU
C84: Stavba:
E85: =E7 -> Oprava internátu SPoŠ 1NP Bernolákovo bunky A10,A9,A5,A4 + vstup,čiastočne chodba 1.04
C86: Objekt:
E87: =E9 -> SO03 - Elektroinštalácia chodba + bunky A10,A9,A5,A4,
C89: Miesto: | F89: =F12 | I89: Dátum: | J89: =IF(J12="","",J12) -> 44172
C91: Objednávateľ: | F91: Spojená škola, ul. SNP 30, 900 28 Ivanka pri Dunaji | I91: Projektant: | J91: =E21
C92: Zhotoviteľ: | F92: Ferrmont a.s. Púchov | I92: Spracovateľ: | J92: =E24
C94: Kód dielu - Popis | J94: Cena celkom [EUR]
C96: Náklady z rozpočtu | J96: =J123 -> 47544.54 | AU96: -1
...

Sheet SO04 - Oprava súvisiacich...
L2: >> skryté stĺpce << | AT2: {121657fc-d0fd-46b6-b0f0-f9630c7b81ae}
AT3: 0
D4: KRYCÍ LIST ROZPOČTU | M4: v --- nižšie sa nachádzajú doplnkové a pomocné údaje k zostavám --- v | AT4: False
D6: Stavba:
E7: ='Rekapitulácia stavby'!K6 -> Oprava internátu SPoŠ 1NP Bernolákovo bunky A10,A9,A5,A4 + vstup,čiastočne chodba 1.04
D8: Objekt:
E9: SO04 - Oprava súvisiacich priestorov - chodba 1.04 + požiarna deliaca stena
D11: JKSO: | I11: KS:
D12: Miesto: | I12: Dátum: | J12: 44172
D14: Objednávateľ: | F14: Spojená škola, ul. SNP 30, 900 28 Ivanka pri Dunaji | I14: IČO: | J14: =IF('Rekapitulácia stavby'!AN10="","",'Rekapitulácia stavby'!AN10)
E15: =IF('Rekapitulácia stavby'!E11="","",'Rekapitulácia stavby'!E11) | I15: IČ DPH: | J15: =IF('Rekapitulácia stavby'!AN11="","",'Rekapitulácia stavby'!AN11)
D17: Zhotoviteľ: | F17: Ferrmont a.s. Púchov | I17: IČO: | J17: ='Rekapitulácia stavby'!AN13 -> 31619916
E18: ='Rekapitulácia stavby'!E14 | I18: IČ DPH: | J18: ='Rekapitulácia stavby'!AN14 -> SK2020441907
D20: Projektant: | I20: IČO: | J20: =IF('Rekapitulácia stavby'!AN16="","",'Rekapitulácia stavby'!AN16)
E21: =IF('Rekapitulácia stavby'!E17="","",'Rekapitulácia stavby'!E17) | I21: IČ DPH: | J21: =IF('Rekapitulácia stavby'!AN17="","",'Rekapitulácia stavby'!AN17)
D23: Spracovateľ: | I23: IČO: | J23: =IF('Rekapitulácia stavby'!AN19="","",'Rekapitulácia stavby'!AN19)
E24: =IF('Rekapitulácia stavby'!E20="","",'Rekapitulácia stavby'!E20) | I24: IČ DPH: | J24: =IF('Rekapitulácia stavby'!AN20="","",'Rekapitulácia stavby'!AN20)
D26: Poznámka:
D30: Cena bez DPH | J30: =ROUND(J128, 2) -> 35889.79
F32: Základ dane | I32: Sadzba dane | J32: Výška dane
D33: DPH | E33: základná | F33: =ROUND((SUM(BE128:BE218)), 2) -> 0 | I33: 0.2 | J33: =ROUND(((SUM(BE128:BE218))*I33), 2) -> 0
E34: znížená | F34: =ROUND((SUM(BF128:BF218)), 2) -> 35889.79 | I34: 0.2 | J34: =ROUND(((SUM(BF128:BF218))*I34), 2) -> 7177.96
E35: zákl. prenesená | F35: =ROUND((SUM(BG128:BG218)), 2) -> 0 | I35: 0.2 | J35: =0 -> 0
E36: zníž. prenesená | F36: =ROUND((SUM(BH128:BH218)), 2) -> 0 | I36: 0.2 | J36: =0 -> 0
E37: nulová | F37: =ROUND((SUM(BI128:BI218)), 2) -> 0 | I37: 0 | J37: =0 -> 0
D39: Cena s DPH | G39: v | H39: EUR | J39: =SUM(J30:J37) -> 43067.75
D50: Projektant | G50: Spracovateľ
D61: Dátum a podpis: | F61: Pečiatka | G61: Dátum a podpis: | J61: Pečiatka
D65: Objednávateľ | G65: Zhotoviteľ
D76: Dátum a podpis: | F76: Pečiatka | G76: Dátum a podpis: | J76: Pečiatka
C82: REKAPITULÁCIA ROZPOČTU
C84: Stavba:
E85: =E7 -> Oprava internátu SPoŠ 1NP Bernolákovo bunky A10,A9,A5,A4 + vstup,čiastočne chodba 1.04
C86: Objekt:
E87: =E9 -> SO04 - Oprava súvisiacich priestorov - chodba 1.04 + požiarna deliaca stena
C89: Miesto: | F89: =F12 | I89: Dátum: | J89: 44172
C91: Objednávateľ: | F91: Spojená škola, ul. SNP 30, 900 28 Ivanka pri Dunaji | I91: Projektant: | J91: =E21
C92: Zhotoviteľ: | F92: Ferrmont a.s. Púchov | I92: Spracovateľ: | J92: =E24
C94: Kód dielu - Popis | J94: Cena celkom [EUR]
C96: Náklady z rozpočtu | J96: =J128 -> 35889.785 | AU96: -1
...
