Workbook

Sheet Rekapitulácia stavby
A1: Export Komplet | BA1: 2.0 | BT1: False | BU1: False | BV1: {2ae54fbb-70e4-4016-8972-02e6b78626b8}
AR2: >> skryté stĺpce << | BS2: 0,001 | BT2: 20
BS3: 0,001 | BT3: 20
D4: REKAPITULÁCIA STAVBY | AS4: v --- nižšie sa nachádzajú doplnkové a pomocné údaje k zostavám --- v | BS4: 0,001
D5: Kód: | K5: 991 | BS5: 0,001
D6: Stavba: | K6: Oprava internátu SPoŠ 1NP Bernolákovo bunky A10,A9,A5,A4 + vstup,čiastočne chodba 1.04 | BS6: 0,001
D7: JKSO: | K7: 801 73 | AK7: KS: | AN7: 1263 | BS7: 0,001
D8: Miesto: | AK8: Dátum: | AN8: 07.12.2020 | BS8: 0,001
D9: CPV: | K9: 45000000-7 | BS9: 0,001
D10: Objednávateľ: | K10: Spojená škola, ul. SNP 30, 900 28 Ivanka pri Dunaji | AK10: IČO: | BS10: 0,001
AK11: IČ DPH: | BS11: 0,001
BS12: 0,001
D13: Zhotoviteľ: | K13: Ferrmont a.s. Púchov | AK13: IČO: | AN13: 31619916 | BS13: 0,001
AK14: IČ DPH: | AN14: SK2020441907 | BS14: 0,001
BS15: False
D16: Projektant: | AK16: IČO: | BS16: False
AK17: IČ DPH: | BS17: True
BS18: 0,01
D19: Spracovateľ: | AK19: IČO: | BS19: 0,01
AK20: IČ DPH: | BS20: True
D22: Poznámka:
D26: Cena bez DPH | AK26: =ROUND(AG94,2) -> 170000
L28: Sadzba dane | W28: Základ dane | AK28: Výška dane
D29: DPH | F29: základná | L29: 0.2 | W29: =ROUND(AZ94, 2) -> 0 | AK29: =ROUND(AV94, 2) -> 0
F30: znížená | L30: 0.2 | W30: =ROUND(BA94, 2) -> 170000 | AK30: =ROUND(AW94, 2) -> 34000
F31: zákl. prenesená | L31: 0.2 | W31: =ROUND(BB94, 2) -> 0 | AK31: 0
F32: zníž. prenesená | L32: 0.2 | W32: =ROUND(BC94, 2) -> 0 | AK32: 0
F33: nulová | L33: 0 | W33: =ROUND(BD94, 2) -> 0 | AK33: 0
D35: Cena s DPH | T35: v | X35: EUR | AK35: =SUM(AK26:AK33) -> 204000
D49: Projektant | AH49: Spracovateľ
D60: Dátum a podpis: | V60: Pečiatka | AH60: Dátum a podpis: | AM60: Pečiatka
D64: Objednávateľ | AH64: Zhotoviteľ
D75: Dátum a podpis: | V75: Pečiatka | AH75: Dátum a podpis: | AM75: Pečiatka
C82: REKAPITULÁCIA OBJEKTOV STAVBY
C84: Kód: | L84: =K5 -> 991
C85: Stavba: | L85: =K6 -> Oprava internátu SPoŠ 1NP Bernolákovo bunky A10,A9,A5,A4 + vstup,čiastočne chodba 1.04
C87: Miesto: | L87: =IF(K8="","",K8) | AI87: Dátum: | AM87: =IF(AN8= "","",AN8) -> 07.12.2020
C89: Objednávateľ: | L89: Spojená škola, ul. SNP 30, 900 28 Ivanka pri Dunaji | AI89: Projektant: | AM89: =IF(E17="","",E17) | AS89: Informatívne údaje z listov zákaziek
C90: Zhotoviteľ: | L90: Ferrmont a.s. Púchov | AI90: Spracovateľ: | AM90: =IF(E20="","",E20)
C92: Kód | I92: Popis | AG92: Cena bez DPH [EUR] | AN92: Cena s DPH [EUR] | AQ92: Typ | AS92: z toho Ostat._x000D_ náklady [EUR] | AT92: DPH [EUR] | AU92: Normohodiny [h] | AV92: DPH základná [EUR] | AW92: DPH znížená [EUR] | AX92: DPH základná prenesená_x000D_ [EUR] | AY92: DPH znížená prenesená_x000D_ [EUR] | AZ92: Základňa_x000D_ DPH základná | BA92: Základňa_x000D_ DPH znížená | BB92: Základňa_x000D_ DPH zákl. prenesená | BC92: Základňa_x000D_ DPH zníž. prenesená | BD92: Základňa_x000D_ DPH nulová
C94: Náklady z rozpočtov | AG94: =ROUND(SUM(AG95:AG98),2) -> 170000 | AN94: =SUM(AG94,AT94) -> 204000 | AS94: =ROUND(SUM(AS95:AS98),2) -> 0 | AT94: =ROUND(SUM(AV94:AW94),2) -> 34000 | AU94: =ROUND(SUM(AU95:AU98),5) -> 148.31853 | AV94: =ROUND(AZ94*L29,2) -> 0 | AW94: =ROUND(BA94*L30,2) -> 34000 | AX94: =ROUND(BB94*L29,2) -> 0 | AY94: =ROUND(BC94*L30,2) -> 0 | AZ94: =ROUND(SUM(AZ95:AZ98),2) -> 0 | BA94: =ROUND(SUM(BA95:BA98),2) -> 170000 | BB94: =ROUND(SUM(BB95:BB98),2) -> 0 | BC94: =ROUND(SUM(BC95:BC98),2) -> 0 | BD94: =ROUND(SUM(BD95:BD98),2) -> 0 | BS94: D | BT94: 0 | BU94: ###NOIMPORT### | BV94: IMPORT | BW94: {2ae54fbb-70e4-4016-8972-02e6b78626b8} | BX94: {00000000-0000-0000-0000-000000000000} | CL94: 801 73
A95: / | D95: SO01 | J95: Oprava bunky A10, A9, A5, A4_ stavebná časť | AG95: ='SO01 - Oprava bunky A10, ...'!J30 -> 73594.67 | AN95: =SUM(AG95,AT95) -> 88313.6 | AQ95: STA | AS95: 0 | AT95: =ROUND(SUM(AV95:AW95),2) -> 14718.93 | AU95: ='SO01 - Oprava bunky A10, ...'!P133 -> 0 | AV95: ='SO01 - Oprava bunky A10, ...'!J33 -> 0 | AW95: ='SO01 - Oprava bunky A10, ...'!J34 -> 14718.93 | AX95: ='SO01 - Oprava bunky A10, ...'!J35 -> 0 | AY95: ='SO01 - Oprava bunky A10, ...'!J36 -> 0 | AZ95: ='SO01 - Oprava bunky A10, ...'!F33 -> 0 | BA95: ='SO01 - Oprava bunky A10, ...'!F34 -> 73594.67 | BB95: ='SO01 - Oprava bunky A10, ...'!F35 -> 0 | BC95: ='SO01 - Oprava bunky A10, ...'!F36 -> 0 | BD95: ='SO01 - Oprava bunky A10, ...'!F37 -> 0 | BT95: 1 | BV95: IMPORT | BW95: {73a9b796-c7a0-41d1-a608-6349083809a7} | BX95: {2ae54fbb-70e4-4016-8972-02e6b78626b8} | CM95: 0
A96: / | D96: SO02 | J96: Oprava bunky A10,A9, A5,A4_ zdravotechnika | AG96: ='SO02 - Oprava bunky A10,A...'!J30 -> 12971 | AN96: =SUM(AG96,AT96) -> 15565.2 | AQ96: STA | AS96: 0 | AT96: =ROUND(SUM(AV96:AW96),2) -> 2594.2 | AU96: ='SO02 - Oprava bunky A10,A...'!P119 -> 86.1512 | AV96: ='SO02 - Oprava bunky A10,A...'!J33 -> 0 | AW96: ='SO02 - Oprava bunky A10,A...'!J34 -> 2594.2 | AX96: ='SO02 - Oprava bunky A10,A...'!J35 -> 0 | AY96: ='SO02 - Oprava bunky A10,A...'!J36 -> 0 | AZ96: ='SO02 - Oprava bunky A10,A...'!F33 -> 0 | BA96: ='SO02 - Oprava bunky A10,A...'!F34 -> 12971 | BB96: ='SO02 - Oprava bunky A10,A...'!F35 -> 0 | BC96: ='SO02 - Oprava bunky A10,A...'!F36 -> 0 | BD96: ='SO02 - Oprava bunky A10,A...'!F37 -> 0 | BT96: 1 | BV96: IMPORT | BW96: {375c6242-ebf2-4303-a952-806b7da1758a} | BX96: {2ae54fbb-70e4-4016-8972-02e6b78626b8} | CL96: 801 73 | CM96: 0
A97: / | D97: SO03 | J97: Elektroinštalácia chodba + bunky A10,A9,A5,A4 | AG97: ='SO03 - Elektroinštalácia ...'!J30 -> 47544.54 | AN97: =SUM(AG97,AT97) -> 57053.45 | AQ97: STA | AS97: 0 | AT97: =ROUND(SUM(AV97:AW97),2) -> 9508.91 | AU97: ='SO03 - Elektroinštalácia ...'!P123 -> 0 | AV97: ='SO03 - Elektroinštalácia ...'!J33 -> 0 | AW97: ='SO03 - Elektroinštalácia ...'!J34 -> 9508.91 | AX97: ='SO03 - Elektroinštalácia ...'!J35 -> 0 | AY97: ='SO03 - Elektroinštalácia ...'!J36 -> 0 | AZ97: ='SO03 - Elektroinštalácia ...'!F33 -> 0 | BA97: ='SO03 - Elektroinštalácia ...'!F34 -> 47544.54 | BB97: ='SO03 - Elektroinštalácia ...'!F35 -> 0 | BC97: ='SO03 - Elektroinštalácia ...'!F36 -> 0 | BD97: ='SO03 - Elektroinštalácia ...'!F37 -> 0 | BT97: 1 | BV97: IMPORT | BW97: {72f730e2-1a15-411d-b32f-3a85f5b41dc9} | BX97: {2ae54fbb-70e4-4016-8972-02e6b78626b8} | CM97: 0
A98: / | D98: SO04 | J98: Oprava súvisiacich priestorov - chodba 1.04 + požiarna deliaca stena | AG98: ='SO04 - Oprava súvisiacich...'!J30 -> 35889.79 | AN98: =SUM(AG98,AT98) -> 43067.75 | AQ98: STA | AS98: 0 | AT98: =ROUND(SUM(AV98:AW98),2) -> 7177.96 | AU98: ='SO04 - Oprava súvisiacich...'!P128 -> 62.167333 | AV98: ='SO04 - Oprava súvisiacich...'!J33 -> 0 | AW98: ='SO04 - Oprava súvisiacich...'!J34 -> 7177.96 | AX98: ='SO04 - Oprava súvisiacich...'!J35 -> 0 | AY98: ='SO04 - Oprava súvisiacich...'!J36 -> 0 | AZ98: ='SO04 - Oprava súvisiacich...'!F33 -> 0 | BA98: ='SO04 - Oprava súvisiacich...'!F34 -> 35889.79 | BB98: ='SO04 - Oprava súvisiacich...'!F35 -> 0 | BC98: ='SO04 - Oprava súvisiacich...'!F36 -> 0 | BD98: ='SO04 - Oprava súvisiacich...'!F37 -> 0 | BT98: 1 | BV98: IMPORT | BW98: {121657fc-d0fd-46b6-b0f0-f9630c7b81ae} | BX98: {2ae54fbb-70e4-4016-8972-02e6b78626b8} | CM98: 0

Sheet SO01 - Oprava bunky A10, ...
L2: >> skryté stĺpce << | AT2: {73a9b796-c7a0-41d1-a608-6349083809a7}
AT3: 0
D4: KRYCÍ LIST ROZPOČTU | M4: v --- nižšie sa nachádzajú doplnkové a pomocné údaje k zostavám --- v | AT4: False
D6: Stavba:
E7: ='Rekapitulácia stavby'!K6 -> Oprava internátu SPoŠ 1NP Bernolákovo bunky A10,A9,A5,A4 + vstup,čiastočne chodba 1.04
D8: Objekt:
E9: SO01 - Oprava bunky A10, A9, A5, A4_ stavebná časť
D11: JKSO: | I11: KS:
D12: Miesto: | I12: Dátum: | J12: 44172
D14: Objednávateľ: | F14: Spojená škola, ul. SNP 30, 900 28 Ivanka pri Dunaji | I14: IČO: | J14: =IF('Rekapitulácia stavby'!AN10="","",'Rekapitulácia stavby'!AN10)
E15: =IF('Rekapitulácia stavby'!E11="","",'Rekapitulácia stavby'!E11) | I15: IČ DPH: | J15: =IF('Rekapitulácia stavby'!AN11="","",'Rekapitulácia stavby'!AN11)
D17: Zhotoviteľ: | F17: Ferrmont a.s. Púchov | I17: IČO: | J17: ='Rekapitulácia stavby'!AN13 -> 31619916
E18: ='Rekapitulácia stavby'!E14 | I18: IČ DPH: | J18: ='Rekapitulácia stavby'!AN14 -> SK2020441907
D20: Projektant: | I20: IČO: | J20: =IF('Rekapitulácia stavby'!AN16="","",'Rekapitulácia stavby'!AN16)
E21: =IF('Rekapitulácia stavby'!E17="","",'Rekapitulácia stavby'!E17) | I21: IČ DPH: | J21: =IF('Rekapitulácia stavby'!AN17="","",'Rekapitulácia stavby'!AN17)
D23: Spracovateľ: | I23: IČO: | J23: =IF('Rekapitulácia stavby'!AN19="","",'Rekapitulácia stavby'!AN19)
E24: =IF('Rekapitulácia stavby'!E20="","",'Rekapitulácia stavby'!E20) | I24: IČ DPH: | J24: =IF('Rekapitulácia stavby'!AN20="","",'Rekapitulácia stavby'!AN20)
D26: Poznámka:
D30: Cena bez DPH | J30: =ROUND(J133, 2) -> 73594.67
F32: Základ dane | I32: Sadzba dane | J32: Výška dane
D33: DPH | E33: základná | F33: =ROUND((SUM(BE133:BE269)), 2) -> 0 | I33: 0.2 | J33: =ROUND(((SUM(BE133:BE269))*I33), 2) -> 0
E34: znížená | F34: =ROUND((SUM(BF133:BF269)), 2) -> 73594.67 | I34: 0.2 | J34: =ROUND(((SUM(BF133:BF269))*I34), 2) -> 14718.93
E35: zákl. prenesená | F35: =ROUND((SUM(BG133:BG269)), 2) -> 0 | I35: 0.2 | J35: =0 -> 0
E36: zníž. prenesená | F36: =ROUND((SUM(BH133:BH269)), 2) -> 0 | I36: 0.2 | J36: =0 -> 0
E37: nulová | F37: =ROUND((SUM(BI133:BI269)), 2) -> 0 | I37: 0 | J37: =0 -> 0
D39: Cena s DPH | G39: v | H39: EUR | J39: =SUM(J30:J37) -> 88313.6
D50: Projektant | G50: Spracovateľ
D61: Dátum a podpis: | F61: Pečiatka | G61: Dátum a podpis: | J61: Pečiatka
D65: Objednávateľ | G65: Zhotoviteľ
D76: Dátum a podpis: | F76: Pečiatka | G76: Dátum a podpis: | J76: Pečiatka
C82: REKAPITULÁCIA ROZPOČTU
C84: Stavba:
E85: =E7 -> Oprava internátu SPoŠ 1NP Bernolákovo bunky A10,A9,A5,A4 + vstup,čiastočne chodba 1.04
C86: Objekt:
E87: =E9 -> SO01 - Oprava bunky A10, A9, A5, A4_ stavebná časť
C89: Miesto: | F89: =F12 | I89: Dátum: | J89: =IF(J12="","",J12) -> 44172
C91: Objednávateľ: | F91: Spojená škola, ul. SNP 30, 900 28 Ivanka pri Dunaji | I91: Projektant: | J91: =E21
C92: Zhotoviteľ: | F92: Ferrmont a.s. Púchov | I92: Spracovateľ: | J92: =E24
C94: Kód dielu - Popis | J94: Cena celkom [EUR]
C96: Náklady z rozpočtu | J96: =J133 -> 73594.673 | AU96: -1
D97: HSV - Práce a dodávky HSV | J97: =J134 -> 39669.419
D98: 3 - Zvislé a kompletné konštrukcie | J98: =J135 -> 3603.723
D99: 6 - Úpravy povrchov, podlahy, osadenie | J99: =J142 -> 23386.636
D100: 9 - Ostatné konštrukcie a práce-búranie | J100: =J157 -> 11678.994
D101: 99 - Presun hmôt HSV | J101: =J180 -> 1000.066
D102: PSV - Práce a dodávky PSV | J102: =J183 -> 32999.814
D103: 711 - Izolácie proti vode a vlhkosti | J103: =J184 -> 1274.01
D104: 713 - Izolácie tepelné | J104: =J189 -> 2347.569
D105: 763 - Konštrukcie - drevostavby | J105: =J193 -> 978.569
D106: 766 - Konštrukcie stolárske | J106: =J198 -> 11770.572
D107: 767 - Konštrukcie doplnkové kovové | J107: =J227 -> 0
D108: 771 - Podlahy z dlaždíc | J108: =J228 -> 2000.924
D109: 776 - Podlahy povlakové | J109: =J234 -> 5255.529
D110: 781 - Obklady | J110: =J248 -> 6161.997
D111: 784 - Maľby | J111: =J255 -> 2428.628
D112: 785 - Tapetovanie | J112: =J264 -> 782.016
D113: HZS - Hodinové zúčtovacie sadzby | J113: =J268 -> 925.44
C120: ROZPOČET
C122: Stavba:
E123: =E7 -> Oprava internátu SPoŠ 1NP Bernolákovo bunky A10,A9,A5,A4 + vstup,čiastočne chodba 1.04
C124: Objekt:
E125: =E9 -> SO01 - Oprava bunky A10, A9, A5, A4_ stavebná časť
C127: Miesto: | F127: =F12 | I127: Dátum: | J127: =IF(J12="","",J12) -> 44172
C129: Objednávateľ: | F129: Spojená škola, ul. SNP 30, 900 28 Ivanka pri Dunaji | I129: Projektant: | J129: =E21
C130: Zhotoviteľ: | F130: Ferrmont a.s. Púchov | I130: Spracovateľ: | J130: =E24
C132: PČ | D132: Typ | E132: Kód | F132: Popis | G132: MJ | H132: Množstvo | I132: J.cena [EUR] | J132: Cena celkom [EUR] | K132: Cenová sústava | N132: DPH | O132: J. Nh [h] | P132: Nh celkom [h] | Q132: J. hmotnosť [t] | R132: Hmotnosť celkom [t] | S132: J. suť [t] | T132: Suť Celkom [t]
C133: Náklady z rozpočtu | J133: =BK133 -> 73594.673 | P133: =P134+P183+P268 -> 0 | R133: =R134+R183+R268 -> 0 | T133: =T134+T183+T268 -> 0 | AT133: D | AU133: -1 | BK133: =BK134+BK183+BK268 -> 73594.673
D134: D | E134: HSV | F134: Práce a dodávky HSV | J134: =BK134 -> 39669.419 | P134: =P135+P142+P157+P180 -> 0 | R134: =R135+R142+R157+R180 -> 0 | T134: =T135+T142+T157+T180 -> 0 | AR134: 1 | AT134: D | AU134: 0 | AY134: ROZPOCET | BK134: =BK135+BK142+BK157+BK180 -> 39669.419
D135: D | E135: 3 | F135: Zvislé a kompletné konštrukcie | J135: =BK135 -> 3603.723 | P135: =SUM(P136:P141) -> 0 | R135: =SUM(R136:R141) -> 0 | T135: =SUM(T136:T141) -> 0 | AR135: 1 | AT135: D | AU135: 1 | AY135: ROZPOCET | BK135: =SUM(BK136:BK141) -> 3603.723
C136: 1 | D136: K | E136: 317165101 | F136: Prekladový trámec YTONG výšky 124 mm, dĺžky 1150 mm | G136: ks | H136: 12 | I136: 20.98 | J136: =ROUND(I136*H136,3) -> 251.76 | N136: znížená | O136: 0 | P136: =O136*H136 -> 0 | Q136: 0 | R136: =Q136*H136 -> 0 | S136: 0 | T136: =S136*H136 -> 0 | AR136: 4 | AT136: K | AU136: 2 | AY136: ROZPOCET | BE136: =IF(N136="základná",J136,0) -> 0 | BF136: =IF(N136="znížená",J136,0) -> 251.76 | BG136: =IF(N136="zákl. prenesená",J136,0) -> 0 | BH136: =IF(N136="zníž. prenesená",J136,0) -> 0 | BI136: =IF(N136="nulová",J136,0) -> 0 | BJ136: 2 | BK136: =ROUND(I136*H136,3) -> 251.76 | BL136: 4 | BM136: 2
C137: 2 | D137: K | E137: 342272103 | F137: Priečky z tvárnic YTONG hr. 100 mm P2-500 hladkých, na MVC a maltu YTONG (100x249x599) | G137: m2 | H137: 80.12 | I137: 28.48 | J137: =ROUND(I137*H137,3) -> 2281.818 | N137: znížená | O137: 0 | P137: =O137*H137 -> 0 | Q137: 0 | R137: =Q137*H137 -> 0 | S137: 0 | T137: =S137*H137 -> 0 | AR137: 4 | AT137: K | AU137: 2 | AY137: ROZPOCET | BE137: =IF(N137="základná",J137,0) -> 0 | BF137: =IF(N137="znížená",J137,0) -> 2281.818 | BG137: =IF(N137="zákl. prenesená",J137,0) -> 0 | BH137: =IF(N137="zníž. prenesená",J137,0) -> 0 | BI137: =IF(N137="nulová",J137,0) -> 0 | BJ137: 2 | BK137: =ROUND(I137*H137,3) -> 2281.818 | BL137: 4 | BM137: 4
C138: 3 | D138: K | E138: 342948113 | F138: Ukotvenie priečok k betónovým konštrukciám priskrutkovaním | G138: m | H138: 54 | I138: 4.5 | J138: =ROUND(I138*H138,3) -> 243 | N138: znížená | O138: 0 | P138: =O138*H138 -> 0 | Q138: 0 | R138: =Q138*H138 -> 0 | S138: 0 | T138: =S138*H138 -> 0 | AR138: 4 | AT138: K | AU138: 2 | AY138: ROZPOCET | BE138: =IF(N138="základná",J138,0) -> 0 | BF138: =IF(N138="znížená",J138,0) -> 243 | BG138: =IF(N138="zákl. prenesená",J138,0) -> 0 | BH138: =IF(N138="zníž. prenesená",J138,0) -> 0 | BI138: =IF(N138="nulová",J138,0) -> 0 | BJ138: 2 | BK138: =ROUND(I138*H138,3) -> 243 | BL138: 4 | BM138: 6
C139: 4 | D139: K | E139: 342948115 | F139: Ukončenie priečok ku konštrukciam montážnou penou | G139: m | H139: 35.6 | I139: 1.8 | J139: =ROUND(I139*H139,3) -> 64.08 | N139: znížená | O139: 0 | P139: =O139*H139 -> 0 | Q139: 0 | R139: =Q139*H139 -> 0 | S139: 0 | T139: =S139*H139 -> 0 | AR139: 4 | AT139: K | AU139: 2 | AY139: ROZPOCET | BE139: =IF(N139="základná",J139,0) -> 0 | BF139: =IF(N139="znížená",J139,0) -> 64.08 | BG139: =IF(N139="zákl. prenesená",J139,0) -> 0 | BH139: =IF(N139="zníž. prenesená",J139,0) -> 0 | BI139: =IF(N139="nulová",J139,0) -> 0 | BJ139: 2 | BK139: =ROUND(I139*H139,3) -> 64.08 | BL139: 4 | BM139: 8
C140: 5 | D140: K | E140: 346244357 | F140: Obmurovka kúpelňových vaní z tvárnic YTONG a malty, hrúbky 75 mm | G140: m2 | H140: 3.36 | I140: 30.62 | J140: =ROUND(I140*H140,3) -> 102.883 | N140: znížená | O140: 0 | P140: =O140*H140 -> 0 | Q140: 0 | R140: =Q140*H140 -> 0 | S140: 0 | T140: =S140*H140 -> 0 | AR140: 4 | AT140: K | AU140: 2 | AY140: ROZPOCET | BE140: =IF(N140="základná",J140,0) -> 0 | BF140: =IF(N140="znížená",J140,0) -> 102.883 | BG140: =IF(N140="zákl. prenesená",J140,0) -> 0 | BH140: =IF(N140="zníž. prenesená",J140,0) -> 0 | BI140: =IF(N140="nulová",J140,0) -> 0 | BJ140: 2 | BK140: =ROUND(I140*H140,3) -> 102.883 | BL140: 4 | BM140: 10
C141: 6 | D141: K | E141: 346244371 | F141: Zamurovanie rýh alebo potrubí z akéhokoľvek druhu pálených tehál a malty hrúbky 140 mm | G141: m2 | H141: 14.58 | I141: 45.28 | J141: =ROUND(I141*H141,3) -> 660.182 | N141: znížená | O141: 0 | P141: =O141*H141 -> 0 | Q141: 0 | R141: =Q141*H141 -> 0 | S141: 0 | T141: =S141*H141 -> 0 | AR141: 4 | AT141: K | AU141: 2 | AY141: ROZPOCET | BE141: =IF(N141="základná",J141,0) -> 0 | BF141: =IF(N141="znížená",J141,0) -> 660.182 | BG141: =IF(N141="zákl. prenesená",J141,0) -> 0 | BH141: =IF(N141="zníž. prenesená",J141,0) -> 0 | BI141: =IF(N141="nulová",J141,0) -> 0 | BJ141: 2 | BK141: =ROUND(I141*H141,3) -> 660.182 | BL141: 4 | BM141: 12
D142: D | E142: 6 | F142: Úpravy povrchov, podlahy, osadenie | J142: =BK142 -> 23386.636 | P142: =SUM(P143:P156) -> 0 | R142: =SUM(R143:R156) -> 0 | T142: =SUM(T143:T156) -> 0 | AR142: 1 | AT142: D | AU142: 1 | AY142: ROZPOCET | BK142: =SUM(BK143:BK156) -> 23386.636
C143: 7 | D143: K | E143: 611421431 | F143: Oprava vnútorných vápenných omietok stropov železobetónových rovných tvárnicových a klenieb, opravovaná plocha nad 30 % štukových ozn.b1 | G143: m2 | H143: 157.52 | I143: 9.57 | J143: =ROUND(I143*H143,3) -> 1507.466 | N143: znížená | O143: 0 | P143: =O143*H143 -> 0 | Q143: 0 | R143: =Q143*H143 -> 0 | S143: 0 | T143: =S143*H143 -> 0 | AR143: 4 | AT143: K | AU143: 2 | AY143: ROZPOCET | BE143: =IF(N143="základná",J143,0) -> 0 | BF143: =IF(N143="znížená",J143,0) -> 1507.466 | BG143: =IF(N143="zákl. prenesená",J143,0) -> 0 | BH143: =IF(N143="zníž. prenesená",J143,0) -> 0 | BI143: =IF(N143="nulová",J143,0) -> 0 | BJ143: 2 | BK143: =ROUND(I143*H143,3) -> 1507.466 | BL143: 4 | BM143: 14
C144: 8 | D144: K | E144: 611460121 | F144: Príprava vnútorného podkladu stropov penetráciou základnou | G144: m2 | H144: 157.52 | I144: 2.75 | J144: =ROUND(I144*H144,3) -> 433.18 | N144: znížená | O144: 0 | P144: =O144*H144 -> 0 | Q144: 0 | R144: =Q144*H144 -> 0 | S144: 0 | T144: =S144*H144 -> 0 | AR144: 4 | AT144: K | AU144: 2 | AY144: ROZPOCET | BE144: =IF(N144="základná",J144,0) -> 0 | BF144: =IF(N144="znížená",J144,0) -> 433.18 | BG144: =IF(N144="zákl. prenesená",J144,0) -> 0 | BH144: =IF(N144="zníž. prenesená",J144,0) -> 0 | BI144: =IF(N144="nulová",J144,0) -> 0 | BJ144: 2 | BK144: =ROUND(I144*H144,3) -> 433.18 | BL144: 4 | BM144: 16
C145: 9 | D145: K | E145: 611460223 | F145: Vnútorná omietka stropov vápenná štuková ozn.b | G145: m2 | H145: 157.52 | I145: 11.1 | J145: =ROUND(I145*H145,3) -> 1748.472 | N145: znížená | O145: 0 | P145: =O145*H145 -> 0 | Q145: 0 | R145: =Q145*H145 -> 0 | S145: 0 | T145: =S145*H145 -> 0 | AR145: 4 | AT145: K | AU145: 2 | AY145: ROZPOCET | BE145: =IF(N145="základná",J145,0) -> 0 | BF145: =IF(N145="znížená",J145,0) -> 1748.472 | BG145: =IF(N145="zákl. prenesená",J145,0) -> 0 | BH145: =IF(N145="zníž. prenesená",J145,0) -> 0 | BI145: =IF(N145="nulová",J145,0) -> 0 | BJ145: 2 | BK145: =ROUND(I145*H145,3) -> 1748.472 | BL145: 4 | BM145: 18
C146: 10 | D146: K | E146: 612409991 | F146: Začistenie omietok (s dodaním hmoty) okolo dverí,podláh, obkladov atď. | G146: m | H146: 145.76 | I146: 2.13 | J146: =ROUND(I146*H146,3) -> 310.469 | N146: znížená | O146: 0 | P146: =O146*H146 -> 0 | Q146: 0 | R146: =Q146*H146 -> 0 | S146: 0 | T146: =S146*H146 -> 0 | AR146: 4 | AT146: K | AU146: 2 | AY146: ROZPOCET | BE146: =IF(N146="základná",J146,0) -> 0 | BF146: =IF(N146="znížená",J146,0) -> 310.469 | BG146: =IF(N146="zákl. prenesená",J146,0) -> 0 | BH146: =IF(N146="zníž. prenesená",J146,0) -> 0 | BI146: =IF(N146="nulová",J146,0) -> 0 | BJ146: 2 | BK146: =ROUND(I146*H146,3) -> 310.469 | BL146: 4 | BM146: 20
C147: 11 | D147: K | E147: 612421431 | F147: Oprava vnútorných vápenných omietok stien, v množstve opravenej plochy nad 30 do 50 % štukových ozn.a1 | G147: m2 | H147: 362.32 | I147: 7.99 | J147: =ROUND(I147*H147,3) -> 2894.937 | N147: znížená | O147: 0 | P147: =O147*H147 -> 0 | Q147: 0 | R147: =Q147*H147 -> 0 | S147: 0 | T147: =S147*H147 -> 0 | AR147: 4 | AT147: K | AU147: 2 | AY147: ROZPOCET | BE147: =IF(N147="základná",J147,0) -> 0 | BF147: =IF(N147="znížená",J147,0) -> 2894.937 | BG147: =IF(N147="zákl. prenesená",J147,0) -> 0 | BH147: =IF(N147="zníž. prenesená",J147,0) -> 0 | BI147: =IF(N147="nulová",J147,0) -> 0 | BJ147: 2 | BK147: =ROUND(I147*H147,3) -> 2894.937 | BL147: 4 | BM147: 22
C148: 12 | D148: K | E148: 612460121 | F148: Príprava vnútorného podkladu stien penetráciou základnou | G148: m2 | H148: 509.06 | I148: 1.96 | J148: =ROUND(I148*H148,3) -> 997.758 | N148: znížená | O148: 0 | P148: =O148*H148 -> 0 | Q148: 0 | R148: =Q148*H148 -> 0 | S148: 0 | T148: =S148*H148 -> 0 | AR148: 4 | AT148: K | AU148: 2 | AY148: ROZPOCET | BE148: =IF(N148="základná",J148,0) -> 0 | BF148: =IF(N148="znížená",J148,0) -> 997.758 | BG148: =IF(N148="zákl. prenesená",J148,0) -> 0 | BH148: =IF(N148="zníž. prenesená",J148,0) -> 0 | BI148: =IF(N148="nulová",J148,0) -> 0 | BJ148: 2 | BK148: =ROUND(I148*H148,3) -> 997.758 | BL148: 4 | BM148: 24
C149: 13 | D149: K | E149: 612460223 | F149: Vnútorná omietka stien vápenná štuková ozn.a | G149: m2 | H149: 509.06 | I149: 9.09 | J149: =ROUND(I149*H149,3) -> 4627.355 | N149: znížená | O149: 0 | P149: =O149*H149 -> 0 | Q149: 0 | R149: =Q149*H149 -> 0 | S149: 0 | T149: =S149*H149 -> 0 | AR149: 4 | AT149: K | AU149: 2 | AY149: ROZPOCET | BE149: =IF(N149="základná",J149,0) -> 0 | BF149: =IF(N149="znížená",J149,0) -> 4627.355 | BG149: =IF(N149="zákl. prenesená",J149,0) -> 0 | BH149: =IF(N149="zníž. prenesená",J149,0) -> 0 | BI149: =IF(N149="nulová",J149,0) -> 0 | BJ149: 2 | BK149: =ROUND(I149*H149,3) -> 4627.355 | BL149: 4 | BM149: 26
C150: 14 | D150: K | E150: 612481119 | F150: Potiahnutie vnútorných stien sklotextílnou mriežkou s celoplošným prilepením | G150: m2 | H150: 509.06 | I150: 5.23 | J150: =ROUND(I150*H150,3) -> 2662.384 | N150: znížená | O150: 0 | P150: =O150*H150 -> 0 | Q150: 0 | R150: =Q150*H150 -> 0 | S150: 0 | T150: =S150*H150 -> 0 | AR150: 4 | AT150: K | AU150: 2 | AY150: ROZPOCET | BE150: =IF(N150="základná",J150,0) -> 0 | BF150: =IF(N150="znížená",J150,0) -> 2662.384 | BG150: =IF(N150="zákl. prenesená",J150,0) -> 0 | BH150: =IF(N150="zníž. prenesená",J150,0) -> 0 | BI150: =IF(N150="nulová",J150,0) -> 0 | BJ150: 2 | BK150: =ROUND(I150*H150,3) -> 2662.384 | BL150: 4 | BM150: 28
C151: 15 | D151: K | E151: 631312141 | F151: Doplnenie existujúcich mazanín prostým betónom (s dodaním hmôt) bez poteru rýh v mazaninách | G151: m3 | H151: 1.32 | I151: 143.2 | J151: =ROUND(I151*H151,3) -> 189.024 | N151: znížená | O151: 0 | P151: =O151*H151 -> 0 | Q151: 0 | R151: =Q151*H151 -> 0 | S151: 0 | T151: =S151*H151 -> 0 | AR151: 4 | AT151: K | AU151: 2 | AY151: ROZPOCET | BE151: =IF(N151="základná",J151,0) -> 0 | BF151: =IF(N151="znížená",J151,0) -> 189.024 | BG151: =IF(N151="zákl. prenesená",J151,0) -> 0 | BH151: =IF(N151="zníž. prenesená",J151,0) -> 0 | BI151: =IF(N151="nulová",J151,0) -> 0 | BJ151: 2 | BK151: =ROUND(I151*H151,3) -> 189.024 | BL151: 4 | BM151: 30
C152: 16 | D152: K | E152: 632450443 | F152: Opravný poter CEMIX, oprava dutín a výtlkov v poteroch, Polymércementový poter 40 MPa, ozn. 070, hr. 10 mm | G152: m2 | H152: 127.16 | I152: 19.85 | J152: =ROUND(I152*H152,3) -> 2524.126 | N152: znížená | O152: 0 | P152: =O152*H152 -> 0 | Q152: 0 | R152: =Q152*H152 -> 0 | S152: 0 | T152: =S152*H152 -> 0 | AR152: 4 | AT152: K | AU152: 2 | AY152: ROZPOCET | BE152: =IF(N152="základná",J152,0) -> 0 | BF152: =IF(N152="znížená",J152,0) -> 2524.126 | BG152: =IF(N152="zákl. prenesená",J152,0) -> 0 | BH152: =IF(N152="zníž. prenesená",J152,0) -> 0 | BI152: =IF(N152="nulová",J152,0) -> 0 | BJ152: 2 | BK152: =ROUND(I152*H152,3) -> 2524.126 | BL152: 4 | BM152: 32
C153: 17 | D153: K | E153: 632451441 | F153: Doplnenie cementového poteru s plochou jednotlivo (s dodaním hmôt) do 4 m2 a hr. do 40 mm | G153: m2 | H153: 30.36 | I153: 11.33 | J153: =ROUND(I153*H153,3) -> 343.979 | N153: znížená | O153: 0 | P153: =O153*H153 -> 0 | Q153: 0 | R153: =Q153*H153 -> 0 | S153: 0 | T153: =S153*H153 -> 0 | AR153: 4 | AT153: K | AU153: 2 | AY153: ROZPOCET | BE153: =IF(N153="základná",J153,0) -> 0 | BF153: =IF(N153="znížená",J153,0) -> 343.979 | BG153: =IF(N153="zákl. prenesená",J153,0) -> 0 | BH153: =IF(N153="zníž. prenesená",J153,0) -> 0 | BI153: =IF(N153="nulová",J153,0) -> 0 | BJ153: 2 | BK153: =ROUND(I153*H153,3) -> 343.979 | BL153: 4 | BM153: 34
C154: 18 | D154: K | E154: 632457605 | F154: Cementová samonivelizačná hmota Weber - Terranova, weber.floor 4610, triedy CT-C35-F10, hr. 10 mm | G154: m2 | H154: 157.52 | I154: 24.82 | J154: =ROUND(I154*H154,3) -> 3909.646 | N154: znížená | O154: 0 | P154: =O154*H154 -> 0 | Q154: 0 | R154: =Q154*H154 -> 0 | S154: 0 | T154: =S154*H154 -> 0 | AR154: 4 | AT154: K | AU154: 2 | AY154: ROZPOCET | BE154: =IF(N154="základná",J154,0) -> 0 | BF154: =IF(N154="znížená",J154,0) -> 3909.646 | BG154: =IF(N154="zákl. prenesená",J154,0) -> 0 | BH154: =IF(N154="zníž. prenesená",J154,0) -> 0 | BI154: =IF(N154="nulová",J154,0) -> 0 | BJ154: 2 | BK154: =ROUND(I154*H154,3) -> 3909.646 | BL154: 4 | BM154: 36
... C156: 20 | D156: M | E156: 553310010308 | F156: Zárubňa požiarna oceľová, šxvxhr 800x1970x170 mm | G156: ks | H156: 4 | I156: 111.64 | J156: =ROUND(I156*H156,3) -> 446.56 | N156: znížená | O156: 0 | P156: =O156*H156 -> 0 | Q156: 0 | R156: =Q156*H156 -> 0 | S156: 0 | T156: =S156*H156 -> 0 | AR156: 8 | AT156: M | AU156: 2 | AY156: ROZPOCET | BE156: =IF(N156="základná",J156,0) -> 0 | BF156: =IF(N156="znížená",J156,0) -> 446.56 | BG156: =IF(N156="zákl. prenesená",J156,0) -> 0 | BH156: =IF(N156="zníž. prenesená",J156,0) -> 0 | BI156: =IF(N156="nulová",J156,0) -> 0 | BJ156: 2 | BK156: =ROUND(I156*H156,3) -> 446.56 | BL156: 4 | BM156: 40
D157: D | E157: 9 | F157: Ostatné konštrukcie a práce-búranie | J157: =BK157 -> 11678.994 | P157: =SUM(P158:P179) -> 0 | R157: =SUM(R158:R179) -> 0 | T157: =SUM(T158:T179) -> 0 | AR157: 1 | AT157: D | AU157: 1 | AY157: ROZPOCET | BK157: =SUM(BK158:BK179) -> 11678.994
C158: 21 | D158: K | E158: 941955001 | F158: Lešenie ľahké pracovné pomocné, s výškou lešeňovej podlahy do 1,20 m | G158: m2 | H158: 157.52 | I158: 2.84 | J158: =ROUND(I158*H158,3) -> 447.357 | N158: znížená | O158: 0 | P158: =O158*H158 -> 0 | Q158: 0 | R158: =Q158*H158 -> 0 | S158: 0 | T158: =S158*H158 -> 0 | AR158: 4 | AT158: K | AU158: 2 | AY158: ROZPOCET | BE158: =IF(N158="základná",J158,0) -> 0 | BF158: =IF(N158="znížená",J158,0) -> 447.357 | BG158: =IF(N158="zákl. prenesená",J158,0) -> 0 | BH158: =IF(N158="zníž. prenesená",J158,0) -> 0 | BI158: =IF(N158="nulová",J158,0) -> 0 | BJ158: 2 | BK158: =ROUND(I158*H158,3) -> 447.357 | BL158: 4 | BM158: 42
C159: 22 | D159: K | E159: 952901110 | F159: Čistenie objektu | G159: m2 | H159: 157.52 | I159: 1.6 | J159: =ROUND(I159*H159,3) -> 252.032 | N159: znížená | O159: 0 | P159: =O159*H159 -> 0 | Q159: 0 | R159: =Q159*H159 -> 0 | S159: 0 | T159: =S159*H159 -> 0 | AR159: 4 | AT159: K | AU159: 2 | AY159: ROZPOCET | BE159: =IF(N159="základná",J159,0) -> 0 | BF159: =IF(N159="znížená",J159,0) -> 252.032 | BG159: =IF(N159="zákl. prenesená",J159,0) -> 0 | BH159: =IF(N159="zníž. prenesená",J159,0) -> 0 | BI159: =IF(N159="nulová",J159,0) -> 0 | BJ159: 2 | BK159: =ROUND(I159*H159,3) -> 252.032 | BL159: 4 | BM159: 44
C160: 23 | D160: K | E160: 965043331 | F160: Búranie podkladov pod dlažby, liatych dlažieb a mazanín,betón s poterom,hr.do 100 mm -2,20000t | G160: m3 | H160: 15.752 | I160: 126.98 | J160: =ROUND(I160*H160,3) -> 2000.189 | N160: znížená | O160: 0 | P160: =O160*H160 -> 0 | Q160: 0 | R160: =Q160*H160 -> 0 | S160: 0 | T160: =S160*H160 -> 0 | AR160: 4 | AT160: K | AU160: 2 | AY160: ROZPOCET | BE160: =IF(N160="základná",J160,0) -> 0 | BF160: =IF(N160="znížená",J160,0) -> 2000.189 | BG160: =IF(N160="zákl. prenesená",J160,0) -> 0 | BH160: =IF(N160="zníž. prenesená",J160,0) -> 0 | BI160: =IF(N160="nulová",J160,0) -> 0 | BJ160: 2 | BK160: =ROUND(I160*H160,3) -> 2000.189 | BL160: 4 | BM160: 46
C161: 24 | D161: K | E161: 966079851 | F161: Prerušenie oceľového profilu prierezu do 100 mm2 | G161: ks | H161: 56 | I161: 0.5 | J161: =ROUND(I161*H161,3) -> 28 | N161: znížená | O161: 0 | P161: =O161*H161 -> 0 | Q161: 0 | R161: =Q161*H161 -> 0 | S161: 0 | T161: =S161*H161 -> 0 | AR161: 4 | AT161: K | AU161: 2 | AY161: ROZPOCET | BE161: =IF(N161="základná",J161,0) -> 0 | BF161: =IF(N161="znížená",J161,0) -> 28 | BG161: =IF(N161="zákl. prenesená",J161,0) -> 0 | BH161: =IF(N161="zníž. prenesená",J161,0) -> 0 | BI161: =IF(N161="nulová",J161,0) -> 0 | BJ161: 2 | BK161: =ROUND(I161*H161,3) -> 28 | BL161: 4 | BM161: 48
C162: 25 | D162: K | E162: 967041112 | F162: Prikresanie rovných ostení bez odstupu, po hrubom vybúraní otvorov, v betóne, -0,06600t | G162: m2 | H162: 22.72 | I162: 29.14 | J162: =ROUND(I162*H162,3) -> 662.061 | N162: znížená | O162: 0 | P162: =O162*H162 -> 0 | Q162: 0 | R162: =Q162*H162 -> 0 | S162: 0 | T162: =S162*H162 -> 0 | AR162: 4 | AT162: K | AU162: 2 | AY162: ROZPOCET | BE162: =IF(N162="základná",J162,0) -> 0 | BF162: =IF(N162="znížená",J162,0) -> 662.061 | BG162: =IF(N162="zákl. prenesená",J162,0) -> 0 | BH162: =IF(N162="zníž. prenesená",J162,0) -> 0 | BI162: =IF(N162="nulová",J162,0) -> 0 | BJ162: 2 | BK162: =ROUND(I162*H162,3) -> 662.061 | BL162: 4 | BM162: 50
C163: 26 | D163: K | E163: 968061112 | F163: Vyvesenie dreveného okenného krídla do suti plochy do 1,5 m2, -0,01200t | G163: ks | H163: 24 | I163: 0.4 | J163: =ROUND(I163*H163,3) -> 9.6 | N163: znížená | O163: 0 | P163: =O163*H163 -> 0 | Q163: 0 | R163: =Q163*H163 -> 0 | S163: 0 | T163: =S163*H163 -> 0 | AR163: 4 | AT163: K | AU163: 2 | AY163: ROZPOCET | BE163: =IF(N163="základná",J163,0) -> 0 | BF163: =IF(N163="znížená",J163,0) -> 9.6 | BG163: =IF(N163="zákl. prenesená",J163,0) -> 0 | BH163: =IF(N163="zníž. prenesená",J163,0) -> 0 | BI163: =IF(N163="nulová",J163,0) -> 0 | BJ163: 2 | BK163: =ROUND(I163*H163,3) -> 9.6 | BL163: 4 | BM163: 52
C164: 27 | D164: K | E164: 968061115 | F164: Demontáž okien drevených, 1 bm obvodu - 0,008t | G164: m | H164: 64 | I164: 2.46 | J164: =ROUND(I164*H164,3) -> 157.44 | N164: znížená | O164: 0 | P164: =O164*H164 -> 0 | Q164: 0 | R164: =Q164*H164 -> 0 | S164: 0 | T164: =S164*H164 -> 0 | AR164: 4 | AT164: K | AU164: 2 | AY164: ROZPOCET | BE164: =IF(N164="základná",J164,0) -> 0 | BF164: =IF(N164="znížená",J164,0) -> 157.44 | BG164: =IF(N164="zákl. prenesená",J164,0) -> 0 | BH164: =IF(N164="zníž. prenesená",J164,0) -> 0 | BI164: =IF(N164="nulová",J164,0) -> 0 | BJ164: 2 | BK164: =ROUND(I164*H164,3) -> 157.44 | BL164: 4 | BM164: 54
C165: 28 | D165: K | E165: 968061125 | F165: Vyvesenie dreveného dverného krídla do suti plochy do 2 m2, -0,02400t | G165: ks | H165: 20 | I165: 0.66 | J165: =ROUND(I165*H165,3) -> 13.2 | N165: znížená | O165: 0 | P165: =O165*H165 -> 0 | Q165: 0 | R165: =Q165*H165 -> 0 | S165: 0 | T165: =S165*H165 -> 0 | AR165: 4 | AT165: K | AU165: 2 | AY165: ROZPOCET | BE165: =IF(N165="základná",J165,0) -> 0 | BF165: =IF(N165="znížená",J165,0) -> 13.2 | BG165: =IF(N165="zákl. prenesená",J165,0) -> 0 | BH165: =IF(N165="zníž. prenesená",J165,0) -> 0 | BI165: =IF(N165="nulová",J165,0) -> 0 | BJ165: 2 | BK165: =ROUND(I165*H165,3) -> 13.2 | BL165: 4 | BM165: 56
C166: 29 | D166: K | E166: 968072455 | F166: Vybúranie kovových dverových zárubní plochy do 2 m2, -0,07600t | G166: m2 | H166: 19.2 | I166: 20.76 | J166: =ROUND(I166*H166,3) -> 398.592 | N166: znížená | O166: 0 | P166: =O166*H166 -> 0 | Q166: 0 | R166: =Q166*H166 -> 0 | S166: 0 | T166: =S166*H166 -> 0 | AR166: 4 | AT166: K | AU166: 2 | AY166: ROZPOCET | BE166: =IF(N166="základná",J166,0) -> 0 | BF166: =IF(N166="znížená",J166,0) -> 398.592 | BG166: =IF(N166="zákl. prenesená",J166,0) -> 0 | BH166: =IF(N166="zníž. prenesená",J166,0) -> 0 | BI166: =IF(N166="nulová",J166,0) -> 0 | BJ166: 2 | BK166: =ROUND(I166*H166,3) -> 398.592 | BL166: 4 | BM166: 58
C167: 30 | D167: K | E167: 969011121 | F167: Vybúranie vodovodného vedenia DN do 52 mm, -0,01300t | G167: súb | H167: 4 | I167: 0.86 | J167: =ROUND(I167*H167,3) -> 3.44 | N167: znížená | O167: 0 | P167: =O167*H167 -> 0 | Q167: 0 | R167: =Q167*H167 -> 0 | S167: 0 | T167: =S167*H167 -> 0 | AR167: 4 | AT167: K | AU167: 2 | AY167: ROZPOCET | BE167: =IF(N167="základná",J167,0) -> 0 | BF167: =IF(N167="znížená",J167,0) -> 3.44 | BG167: =IF(N167="zákl. prenesená",J167,0) -> 0 | BH167: =IF(N167="zníž. prenesená",J167,0) -> 0 | BI167: =IF(N167="nulová",J167,0) -> 0 | BJ167: 2 | BK167: =ROUND(I167*H167,3) -> 3.44 | BL167: 4 | BM167: 60
...

Sheet SO02 - Oprava bunky A10,A...
L2: >> skryté stĺpce << | AT2: {375c6242-ebf2-4303-a952-806b7da1758a}
AT3: 0
D4: KRYCÍ LIST ROZPOČTU | M4: v --- nižšie sa nachádzajú doplnkové a pomocné údaje k zostavám --- v | AT4: False
D6: Stavba:
E7: ='Rekapitulácia stavby'!K6 -> Oprava internátu SPoŠ 1NP Bernolákovo bunky A10,A9,A5,A4 + vstup,čiastočne chodba 1.04
D8: Objekt:
E9: SO02 - Oprava bunky A10,A9, A5,A4_ zdravotechnika
D11: JKSO: | F11: 801 73 | I11: KS: | J11: 1263
D12: Miesto: | I12: Dátum: | J12: 44172
D13: CPV: | F13: 45000000-7
D14: Objednávateľ: | F14: Spojená škola, ul. SNP 30, 900 28 Ivanka pri Dunaji | I14: IČO: | J14: =IF('Rekapitulácia stavby'!AN10="","",'Rekapitulácia stavby'!AN10)
E15: =IF('Rekapitulácia stavby'!E11="","",'Rekapitulácia stavby'!E11) | I15: IČ DPH: | J15: =IF('Rekapitulácia stavby'!AN11="","",'Rekapitulácia stavby'!AN11)
D17: Zhotoviteľ: | F17: Ferrmont a.s. Púchov | I17: IČO: | J17: ='Rekapitulácia stavby'!AN13 -> 31619916
E18: ='Rekapitulácia stavby'!E14 | I18: IČ DPH: | J18: ='Rekapitulácia stavby'!AN14 -> SK2020441907
D20: Projektant: | I20: IČO: | J20: =IF('Rekapitulácia stavby'!AN16="","",'Rekapitulácia stavby'!AN16)
E21: =IF('Rekapitulácia stavby'!E17="","",'Rekapitulácia stavby'!E17) | I21: IČ DPH: | J21: =IF('Rekapitulácia stavby'!AN17="","",'Rekapitulácia stavby'!AN17)
D23: Spracovateľ: | I23: IČO: | J23: =IF('Rekapitulácia stavby'!AN19="","",'Rekapitulácia stavby'!AN19)
E24: =IF('Rekapitulácia stavby'!E20="","",'Rekapitulácia stavby'!E20) | I24: IČ DPH: | J24: =IF('Rekapitulácia stavby'!AN20="","",'Rekapitulácia stavby'!AN20)
D26: Poznámka:
D30: Cena bez DPH | J30: =ROUND(J119, 2) -> 12971
F32: Základ dane | I32: Sadzba dane | J32: Výška dane
D33: DPH | E33: základná | F33: =ROUND((SUM(BE119:BE213)), 2) -> 0 | I33: 0.2 | J33: =ROUND(((SUM(BE119:BE213))*I33), 2) -> 0
E34: znížená | F34: =ROUND((SUM(BF119:BF213)), 2) -> 12971 | I34: 0.2 | J34: =ROUND(((SUM(BF119:BF213))*I34), 2) -> 2594.2
E35: zákl. prenesená | F35: =ROUND((SUM(BG119:BG213)), 2) -> 0 | I35: 0.2 | J35: =0 -> 0
E36: zníž. prenesená | F36: =ROUND((SUM(BH119:BH213)), 2) -> 0 | I36: 0.2 | J36: =0 -> 0
E37: nulová | F37: =ROUND((SUM(BI119:BI213)), 2) -> 0 | I37: 0 | J37: =0 -> 0
D39: Cena s DPH | G39: v | H39: EUR | J39: =SUM(J30:J37) -> 15565.2
D49: Projektant | G49: Spracovateľ
D60: Dátum a podpis: | F60: Pečiatka | G60: Dátum a podpis: | J60: Pečiatka
D64: Objednávateľ | G64: Zhotoviteľ
D75: Dátum a podpis: | F75: Pečiatka | G75: Dátum a podpis: | J75: Pečiatka
C81: REKAPITULÁCIA ROZPOČTU
C83: Stavba:
E84: =E7 -> Oprava internátu SPoŠ 1NP Bernolákovo bunky A10,A9,A5,A4 + vstup,čiastočne chodba 1.04
C85: Objekt:
E86: =E9 -> SO02 - Oprava bunky A10,A9, A5,A4_ zdravotechnika
C88: Miesto: | F88: =F12 | I88: Dátum: | J88: =IF(J12="","",J12) -> 44172
C90: Objednávateľ: | F90: Spojená škola, ul. SNP 30, 900 28 Ivanka pri Dunaji | I90: Projektant: | J90: =E21
C91: Zhotoviteľ: | F91: Ferrmont a.s. Púchov | I91: Spracovateľ: | J91: =E24
C93: Kód dielu - Popis | J93: Cena celkom [EUR]
C95: Náklady z rozpočtu | J95: =J119 -> 12970.999 | AU95: -1
D96: PSV - Práce a dodávky PSV | J96: =J120 -> 0
D97: 721 - Zdravotech. vnútorná kanalizácia | J97: =J121 -> 12970.999
D98: 722 - Zdravotechnika - vnútorný vodovod | J98: =J145 -> 4286.459
D99: 725 - Zdravotechnika - zariaď. predmety | J99: =J173 -> 7094.594
C106: ROZPOČET
C108: Stavba:
E109: =E7 -> Oprava internátu SPoŠ 1NP Bernolákovo bunky A10,A9,A5,A4 + vstup,čiastočne chodba 1.04
C110: Objekt:
E111: =E9 -> SO02 - Oprava bunky A10,A9, A5,A4_ zdravotechnika
C113: Miesto: | F113: =F12 | I113: Dátum: | J113: =IF(J12="","",J12) -> 44172
C115: Objednávateľ: | F115: Spojená škola, ul. SNP 30, 900 28 Ivanka pri Dunaji | I115: Projektant: | J115: =E21
C116: Zhotoviteľ: | F116: Ferrmont a.s. Púchov | I116: Spracovateľ: | J116: =E24
C118: PČ | D118: Typ | E118: Kód | F118: Popis | G118: MJ | H118: Množstvo | I118: J.cena [EUR] | J118: Cena celkom [EUR] | K118: Cenová sústava | N118: DPH | O118: J. Nh [h] | P118: Nh celkom [h] | Q118: J. hmotnosť [t] | R118: Hmotnosť celkom [t] | S118: J. suť [t] | T118: Suť Celkom [t]
C119: Náklady z rozpočtu | J119: =BK119 -> 12970.999 | P119: =P120+P121 -> 86.1512 | R119: =R120+R121 -> 0.44544 | T119: =T120+T121 -> 0.9229 | AT119: D | AU119: -1 | BK119: =BK120+BK121 -> 12970.999
D120: D | E120: PSV | F120: Práce a dodávky PSV | J120: =BK120 -> 0 | P120: 0 | R120: 0 | T120: 0 | AR120: 2 | AT120: D | AU120: 0 | AY120: ROZPOCET | BK120: 0
D121: D | E121: 721 | F121: Zdravotech. vnútorná kanalizácia | J121: =BK121 -> 12970.999 | P121: =P122+SUM(P123:P145)+P173 -> 86.1512 | R121: =R122+SUM(R123:R145)+R173 -> 0.44544 | T121: =T122+SUM(T123:T145)+T173 -> 0.9229 | AR121: 2 | AT121: D | AU121: 0 | AY121: ROZPOCET | BK121: =BK122+SUM(BK123:BK145)+BK173 -> 12970.999
C122: 1 | D122: K | E122: 230080462 | F122: Rez potrubia ručnou pílkou D x t 28 x 2.6 | G122: ks | H122: 20 | I122: 2.37 | J122: =ROUND(I122*H122,3) -> 47.4 | N122: znížená | O122: 0.144 | P122: =O122*H122 -> 2.88 | Q122: 0 | R122: =Q122*H122 -> 0 | S122: 0 | T122: =S122*H122 -> 0 | AR122: 16 | AT122: K | AU122: 1 | AY122: ROZPOCET | BE122: =IF(N122="základná",J122,0) -> 0 | BF122: =IF(N122="znížená",J122,0) -> 47.4 | BG122: =IF(N122="zákl. prenesená",J122,0) -> 0 | BH122: =IF(N122="zníž. prenesená",J122,0) -> 0 | BI122: =IF(N122="nulová",J122,0) -> 0 | BJ122: 2 | BK122: =ROUND(I122*H122,3) -> 47.4 | BL122: 16 | BM122: 1085608900
C123: 2 | D123: K | E123: 721140915 | F123: Oprava odpadového potrubia liatinového prepojenie doterajšieho potrubia DN 100 | G123: ks | H123: 4 | I123: 21.85 | J123: =ROUND(I123*H123,3) -> 87.4 | N123: znížená | O123: 0.94573 | P123: =O123*H123 -> 3.78292 | Q123: 0.00143 | R123: =Q123*H123 -> 0.00572 | S123: 0 | T123: =S123*H123 -> 0 | AR123: 16 | AT123: K | AU123: 1 | AY123: ROZPOCET | BE123: =IF(N123="základná",J123,0) -> 0 | BF123: =IF(N123="znížená",J123,0) -> 87.4 | BG123: =IF(N123="zákl. prenesená",J123,0) -> 0 | BH123: =IF(N123="zníž. prenesená",J123,0) -> 0 | BI123: =IF(N123="nulová",J123,0) -> 0 | BJ123: 2 | BK123: =ROUND(I123*H123,3) -> 87.4 | BL123: 16 | BM123: -1559282200
C124: 3 | D124: K | E124: 721140925 | F124: Oprava odpadového potrubia liatinového krátenie rúr DN 100 | G124: ks | H124: 4 | I124: 3.49 | J124: =ROUND(I124*H124,3) -> 13.96 | N124: znížená | O124: 0.195 | P124: =O124*H124 -> 0.78 | Q124: 0 | R124: =Q124*H124 -> 0 | S124: 0 | T124: =S124*H124 -> 0 | AR124: 16 | AT124: K | AU124: 1 | AY124: ROZPOCET | BE124: =IF(N124="základná",J124,0) -> 0 | BF124: =IF(N124="znížená",J124,0) -> 13.96 | BG124: =IF(N124="zákl. prenesená",J124,0) -> 0 | BH124: =IF(N124="zníž. prenesená",J124,0) -> 0 | BI124: =IF(N124="nulová",J124,0) -> 0 | BJ124: 2 | BK124: =ROUND(I124*H124,3) -> 13.96 | BL124: 16 | BM124: 1763053924
C125: 4 | D125: K | E125: 721171531.S | F125: Potrubie odpadné zvislé z odhlučnených rúr PE D 110/6 mm | G125: m | H125: 16 | I125: 46.33 | J125: =ROUND(I125*H125,3) -> 741.28 | N125: znížená | O125: 0.98193 | P125: =O125*H125 -> 15.71088 | Q125: 0.00371 | R125: =Q125*H125 -> 0.05936 | S125: 0 | T125: =S125*H125 -> 0 | AR125: 16 | AT125: K | AU125: 1 | AY125: ROZPOCET | BE125: =IF(N125="základná",J125,0) -> 0 | BF125: =IF(N125="znížená",J125,0) -> 741.28 | BG125: =IF(N125="zákl. prenesená",J125,0) -> 0 | BH125: =IF(N125="zníž. prenesená",J125,0) -> 0 | BI125: =IF(N125="nulová",J125,0) -> 0 | BJ125: 2 | BK125: =ROUND(I125*H125,3) -> 741.28 | BL125: 16 | BM125: -1498621150
C126: 5 | D126: K | E126: 721172257.S | F126: Montáž spojky HT potrubia DN 125 | G126: ks | H126: 4 | I126: 7.66 | J126: =ROUND(I126*H126,3) -> 30.64 | N126: znížená | O126: 0.35145 | P126: =O126*H126 -> 1.4058 | Q126: 0.00025 | R126: =Q126*H126 -> 0.001 | S126: 0 | T126: =S126*H126 -> 0 | AR126: 16 | AT126: K | AU126: 1 | AY126: ROZPOCET | BE126: =IF(N126="základná",J126,0) -> 0 | BF126: =IF(N126="znížená",J126,0) -> 30.64 | BG126: =IF(N126="zákl. prenesená",J126,0) -> 0 | BH126: =IF(N126="zníž. prenesená",J126,0) -> 0 | BI126: =IF(N126="nulová",J126,0) -> 0 | BJ126: 2 | BK126: =ROUND(I126*H126,3) -> 30.64 | BL126: 16 | BM126: 792345036
C127: 6 | D127: M | E127: 286540016900.S | F127: Spojka HT DN 125, PP systém pre beztlakový rozvod vnútorného odpadu | G127: ks | H127: 4 | I127: 6.4 | J127: =ROUND(I127*H127,3) -> 25.6 | N127: znížená | O127: 0 | P127: =O127*H127 -> 0 | Q127: 0.00024 | R127: =Q127*H127 -> 0.00096 | S127: 0 | T127: =S127*H127 -> 0 | AR127: 32 | AT127: M | AU127: 1 | AY127: ROZPOCET | BE127: =IF(N127="základná",J127,0) -> 0 | BF127: =IF(N127="znížená",J127,0) -> 25.6 | BG127: =IF(N127="zákl. prenesená",J127,0) -> 0 | BH127: =IF(N127="zníž. prenesená",J127,0) -> 0 | BI127: =IF(N127="nulová",J127,0) -> 0 | BJ127: 2 | BK127: =ROUND(I127*H127,3) -> 25.6 | BL127: 16 | BM127: -1148043198
C128: 7 | D128: K | E128: 7211723570 | F128: Montáž čistiaceho kusu potrubia do DN 125 | G128: ks | H128: 4 | I128: 7.87 | J128: =ROUND(I128*H128,3) -> 31.48 | N128: znížená | O128: 0 | P128: =O128*H128 -> 0 | Q128: 0 | R128: =Q128*H128 -> 0 | S128: 0 | T128: =S128*H128 -> 0 | AR128: 16 | AT128: K | AU128: 1 | AY128: ROZPOCET | BE128: =IF(N128="základná",J128,0) -> 0 | BF128: =IF(N128="znížená",J128,0) -> 31.48 | BG128: =IF(N128="zákl. prenesená",J128,0) -> 0 | BH128: =IF(N128="zníž. prenesená",J128,0) -> 0 | BI128: =IF(N128="nulová",J128,0) -> 0 | BJ128: 2 | BK128: =ROUND(I128*H128,3) -> 31.48 | BL128: 16 | BM128: -1388151319
C129: 8 | D129: M | E129: 2860022630 | F129: Čistiaci kus na potrubie dimenzie D110 | G129: ks | H129: 4 | I129: 3.77 | J129: =ROUND(I129*H129,3) -> 15.08 | N129: znížená | O129: 0 | P129: =O129*H129 -> 0 | Q129: 0 | R129: =Q129*H129 -> 0 | S129: 0 | T129: =S129*H129 -> 0 | AR129: 32 | AT129: M | AU129: 1 | AY129: ROZPOCET | BE129: =IF(N129="základná",J129,0) -> 0 | BF129: =IF(N129="znížená",J129,0) -> 15.08 | BG129: =IF(N129="zákl. prenesená",J129,0) -> 0 | BH129: =IF(N129="zníž. prenesená",J129,0) -> 0 | BI129: =IF(N129="nulová",J129,0) -> 0 | BJ129: 2 | BK129: =ROUND(I129*H129,3) -> 15.08 | BL129: 16 | BM129: 2130542192
C130: 9 | D130: K | E130: 721194109 | F130: Zriadenie prípojky na potrubí vyvedenie a upevnenie odpadových výpustiek D 110x2, 3 | G130: ks | H130: 4 | I130: 4.31 | J130: =ROUND(I130*H130,3) -> 17.24 | N130: znížená | O130: 0 | P130: =O130*H130 -> 0 | Q130: 0 | R130: =Q130*H130 -> 0 | S130: 0 | T130: =S130*H130 -> 0 | AR130: 16 | AT130: K | AU130: 1 | AY130: ROZPOCET | BE130: =IF(N130="základná",J130,0) -> 0 | BF130: =IF(N130="znížená",J130,0) -> 17.24 | BG130: =IF(N130="zákl. prenesená",J130,0) -> 0 | BH130: =IF(N130="zníž. prenesená",J130,0) -> 0 | BI130: =IF(N130="nulová",J130,0) -> 0 | BJ130: 2 | BK130: =ROUND(I130*H130,3) -> 17.24 | BL130: 16 | BM130: -2077347499
C131: 10 | D131: K | E131: 721173204 | F131: Potrubie z PP odpadné pripájacie D 40x1, 8 | G131: m | H131: 14 | I131: 7.96 | J131: =ROUND(I131*H131,3) -> 111.44 | N131: znížená | O131: 0 | P131: =O131*H131 -> 0 | Q131: 0 | R131: =Q131*H131 -> 0 | S131: 0 | T131: =S131*H131 -> 0 | AR131: 16 | AT131: K | AU131: 1 | AY131: ROZPOCET | BE131: =IF(N131="základná",J131,0) -> 0 | BF131: =IF(N131="znížená",J131,0) -> 111.44 | BG131: =IF(N131="zákl. prenesená",J131,0) -> 0 | BH131: =IF(N131="zníž. prenesená",J131,0) -> 0 | BI131: =IF(N131="nulová",J131,0) -> 0 | BJ131: 2 | BK131: =ROUND(I131*H131,3) -> 111.44 | BL131: 16 | BM131: 2
C132: 11 | D132: K | E132: 721173205 | F132: Potrubie z PVC - U odpadné pripájacie D 50x1, 8 | G132: m | H132: 10 | I132: 8.97 | J132: =ROUND(I132*H132,3) -> 89.7 | N132: znížená | O132: 0 | P132: =O132*H132 -> 0 | Q132: 0 | R132: =Q132*H132 -> 0 | S132: 0 | T132: =S132*H132 -> 0 | AR132: 16 | AT132: K | AU132: 1 | AY132: ROZPOCET | BE132: =IF(N132="základná",J132,0) -> 0 | BF132: =IF(N132="znížená",J132,0) -> 89.7 | BG132: =IF(N132="zákl. prenesená",J132,0) -> 0 | BH132: =IF(N132="zníž. prenesená",J132,0) -> 0 | BI132: =IF(N132="nulová",J132,0) -> 0 | BJ132: 2 | BK132: =ROUND(I132*H132,3) -> 89.7 | BL132: 16 | BM132: 4
C133: 12 | D133: K | E133: 721173206 | F133: Potrubie z PP odpadné pripájacie D 110x2,7 | G133: m | H133: 9.6 | I133: 10.46 | J133: =ROUND(I133*H133,3) -> 100.416 | N133: znížená | O133: 0 | P133: =O133*H133 -> 0 | Q133: 0 | R133: =Q133*H133 -> 0 | S133: 0 | T133: =S133*H133 -> 0 | AR133: 16 | AT133: K | AU133: 1 | AY133: ROZPOCET | BE133: =IF(N133="základná",J133,0) -> 0 | BF133: =IF(N133="znížená",J133,0) -> 100.416 | BG133: =IF(N133="zákl. prenesená",J133,0) -> 0 | BH133: =IF(N133="zníž. prenesená",J133,0) -> 0 | BI133: =IF(N133="nulová",J133,0) -> 0 | BJ133: 2 | BK133: =ROUND(I133*H133,3) -> 100.416 | BL133: 16 | BM133: 6
... C144: 23 | D144: K | E144: 998721203.S | F144: Presun hmôt pre vnútornú kanalizáciu v objektoch výšky nad 12 do 24 m | G144: % | H144: 79.807 | I144: 1.1257108 | J144: =ROUND(I144*H144,3) -> 89.84 | N144: znížená | O144: 0 | P144: =O144*H144 -> 0 | Q144: 0 | R144: =Q144*H144 -> 0 | S144: 0 | T144: =S144*H144 -> 0 | AR144: 16 | AT144: K | AU144: 1 | AY144: ROZPOCET | BE144: =IF(N144="základná",J144,0) -> 0 | BF144: =IF(N144="znížená",J144,0) -> 89.84 | BG144: =IF(N144="zákl. prenesená",J144,0) -> 0 | BH144: =IF(N144="zníž. prenesená",J144,0) -> 0 | BI144: =IF(N144="nulová",J144,0) -> 0 | BJ144: 2 | BK144: =ROUND(I144*H144,3) -> 89.84 | BL144: 16 | BM144: 25617189
D145: D | E145: 722 | F145: Zdravotechnika - vnútorný vodovod | J145: =BK145 -> 4286.459 | P145: =SUM(P146:P172) -> 24.2356 | R145: =SUM(R146:R172) -> 0.020352 | T145: =SUM(T146:T172) -> 0.38518 | AR145: 2 | AT145: D | AU145: 1 | AY145: ROZPOCET | BK145: =SUM(BK146:BK172) -> 4286.459
C146: 24 | D146: K | E146: 722172631 | F146: Potrubie z rúr , rúrka univerzálna DN 40,0x5,5 v tyčiach | G146: m | H146: 60 | I146: 36.79 | J146: =ROUND(I146*H146,3) -> 2207.4 | N146: znížená | O146: 0 | P146: =O146*H146 -> 0 | Q146: 0 | R146: =Q146*H146 -> 0 | S146: 0 | T146: =S146*H146 -> 0 | AR146: 4 | AT146: K | AU146: 2 | AY146: ROZPOCET | BE146: =IF(N146="základná",J146,0) -> 0 | BF146: =IF(N146="znížená",J146,0) -> 2207.4 | BG146: =IF(N146="zákl. prenesená",J146,0) -> 0 | BH146: =IF(N146="zníž. prenesená",J146,0) -> 0 | BI146: =IF(N146="nulová",J146,0) -> 0 | BJ146: 2 | BK146: =ROUND(I146*H146,3) -> 2207.4 | BL146: 4 | BM146: -709999364
C147: 25 | D147: K | E147: 769071009 | F147: Montáž lišty + konzoly Walraven | G147: ks | H147: 8 | I147: 13.73 | J147: =ROUND(I147*H147,3) -> 109.84 | N147: znížená | O147: 0 | P147: =O147*H147 -> 0 | Q147: 0 | R147: =Q147*H147 -> 0 | S147: 0 | T147: =S147*H147 -> 0 | AR147: 4 | AT147: K | AU147: 2 | AY147: ROZPOCET | BE147: =IF(N147="základná",J147,0) -> 0 | BF147: =IF(N147="znížená",J147,0) -> 109.84 | BG147: =IF(N147="zákl. prenesená",J147,0) -> 0 | BH147: =IF(N147="zníž. prenesená",J147,0) -> 0 | BI147: =IF(N147="nulová",J147,0) -> 0 | BJ147: 2 | BK147: =ROUND(I147*H147,3) -> 109.84 | BL147: 4 | BM147: -795907299
C148: 26 | D148: M | E148: sadakupevneniu | F148: Konzola, lišta, objímky pre upevnenie závesného systému | G148: ks | H148: 8 | I148: 3.49 | J148: =ROUND(I148*H148,3) -> 27.92 | N148: znížená | O148: 0 | P148: =O148*H148 -> 0 | Q148: 0 | R148: =Q148*H148 -> 0 | S148: 0 | T148: =S148*H148 -> 0 | AR148: 8 | AT148: M | AU148: 2 | AY148: ROZPOCET | BE148: =IF(N148="základná",J148,0) -> 0 | BF148: =IF(N148="znížená",J148,0) -> 27.92 | BG148: =IF(N148="zákl. prenesená",J148,0) -> 0 | BH148: =IF(N148="zníž. prenesená",J148,0) -> 0 | BI148: =IF(N148="nulová",J148,0) -> 0 | BJ148: 2 | BK148: =ROUND(I148*H148,3) -> 27.92 | BL148: 4 | BM148: -2021770748
C149: 27 | D149: K | E149: 722171131.S | F149: Potrubie plasthliníkové D 18 mm | G149: m | H149: 27.2 | I149: 10.45 | J149: =ROUND(I149*H149,3) -> 284.24 | N149: znížená | O149: 0.188 | P149: =O149*H149 -> 5.1136 | Q149: 0.00022 | R149: =Q149*H149 -> 0.005984 | S149: 0 | T149: =S149*H149 -> 0 | AR149: 16 | AT149: K | AU149: 2 | AY149: ROZPOCET | BE149: =IF(N149="základná",J149,0) -> 0 | BF149: =IF(N149="znížená",J149,0) -> 284.24 | BG149: =IF(N149="zákl. prenesená",J149,0) -> 0 | BH149: =IF(N149="zníž. prenesená",J149,0) -> 0 | BI149: =IF(N149="nulová",J149,0) -> 0 | BJ149: 2 | BK149: =ROUND(I149*H149,3) -> 284.24 | BL149: 16 | BM149: -541234099
C150: 28 | D150: M | E150: 286220000200.S | F150: Koleno lisovacie pre plasthliníkové potrubia D 18/90 mm | G150: ks | H150: 8 | I150: 5.77 | J150: =ROUND(I150*H150,3) -> 46.16 | N150: znížená | O150: 0 | P150: =O150*H150 -> 0 | Q150: 0.0001 | R150: =Q150*H150 -> 0.0008 | S150: 0 | T150: =S150*H150 -> 0 | AR150: 32 | AT150: M | AU150: 2 | AY150: ROZPOCET | BE150: =IF(N150="základná",J150,0) -> 0 | BF150: =IF(N150="znížená",J150,0) -> 46.16 | BG150: =IF(N150="zákl. prenesená",J150,0) -> 0 | BH150: =IF(N150="zníž. prenesená",J150,0) -> 0 | BI150: =IF(N150="nulová",J150,0) -> 0 | BJ150: 2 | BK150: =ROUND(I150*H150,3) -> 46.16 | BL150: 16 | BM150: 525633380
C151: 29 | D151: M | E151: 286220007800.S | F151: T-kus lisovací pre plasthliníkové potrubia D 18 mm | G151: ks | H151: 8 | I151: 8.37 | J151: =ROUND(I151*H151,3) -> 66.96 | N151: znížená | O151: 0 | P151: =O151*H151 -> 0 | Q151: 0.00015 | R151: =Q151*H151 -> 0.0012 | S151: 0 | T151: =S151*H151 -> 0 | AR151: 32 | AT151: M | AU151: 2 | AY151: ROZPOCET | BE151: =IF(N151="základná",J151,0) -> 0 | BF151: =IF(N151="znížená",J151,0) -> 66.96 | BG151: =IF(N151="zákl. prenesená",J151,0) -> 0 | BH151: =IF(N151="zníž. prenesená",J151,0) -> 0 | BI151: =IF(N151="nulová",J151,0) -> 0 | BJ151: 2 | BK151: =ROUND(I151*H151,3) -> 66.96 | BL151: 16 | BM151: 2064009562
C152: 30 | D152: M | E152: 286220039900.S | F152: Spojka pre plasthliníkové potrubie D 18 mm | G152: ks | H152: 8 | I152: 4.6 | J152: =ROUND(I152*H152,3) -> 36.8 | N152: znížená | O152: 0 | P152: =O152*H152 -> 0 | Q152: 7e-05 | R152: =Q152*H152 -> 0.00056 | S152: 0 | T152: =S152*H152 -> 0 | AR152: 32 | AT152: M | AU152: 2 | AY152: ROZPOCET | BE152: =IF(N152="základná",J152,0) -> 0 | BF152: =IF(N152="znížená",J152,0) -> 36.8 | BG152: =IF(N152="zákl. prenesená",J152,0) -> 0 | BH152: =IF(N152="zníž. prenesená",J152,0) -> 0 | BI152: =IF(N152="nulová",J152,0) -> 0 | BJ152: 2 | BK152: =ROUND(I152*H152,3) -> 36.8 | BL152: 16 | BM152: 1797761509
C153: 31 | D153: M | E153: 286220046700.S | F153: Redukcia lisovacia pre plasthliníkové potrubie D 18/16 mm | G153: ks | H153: 8 | I153: 4.94 | J153: =ROUND(I153*H153,3) -> 39.52 | N153: znížená | O153: 0 | P153: =O153*H153 -> 0 | Q153: 7e-05 | R153: =Q153*H153 -> 0.00056 | S153: 0 | T153: =S153*H153 -> 0 | AR153: 32 | AT153: M | AU153: 2 | AY153: ROZPOCET | BE153: =IF(N153="základná",J153,0) -> 0 | BF153: =IF(N153="znížená",J153,0) -> 39.52 | BG153: =IF(N153="zákl. prenesená",J153,0) -> 0 | BH153: =IF(N153="zníž. prenesená",J153,0) -> 0 | BI153: =IF(N153="nulová",J153,0) -> 0 | BJ153: 2 | BK153: =ROUND(I153*H153,3) -> 39.52 | BL153: 16 | BM153: 603711584
C154: 32 | D154: K | E154: 722171132.S | F154: Potrubie plasthliníkové D 20 mm | G154: m | H154: 27.2 | I154: 13.55 | J154: =ROUND(I154*H154,3) -> 368.56 | N154: znížená | O154: 0.208 | P154: =O154*H154 -> 5.6576 | Q154: 0.00029 | R154: =Q154*H154 -> 0.007888 | S154: 0 | T154: =S154*H154 -> 0 | AR154: 16 | AT154: K | AU154: 2 | AY154: ROZPOCET | BE154: =IF(N154="základná",J154,0) -> 0 | BF154: =IF(N154="znížená",J154,0) -> 368.56 | BG154: =IF(N154="zákl. prenesená",J154,0) -> 0 | BH154: =IF(N154="zníž. prenesená",J154,0) -> 0 | BI154: =IF(N154="nulová",J154,0) -> 0 | BJ154: 2 | BK154: =ROUND(I154*H154,3) -> 368.56 | BL154: 16 | BM154: -892936049
C155: 33 | D155: M | E155: 286220000300.S | F155: Koleno lisovacie pre plasthliníkové potrubia D 20/90 mm | G155: ks | H155: 8 | I155: 5.16 | J155: =ROUND(I155*H155,3) -> 41.28 | N155: znížená | O155: 0 | P155: =O155*H155 -> 0 | Q155: 0.00011 | R155: =Q155*H155 -> 0.00088 | S155: 0 | T155: =S155*H155 -> 0 | AR155: 32 | AT155: M | AU155: 2 | AY155: ROZPOCET | BE155: =IF(N155="základná",J155,0) -> 0 | BF155: =IF(N155="znížená",J155,0) -> 41.28 | BG155: =IF(N155="zákl. prenesená",J155,0) -> 0 | BH155: =IF(N155="zníž. prenesená",J155,0) -> 0 | BI155: =IF(N155="nulová",J155,0) -> 0 | BJ155: 2 | BK155: =ROUND(I155*H155,3) -> 41.28 | BL155: 16 | BM155: 856032042
C156: 34 | D156: M | E156: 286220007900.S | F156: T-kus lisovací pre plasthliníkové potrubia D 20 mm | G156: ks | H156: 8 | I156: 7.74 | J156: =ROUND(I156*H156,3) -> 61.92 | N156: znížená | O156: 0 | P156: =O156*H156 -> 0 | Q156: 0.00016 | R156: =Q156*H156 -> 0.00128 | S156: 0 | T156: =S156*H156 -> 0 | AR156: 32 | AT156: M | AU156: 2 | AY156: ROZPOCET | BE156: =IF(N156="základná",J156,0) -> 0 | BF156: =IF(N156="znížená",J156,0) -> 61.92 | BG156: =IF(N156="zákl. prenesená",J156,0) -> 0 | BH156: =IF(N156="zníž. prenesená",J156,0) -> 0 | BI156: =IF(N156="nulová",J156,0) -> 0 | BJ156: 2 | BK156: =ROUND(I156*H156,3) -> 61.92 | BL156: 16 | BM156: -181911310
C157: 35 | D157: M | E157: 286220040000.S | F157: Spojka pre plasthliníkové potrubie D 20 mm | G157: ks | H157: 8 | I157: 4.37 | J157: =ROUND(I157*H157,3) -> 34.96 | N157: znížená | O157: 0 | P157: =O157*H157 -> 0 | Q157: 8e-05 | R157: =Q157*H157 -> 0.00064 | S157: 0 | T157: =S157*H157 -> 0 | AR157: 32 | AT157: M | AU157: 2 | AY157: ROZPOCET | BE157: =IF(N157="základná",J157,0) -> 0 | BF157: =IF(N157="znížená",J157,0) -> 34.96 | BG157: =IF(N157="zákl. prenesená",J157,0) -> 0 | BH157: =IF(N157="zníž. prenesená",J157,0) -> 0 | BI157: =IF(N157="nulová",J157,0) -> 0 | BJ157: 2 | BK157: =ROUND(I157*H157,3) -> 34.96 | BL157: 16 | BM157: 2119880714
... C172: 50 | D172: K | E172: 998722202.S | F172: Presun hmôt pre vnútorný vodovod v objektoch výšky nad 6 do 12 m | G172: % | H172: 17.904 | I172: 0.75196819 | J172: =ROUND(I172*H172,3) -> 13.463 | N172: znížená | O172: 0 | P172: =O172*H172 -> 0 | Q172: 0 | R172: =Q172*H172 -> 0 | S172: 0 | T172: =S172*H172 -> 0 | AR172: 16 | AT172: K | AU172: 2 | AY172: ROZPOCET | BE172: =IF(N172="základná",J172,0) -> 0 | BF172: =IF(N172="znížená",J172,0) -> 13.463 | BG172: =IF(N172="zákl. prenesená",J172,0) -> 0 | BH172: =IF(N172="zníž. prenesená",J172,0) -> 0 | BI172: =IF(N172="nulová",J172,0) -> 0 | BJ172: 2 | BK172: =ROUND(I172*H172,3) -> 13.463 | BL172: 16 | BM172: -1441361261
D173: D | E173: 725 | F173: Zdravotechnika - zariaď. predmety | J173: =BK173 -> 7094.594 | P173: =SUM(P174:P213) -> 33.38 | R173: =SUM(R174:R213) -> 0.355488 | T173: =SUM(T174:T213) -> 0.53772 | AR173: 2 | AT173: D | AU173: 1 | AY173: ROZPOCET | BK173: =SUM(BK174:BK213) -> 7094.594
C174: 51 | D174: K | E174: 763120011 | F174: Sadrokartónová inštalačná predstena pre sanitárne zariadenia, dvojité opláštenie, doska 2xRBI 12,5 mm | G174: m2 | H174: 11.2 | I174: 39.23 | J174: =ROUND(I174*H174,3) -> 439.376 | N174: znížená | O174: 1.633 | P174: =O174*H174 -> 18.2896 | Q174: 0.02204 | R174: =Q174*H174 -> 0.246848 | S174: 0 | T174: =S174*H174 -> 0 | AR174: 16 | AT174: K | AU174: 2 | AY174: ROZPOCET | BE174: =IF(N174="základná",J174,0) -> 0 | BF174: =IF(N174="znížená",J174,0) -> 439.376 | BG174: =IF(N174="zákl. prenesená",J174,0) -> 0 | BH174: =IF(N174="zníž. prenesená",J174,0) -> 0 | BI174: =IF(N174="nulová",J174,0) -> 0 | BJ174: 2 | BK174: =ROUND(I174*H174,3) -> 439.376 | BL174: 16 | BM174: -1502085393
C175: 52 | D175: K | E175: 725119307 | F175: Montáž záchodovej misy kombinovanej s rovným odpadom | G175: súb. | H175: 4 | I175: 27.22 | J175: =ROUND(I175*H175,3) -> 108.88 | N175: znížená | O175: 0 | P175: =O175*H175 -> 0 | Q175: 0 | R175: =Q175*H175 -> 0 | S175: 0 | T175: =S175*H175 -> 0 | AR175: 16 | AT175: K | AU175: 2 | AY175: ROZPOCET | BE175: =IF(N175="základná",J175,0) -> 0 | BF175: =IF(N175="znížená",J175,0) -> 108.88 | BG175: =IF(N175="zákl. prenesená",J175,0) -> 0 | BH175: =IF(N175="zníž. prenesená",J175,0) -> 0 | BI175: =IF(N175="nulová",J175,0) -> 0 | BJ175: 2 | BK175: =ROUND(I175*H175,3) -> 108.88 | BL175: 16 | BM175: 56
C176: 53 | D176: M | E176: 6420133890 | F176: WC kombi LYRA PLUS, 630x360x385 + sedadlo LYRA biele | G176: ks | H176: 4 | I176: 115.2 | J176: =ROUND(I176*H176,3) -> 460.8 | N176: znížená | O176: 0 | P176: =O176*H176 -> 0 | Q176: 0 | R176: =Q176*H176 -> 0 | S176: 0 | T176: =S176*H176 -> 0 | AR176: 32 | AT176: M | AU176: 2 | AY176: ROZPOCET | BE176: =IF(N176="základná",J176,0) -> 0 | BF176: =IF(N176="znížená",J176,0) -> 460.8 | BG176: =IF(N176="zákl. prenesená",J176,0) -> 0 | BH176: =IF(N176="zníž. prenesená",J176,0) -> 0 | BI176: =IF(N176="nulová",J176,0) -> 0 | BJ176: 2 | BK176: =ROUND(I176*H176,3) -> 460.8 | BL176: 16 | BM176: 58
C177: 54 | D177: K | E177: 725219401 | F177: Montáž umývadla, bez výtokovej armatúry | G177: súb. | H177: 8 | I177: 29.97 | J177: =ROUND(I177*H177,3) -> 239.76 | N177: znížená | O177: 0 | P177: =O177*H177 -> 0 | Q177: 0 | R177: =Q177*H177 -> 0 | S177: 0 | T177: =S177*H177 -> 0 | AR177: 16 | AT177: K | AU177: 2 | AY177: ROZPOCET | BE177: =IF(N177="základná",J177,0) -> 0 | BF177: =IF(N177="znížená",J177,0) -> 239.76 | BG177: =IF(N177="zákl. prenesená",J177,0) -> 0 | BH177: =IF(N177="zníž. prenesená",J177,0) -> 0 | BI177: =IF(N177="nulová",J177,0) -> 0 | BJ177: 2 | BK177: =ROUND(I177*H177,3) -> 239.76 | BL177: 16 | BM177: 60
C178: 55 | D178: M | E178: 6420136780 | F178: Umývadlo keramické LYRA PLUS-60, 600x490x195 mm, biela | G178: ks | H178: 4 | I178: 50.17 | J178: =ROUND(I178*H178,3) -> 200.68 | N178: znížená | O178: 0 | P178: =O178*H178 -> 0 | Q178: 0 | R178: =Q178*H178 -> 0 | S178: 0 | T178: =S178*H178 -> 0 | AR178: 32 | AT178: M | AU178: 2 | AY178: ROZPOCET | BE178: =IF(N178="základná",J178,0) -> 0 | BF178: =IF(N178="znížená",J178,0) -> 200.68 | BG178: =IF(N178="zákl. prenesená",J178,0) -> 0 | BH178: =IF(N178="zníž. prenesená",J178,0) -> 0 | BI178: =IF(N178="nulová",J178,0) -> 0 | BJ178: 2 | BK178: =ROUND(I178*H178,3) -> 200.68 | BL178: 16 | BM178: 62
C179: 56 | D179: M | E179: 6420137990 | F179: Umývadielko keramické TIGO-45, 450x230x155 mm, biela | G179: ks | H179: 4 | I179: 49.03 | J179: =ROUND(I179*H179,3) -> 196.12 | N179: znížená | O179: 0 | P179: =O179*H179 -> 0 | Q179: 0 | R179: =Q179*H179 -> 0 | S179: 0 | T179: =S179*H179 -> 0 | AR179: 32 | AT179: M | AU179: 2 | AY179: ROZPOCET | BE179: =IF(N179="základná",J179,0) -> 0 | BF179: =IF(N179="znížená",J179,0) -> 196.12 | BG179: =IF(N179="zákl. prenesená",J179,0) -> 0 | BH179: =IF(N179="zníž. prenesená",J179,0) -> 0 | BI179: =IF(N179="nulová",J179,0) -> 0 | BJ179: 2 | BK179: =ROUND(I179*H179,3) -> 196.12 | BL179: 16 | BM179: 64
C180: 57 | D180: K | E180: 725229140 | F180: Montáž vane ocelovej smaltovanej klasickej 130x70, bez výtokovej armatúr | G180: súb. | H180: 4 | I180: 53.14 | J180: =ROUND(I180*H180,3) -> 212.56 | N180: znížená | O180: 0 | P180: =O180*H180 -> 0 | Q180: 0 | R180: =Q180*H180 -> 0 | S180: 0 | T180: =S180*H180 -> 0 | AR180: 16 | AT180: K | AU180: 2 | AY180: ROZPOCET | BE180: =IF(N180="základná",J180,0) -> 0 | BF180: =IF(N180="znížená",J180,0) -> 212.56 | BG180: =IF(N180="zákl. prenesená",J180,0) -> 0 | BH180: =IF(N180="zníž. prenesená",J180,0) -> 0 | BI180: =IF(N180="nulová",J180,0) -> 0 | BJ180: 2 | BK180: =ROUND(I180*H180,3) -> 212.56 | BL180: 16 | BM180: 66
C181: 58 | D181: M | E181: 5522056100 | F181: Vane smaltované plechové + nožičky JIKA RIGA, biela, 1300x700x375 | G181: ks | H181: 4 | I181: 99.11 | J181: =ROUND(I181*H181,3) -> 396.44 | N181: znížená | O181: 0 | P181: =O181*H181 -> 0 | Q181: 0 | R181: =Q181*H181 -> 0 | S181: 0 | T181: =S181*H181 -> 0 | AR181: 32 | AT181: M | AU181: 2 | AY181: ROZPOCET | BE181: =IF(N181="základná",J181,0) -> 0 | BF181: =IF(N181="znížená",J181,0) -> 396.44 | BG181: =IF(N181="zákl. prenesená",J181,0) -> 0 | BH181: =IF(N181="zníž. prenesená",J181,0) -> 0 | BI181: =IF(N181="nulová",J181,0) -> 0 | BJ181: 2 | BK181: =ROUND(I181*H181,3) -> 396.44 | BL181: 16 | BM181: 68
C182: 59 | D182: K | E182: 725245238.S | F182: Montáž zásteny vaňovej jednokrídlovej bočnej do výšky 1400 mm a šírky 800 mm | G182: ks | H182: 4 | I182: 29.98 | J182: =ROUND(I182*H182,3) -> 119.92 | N182: znížená | O182: 1.20265 | P182: =O182*H182 -> 4.8106 | Q182: 0.0005 | R182: =Q182*H182 -> 0.002 | S182: 0 | T182: =S182*H182 -> 0 | AR182: 16 | AT182: K | AU182: 2 | AY182: ROZPOCET | BE182: =IF(N182="základná",J182,0) -> 0 | BF182: =IF(N182="znížená",J182,0) -> 119.92 | BG182: =IF(N182="zákl. prenesená",J182,0) -> 0 | BH182: =IF(N182="zníž. prenesená",J182,0) -> 0 | BI182: =IF(N182="nulová",J182,0) -> 0 | BJ182: 2 | BK182: =ROUND(I182*H182,3) -> 119.92 | BL182: 16 | BM182: -1278592084
C183: 60 | D183: M | E183: 552260001025.S | F183: Vaňová zástena jednodielna šxv 800x1400 mm | G183: ks | H183: 4 | I183: 123.3 | J183: =ROUND(I183*H183,3) -> 493.2 | N183: znížená | O183: 0 | P183: =O183*H183 -> 0 | Q183: 0.01942 | R183: =Q183*H183 -> 0.07768 | S183: 0 | T183: =S183*H183 -> 0 | AR183: 32 | AT183: M | AU183: 2 | AY183: ROZPOCET | BE183: =IF(N183="základná",J183,0) -> 0 | BF183: =IF(N183="znížená",J183,0) -> 493.2 | BG183: =IF(N183="zákl. prenesená",J183,0) -> 0 | BH183: =IF(N183="zníž. prenesená",J183,0) -> 0 | BI183: =IF(N183="nulová",J183,0) -> 0 | BJ183: 2 | BK183: =ROUND(I183*H183,3) -> 493.2 | BL183: 16 | BM183: -1679815975
C184: 61 | D184: K | E184: 725829601 | F184: Montáž batérií umývadlových stojankových pákových alebo klasických | G184: ks | H184: 8 | I184: 12.09 | J184: =ROUND(I184*H184,3) -> 96.72 | N184: znížená | O184: 0 | P184: =O184*H184 -> 0 | Q184: 0 | R184: =Q184*H184 -> 0 | S184: 0 | T184: =S184*H184 -> 0 | AR184: 16 | AT184: K | AU184: 2 | AY184: ROZPOCET | BE184: =IF(N184="základná",J184,0) -> 0 | BF184: =IF(N184="znížená",J184,0) -> 96.72 | BG184: =IF(N184="zákl. prenesená",J184,0) -> 0 | BH184: =IF(N184="zníž. prenesená",J184,0) -> 0 | BI184: =IF(N184="nulová",J184,0) -> 0 | BJ184: 2 | BK184: =ROUND(I184*H184,3) -> 96.72 | BL184: 16 | BM184: 70
C185: 62 | D185: M | E185: 5514671040 | F185: Umývadlová batéria pre LYRA PLUS | G185: ks | H185: 8 | I185: 95.37 | J185: =ROUND(I185*H185,3) -> 762.96 | N185: znížená | O185: 0 | P185: =O185*H185 -> 0 | Q185: 0 | R185: =Q185*H185 -> 0 | S185: 0 | T185: =S185*H185 -> 0 | AR185: 32 | AT185: M | AU185: 2 | AY185: ROZPOCET | BE185: =IF(N185="základná",J185,0) -> 0 | BF185: =IF(N185="znížená",J185,0) -> 762.96 | BG185: =IF(N185="zákl. prenesená",J185,0) -> 0 | BH185: =IF(N185="zníž. prenesená",J185,0) -> 0 | BI185: =IF(N185="nulová",J185,0) -> 0 | BJ185: 2 | BK185: =ROUND(I185*H185,3) -> 762.96 | BL185: 16 | BM185: 74
... C213: 90 | D213: K | E213: 998725203.S | F213: Presun hmôt pre zariaďovacie predmety | G213: % | H213: 47.262 | I213: 0.35205192 | J213: =ROUND(I213*H213,3) -> 16.639 | N213: znížená | O213: 0 | P213: =O213*H213 -> 0 | Q213: 0 | R213: =Q213*H213 -> 0 | S213: 0 | T213: =S213*H213 -> 0 | AR213: 16 | AT213: K | AU213: 2 | AY213: ROZPOCET | BE213: =IF(N213="základná",J213,0) -> 0 | BF213: =IF(N213="znížená",J213,0) -> 16.639 | BG213: =IF(N213="zákl. prenesená",J213,0) -> 0 | BH213: =IF(N213="zníž. prenesená",J213,0) -> 0 | BI213: =IF(N213="nulová",J213,0) -> 0 | BJ213: 2 | BK213: =ROUND(I213*H213,3) -> 16.639 | BL213: 16 | BM213: -489301321

Sheet SO03 - Elektroinštalácia ...
L2: >> skryté stĺpce << | AT2: {72f730e2-1a15-411d-b32f-3a85f5b41dc9}
AT3: 0
D4: KRYCÍ LIST ROZPOČTU | M4: v --- nižšie sa nachádzajú doplnkové a pomocné údaje k zostavám --- v | AT4: False
D6: Stavba:
E7: ='Rekapitulácia stavby'!K6 -> Oprava internátu SPoŠ 1NP Bernolákovo bunky A10,A9,A5,A4 + vstup,čiastočne chodba 1.04
D8: Objekt:
E9: SO03 - Elektroinštalácia chodba + bunky A10,A9,A5,A4,
D11: JKSO: | I11: KS:
D12: Miesto: | I12: Dátum: | J12: 44172
D14: Objednávateľ: | F14: Spojená škola, ul. SNP 30, 900 28 Ivanka pri Dunaji | I14: IČO: | J14: =IF('Rekapitulácia stavby'!AN10="","",'Rekapitulácia stavby'!AN10)
E15: =IF('Rekapitulácia stavby'!E11="","",'Rekapitulácia stavby'!E11) | I15: IČ DPH: | J15: =IF('Rekapitulácia stavby'!AN11="","",'Rekapitulácia stavby'!AN11)
D17: Zhotoviteľ: | F17: Ferrmont a.s. Púchov | I17: IČO: | J17: ='Rekapitulácia stavby'!AN13 -> 31619916
E18: ='Rekapitulácia stavby'!E14 | I18: IČ DPH: | J18: ='Rekapitulácia stavby'!AN14 -> SK2020441907
D20: Projektant: | I20: IČO: | J20: =IF('Rekapitulácia stavby'!AN16="","",'Rekapitulácia stavby'!AN16)
E21: =IF('Rekapitulácia stavby'!E17="","",'Rekapitulácia stavby'!E17) | I21: IČ DPH: | J21: =IF('Rekapitulácia stavby'!AN17="","",'Rekapitulácia stavby'!AN17)
D23: Spracovateľ: | I23: IČO: | J23: =IF('Rekapitulácia stavby'!AN19="","",'Rekapitulácia stavby'!AN19)
E24: =IF('Rekapitulácia stavby'!E20="","",'Rekapitulácia stavby'!E20) | I24: IČ DPH: | J24: =IF('Rekapitulácia stavby'!AN20="","",'Rekapitulácia stavby'!AN20)
D26: Poznámka:
D30: Cena bez DPH | J30: =ROUND(J123, 2) -> 47544.54
F32: Základ dane | I32: Sadzba dane | J32: Výška dane
D33: DPH | E33: základná | F33: =ROUND((SUM(BE123:BE210)), 2) -> 0 | I33: 0.2 | J33: =ROUND(((SUM(BE123:BE210))*I33), 2) -> 0
E34: znížená | F34: =ROUND((SUM(BF123:BF210)), 2) -> 47544.54 | I34: 0.2 | J34: =ROUND(((SUM(BF123:BF210))*I34), 2) -> 9508.91
E35: zákl. prenesená | F35: =ROUND((SUM(BG123:BG210)), 2) -> 0 | I35: 0.2 | J35: =0 -> 0
E36: zníž. prenesená | F36: =ROUND((SUM(BH123:BH210)), 2) -> 0 | I36: 0.2 | J36: =0 -> 0
E37: nulová | F37: =ROUND((SUM(BI123:BI210)), 2) -> 0 | I37: 0 | J37: =0 -> 0
D39: Cena s DPH | G39: v | H39: EUR | J39: =SUM(J30:J37) -> 57053.45
D50: Projektant | G50: Spracovateľ
D61: Dátum a podpis: | F61: Pečiatka | G61: Dátum a podpis: | J61: Pečiatka
D65: Objednávateľ | G65: Zhotoviteľ
D76: Dátum a podpis: | F76: Pečiatka | G76: Dátum a podpis: | J76: Pečiatka
C82: REKAPITULÁCIA ROZPOČTU
C84: Stavba:
E85: =E7 -> Oprava internátu SPoŠ 1NP Bernolákovo bunky A10,A9,A5,A4 + vstup,čiastočne chodba 1.04
C86: Objekt:
E87: =E9 -> SO03 - Elektroinštalácia chodba + bunky A10,A9,A5,A4,
C89: Miesto: | F89: =F12 | I89: Dátum: | J89: =IF(J12="","",J12) -> 44172
C91: Objednávateľ: | F91: Spojená škola, ul. SNP 30, 900 28 Ivanka pri Dunaji | I91: Projektant: | J91: =E21
C92: Zhotoviteľ: | F92: Ferrmont a.s. Púchov | I92: Spracovateľ: | J92: =E24
C94: Kód dielu - Popis | J94: Cena celkom [EUR]
C96: Náklady z rozpočtu | J96: =J123 -> 47544.54 | AU96: -1
D97: 921 - Elektromontáže | J97: =J124 -> 25883.05
D98: K - K | J98: =J125 -> 25883.05
D99: 922 - Montáž oznamovacích a signalizačných zariadení | J99: =J171 -> 4296.82
D100: D1 - | J100: =J178 -> 1684.3
D101: 923 - Dodávka a montáž vypínačov, snímačov a svetiel | J101: =J181 -> 7227.61
D102: 924 - Dodávka a montáž systemových prvkov a rozvádzača | J102: =J201 -> 9705.11
D103: 950 - Revízia elektrických zariadení | J103: =J209 -> 431.95
C110: ROZPOČET
C112: Stavba:
E113: =E7 -> Oprava internátu SPoŠ 1NP Bernolákovo bunky A10,A9,A5,A4 + vstup,čiastočne chodba 1.04
C114: Objekt:
E115: =E9 -> SO03 - Elektroinštalácia chodba + bunky A10,A9,A5,A4,
C117: Miesto: | F117: =F12 | I117: Dátum: | J117: =IF(J12="","",J12) -> 44172
C119: Objednávateľ: | F119: Spojená škola, ul. SNP 30, 900 28 Ivanka pri Dunaji | I119: Projektant: | J119: =E21
C120: Zhotoviteľ: | F120: Ferrmont a.s. Púchov | I120: Spracovateľ: | J120: =E24
C122: PČ | D122: Typ | E122: Kód | F122: Popis | G122: MJ | H122: Množstvo | I122: J.cena [EUR] | J122: Cena celkom [EUR] | K122: Cenová sústava | N122: DPH | O122: J. Nh [h] | P122: Nh celkom [h] | Q122: J. hmotnosť [t] | R122: Hmotnosť celkom [t] | S122: J. suť [t] | T122: Suť Celkom [t]
C123: Náklady z rozpočtu | J123: =BK123 -> 47544.54 | P123: =P124+P171+P181+P201+P209 -> 0 | R123: =R124+R171+R181+R201+R209 -> 0 | T123: =T124+T171+T181+T201+T209 -> 0 | AT123: D | AU123: -1 | BK123: =BK124+BK171+BK181+BK201+BK209 -> 47544.54
D124: D | E124: 921 | F124: Elektromontáže | J124: =BK124 -> 25883.05 | P124: =P125 -> 0 | R124: =R125 -> 0 | T124: =T125 -> 0 | AR124: 1 | AT124: D | AU124: 0 | AY124: ROZPOCET | BK124: =BK125 -> 25883.05
D125: D | E125: K | F125: K | J125: =BK125 -> 25883.05 | P125: =SUM(P126:P170) -> 0 | R125: =SUM(R126:R170) -> 0 | T125: =SUM(T126:T170) -> 0 | AR125: 1 | AT125: D | AU125: 1 | AY125: ROZPOCET | BK125: =SUM(BK126:BK170) -> 25883.05
C126: 1 | D126: K | E126: Pol1 | F126: SUPER MONOFLEX 750 N PP bezhalog., priem. 16mm | G126: m | H126: 1400 | I126: 2.37 | J126: =ROUND(I126*H126,3) -> 3318 | N126: znížená | O126: 0 | P126: =O126*H126 -> 0 | Q126: 0 | R126: =Q126*H126 -> 0 | S126: 0 | T126: =S126*H126 -> 0 | AR126: 4 | AT126: K | AU126: 2 | AY126: ROZPOCET | BE126: =IF(N126="základná",J126,0) -> 0 | BF126: =IF(N126="znížená",J126,0) -> 3318 | BG126: =IF(N126="zákl. prenesená",J126,0) -> 0 | BH126: =IF(N126="zníž. prenesená",J126,0) -> 0 | BI126: =IF(N126="nulová",J126,0) -> 0 | BJ126: 2 | BK126: =ROUND(I126*H126,3) -> 3318 | BL126: 4 | BM126: 2
C127: 2 | D127: M | E127: Pol2 | F127: Rúrka FXP 16 | G127: m | H127: 1400 | I127: 0.31 | J127: =ROUND(I127*H127,3) -> 434 | N127: znížená | O127: 0 | P127: =O127*H127 -> 0 | Q127: 0 | R127: =Q127*H127 -> 0 | S127: 0 | T127: =S127*H127 -> 0 | AR127: 8 | AT127: M | AU127: 2 | AY127: ROZPOCET | BE127: =IF(N127="základná",J127,0) -> 0 | BF127: =IF(N127="znížená",J127,0) -> 434 | BG127: =IF(N127="zákl. prenesená",J127,0) -> 0 | BH127: =IF(N127="zníž. prenesená",J127,0) -> 0 | BI127: =IF(N127="nulová",J127,0) -> 0 | BJ127: 2 | BK127: =ROUND(I127*H127,3) -> 434 | BL127: 4 | BM127: 4
C128: 3 | D128: K | E128: Pol3 | F128: SUPER MONOFLEX 750 N PP bezhalog., priem. 20mm, modrá | G128: m | H128: 500 | I128: 2.57 | J128: =ROUND(I128*H128,3) -> 1285 | N128: znížená | O128: 0 | P128: =O128*H128 -> 0 | Q128: 0 | R128: =Q128*H128 -> 0 | S128: 0 | T128: =S128*H128 -> 0 | AR128: 4 | AT128: K | AU128: 2 | AY128: ROZPOCET | BE128: =IF(N128="základná",J128,0) -> 0 | BF128: =IF(N128="znížená",J128,0) -> 1285 | BG128: =IF(N128="zákl. prenesená",J128,0) -> 0 | BH128: =IF(N128="zníž. prenesená",J128,0) -> 0 | BI128: =IF(N128="nulová",J128,0) -> 0 | BJ128: 2 | BK128: =ROUND(I128*H128,3) -> 1285 | BL128: 4 | BM128: 6
C129: 4 | D129: M | E129: Pol4 | F129: Rúrka FXP 20, modrá | G129: m | H129: 500 | I129: 0.31 | J129: =ROUND(I129*H129,3) -> 155 | N129: znížená | O129: 0 | P129: =O129*H129 -> 0 | Q129: 0 | R129: =Q129*H129 -> 0 | S129: 0 | T129: =S129*H129 -> 0 | AR129: 8 | AT129: M | AU129: 2 | AY129: ROZPOCET | BE129: =IF(N129="základná",J129,0) -> 0 | BF129: =IF(N129="znížená",J129,0) -> 155 | BG129: =IF(N129="zákl. prenesená",J129,0) -> 0 | BH129: =IF(N129="zníž. prenesená",J129,0) -> 0 | BI129: =IF(N129="nulová",J129,0) -> 0 | BJ129: 2 | BK129: =ROUND(I129*H129,3) -> 155 | BL129: 4 | BM129: 8
C130: 5 | D130: K | E130: Pol5 | F130: SUPER MONOFLEX 750 N PP bezhalog., priem. 20mm, sivá | G130: m | H130: 1000 | I130: 2.57 | J130: =ROUND(I130*H130,3) -> 2570 | N130: znížená | O130: 0 | P130: =O130*H130 -> 0 | Q130: 0 | R130: =Q130*H130 -> 0 | S130: 0 | T130: =S130*H130 -> 0 | AR130: 4 | AT130: K | AU130: 2 | AY130: ROZPOCET | BE130: =IF(N130="základná",J130,0) -> 0 | BF130: =IF(N130="znížená",J130,0) -> 2570 | BG130: =IF(N130="zákl. prenesená",J130,0) -> 0 | BH130: =IF(N130="zníž. prenesená",J130,0) -> 0 | BI130: =IF(N130="nulová",J130,0) -> 0 | BJ130: 2 | BK130: =ROUND(I130*H130,3) -> 2570 | BL130: 4 | BM130: 10
C131: 6 | D131: M | E131: Pol6 | F131: Rúrka FXP 20, sivá | G131: m | H131: 1000 | I131: 0.31 | J131: =ROUND(I131*H131,3) -> 310 | N131: znížená | O131: 0 | P131: =O131*H131 -> 0 | Q131: 0 | R131: =Q131*H131 -> 0 | S131: 0 | T131: =S131*H131 -> 0 | AR131: 8 | AT131: M | AU131: 2 | AY131: ROZPOCET | BE131: =IF(N131="základná",J131,0) -> 0 | BF131: =IF(N131="znížená",J131,0) -> 310 | BG131: =IF(N131="zákl. prenesená",J131,0) -> 0 | BH131: =IF(N131="zníž. prenesená",J131,0) -> 0 | BI131: =IF(N131="nulová",J131,0) -> 0 | BJ131: 2 | BK131: =ROUND(I131*H131,3) -> 310 | BL131: 4 | BM131: 12
C132: 7 | D132: M | E132: Pol7 | F132: Žľab MARS, NKZI 50x250x1,25, dĺžka žlabu 2100mm | G132: ks | H132: 35 | I132: 22.46 | J132: =ROUND(I132*H132,3) -> 786.1 | N132: znížená | O132: 0 | P132: =O132*H132 -> 0 | Q132: 0 | R132: =Q132*H132 -> 0 | S132: 0 | T132: =S132*H132 -> 0 | AR132: 8 | AT132: M | AU132: 2 | AY132: ROZPOCET | BE132: =IF(N132="základná",J132,0) -> 0 | BF132: =IF(N132="znížená",J132,0) -> 786.1 | BG132: =IF(N132="zákl. prenesená",J132,0) -> 0 | BH132: =IF(N132="zníž. prenesená",J132,0) -> 0 | BI132: =IF(N132="nulová",J132,0) -> 0 | BJ132: 2 | BK132: =ROUND(I132*H132,3) -> 786.1 | BL132: 4 | BM132: 14
C133: 8 | D133: M | E133: Pol8 | F133: Žľab MARS, NKZI 50x62x1,25, dĺžka žlabu 2100mm | G133: ks | H133: 10 | I133: 21.33 | J133: =ROUND(I133*H133,3) -> 213.3 | N133: znížená | O133: 0 | P133: =O133*H133 -> 0 | Q133: 0 | R133: =Q133*H133 -> 0 | S133: 0 | T133: =S133*H133 -> 0 | AR133: 8 | AT133: M | AU133: 2 | AY133: ROZPOCET | BE133: =IF(N133="základná",J133,0) -> 0 | BF133: =IF(N133="znížená",J133,0) -> 213.3 | BG133: =IF(N133="zákl. prenesená",J133,0) -> 0 | BH133: =IF(N133="zníž. prenesená",J133,0) -> 0 | BI133: =IF(N133="nulová",J133,0) -> 0 | BJ133: 2 | BK133: =ROUND(I133*H133,3) -> 213.3 | BL133: 4 | BM133: 16
C134: 9 | D134: M | E134: Pol9 | F134: T Žľab MARS, NT 50x250 | G134: ks | H134: 1 | I134: 29.37 | J134: =ROUND(I134*H134,3) -> 29.37 | N134: znížená | O134: 0 | P134: =O134*H134 -> 0 | Q134: 0 | R134: =Q134*H134 -> 0 | S134: 0 | T134: =S134*H134 -> 0 | AR134: 8 | AT134: M | AU134: 2 | AY134: ROZPOCET | BE134: =IF(N134="základná",J134,0) -> 0 | BF134: =IF(N134="znížená",J134,0) -> 29.37 | BG134: =IF(N134="zákl. prenesená",J134,0) -> 0 | BH134: =IF(N134="zníž. prenesená",J134,0) -> 0 | BI134: =IF(N134="nulová",J134,0) -> 0 | BJ134: 2 | BK134: =ROUND(I134*H134,3) -> 29.37 | BL134: 4 | BM134: 18
C135: 10 | D135: M | E135: Pol10 | F135: Redukčný diel MARS, 62x50 | G135: ks | H135: 20 | I135: 1.73 | J135: =ROUND(I135*H135,3) -> 34.6 | N135: znížená | O135: 0 | P135: =O135*H135 -> 0 | Q135: 0 | R135: =Q135*H135 -> 0 | S135: 0 | T135: =S135*H135 -> 0 | AR135: 8 | AT135: M | AU135: 2 | AY135: ROZPOCET | BE135: =IF(N135="základná",J135,0) -> 0 | BF135: =IF(N135="znížená",J135,0) -> 34.6 | BG135: =IF(N135="zákl. prenesená",J135,0) -> 0 | BH135: =IF(N135="zníž. prenesená",J135,0) -> 0 | BI135: =IF(N135="nulová",J135,0) -> 0 | BJ135: 2 | BK135: =ROUND(I135*H135,3) -> 34.6 | BL135: 4 | BM135: 20
C136: 11 | D136: M | E136: Pol11 | F136: Oblúk 90°, 62x50 | G136: ks | H136: 2 | I136: 13.45 | J136: =ROUND(I136*H136,3) -> 26.9 | N136: znížená | O136: 0 | P136: =O136*H136 -> 0 | Q136: 0 | R136: =Q136*H136 -> 0 | S136: 0 | T136: =S136*H136 -> 0 | AR136: 8 | AT136: M | AU136: 2 | AY136: ROZPOCET | BE136: =IF(N136="základná",J136,0) -> 0 | BF136: =IF(N136="znížená",J136,0) -> 26.9 | BG136: =IF(N136="zákl. prenesená",J136,0) -> 0 | BH136: =IF(N136="zníž. prenesená",J136,0) -> 0 | BI136: =IF(N136="nulová",J136,0) -> 0 | BJ136: 2 | BK136: =ROUND(I136*H136,3) -> 26.9 | BL136: 4 | BM136: 22
C137: 12 | D137: M | E137: Pol12 | F137: Závitová tyč ZT 8 | G137: m | H137: 20 | I137: 0.91 | J137: =ROUND(I137*H137,3) -> 18.2 | N137: znížená | O137: 0 | P137: =O137*H137 -> 0 | Q137: 0 | R137: =Q137*H137 -> 0 | S137: 0 | T137: =S137*H137 -> 0 | AR137: 8 | AT137: M | AU137: 2 | AY137: ROZPOCET | BE137: =IF(N137="základná",J137,0) -> 0 | BF137: =IF(N137="znížená",J137,0) -> 18.2 | BG137: =IF(N137="zákl. prenesená",J137,0) -> 0 | BH137: =IF(N137="zníž. prenesená",J137,0) -> 0 | BI137: =IF(N137="nulová",J137,0) -> 0 | BJ137: 2 | BK137: =ROUND(I137*H137,3) -> 18.2 | BL137: 4 | BM137: 24
... C170: 45 | D170: M | E170: Odhad | F170: pomocný montážny materiál | G170: sub | H170: 1 | I170: 78.06 | J170: =ROUND(I170*H170,3) -> 78.06 | N170: znížená | O170: 0 | P170: =O170*H170 -> 0 | Q170: 0 | R170: =Q170*H170 -> 0 | S170: 0 | T170: =S170*H170 -> 0 | AR170: 8 | AT170: M | AU170: 2 | AY170: ROZPOCET | BE170: =IF(N170="základná",J170,0) -> 0 | BF170: =IF(N170="znížená",J170,0) -> 78.06 | BG170: =IF(N170="zákl. prenesená",J170,0) -> 0 | BH170: =IF(N170="zníž. prenesená",J170,0) -> 0 | BI170: =IF(N170="nulová",J170,0) -> 0 | BJ170: 2 | BK170: =ROUND(I170*H170,3) -> 78.06 | BL170: 4 | BM170: 90
D171: D | E171: 922 | F171: Montáž oznamovacích a signalizačných zariadení | J171: =BK171 -> 4296.82 | P171: =P172+SUM(P173:P178) -> 0 | R171: =R172+SUM(R173:R178) -> 0 | T171: =T172+SUM(T173:T178) -> 0 | AR171: 1 | AT171: D | AU171: 0 | AY171: ROZPOCET | BK171: =BK172+SUM(BK173:BK178) -> 4296.82
C172: 46 | D172: K | E172: 220511011 | F172: Montáž zásuvky 2xRJ45 do podlahovej krabice, alebo do žľabu | G172: ks | H172: 34 | I172: 5.49 | J172: =ROUND(I172*H172,3) -> 186.66 | N172: znížená | O172: 0 | P172: =O172*H172 -> 0 | Q172: 0 | R172: =Q172*H172 -> 0 | S172: 0 | T172: =S172*H172 -> 0 | AR172: 4 | AT172: K | AU172: 1 | AY172: ROZPOCET | BE172: =IF(N172="základná",J172,0) -> 0 | BF172: =IF(N172="znížená",J172,0) -> 186.66 | BG172: =IF(N172="zákl. prenesená",J172,0) -> 0 | BH172: =IF(N172="zníž. prenesená",J172,0) -> 0 | BI172: =IF(N172="nulová",J172,0) -> 0 | BJ172: 2 | BK172: =ROUND(I172*H172,3) -> 186.66 | BL172: 4 | BM172: 92
C173: 47 | D173: M | E173: 76571 | F173: PC zásuvka SCHRACK komplet 2xRJ45 | G173: ks | H173: 34 | I173: 6.5 | J173: =ROUND(I173*H173,3) -> 221 | N173: znížená | O173: 0 | P173: =O173*H173 -> 0 | Q173: 0 | R173: =Q173*H173 -> 0 | S173: 0 | T173: =S173*H173 -> 0 | AR173: 8 | AT173: M | AU173: 1 | AY173: ROZPOCET | BE173: =IF(N173="základná",J173,0) -> 0 | BF173: =IF(N173="znížená",J173,0) -> 221 | BG173: =IF(N173="zákl. prenesená",J173,0) -> 0 | BH173: =IF(N173="zníž. prenesená",J173,0) -> 0 | BI173: =IF(N173="nulová",J173,0) -> 0 | BJ173: 2 | BK173: =ROUND(I173*H173,3) -> 221 | BL173: 4 | BM173: 94
C174: 48 | D174: K | E174: Pol38 | F174: Montáž WIFI routra | G174: ks | H174: 2 | I174: 24.17 | J174: =ROUND(I174*H174,3) -> 48.34 | N174: znížená | O174: 0 | P174: =O174*H174 -> 0 | Q174: 0 | R174: =Q174*H174 -> 0 | S174: 0 | T174: =S174*H174 -> 0 | AR174: 4 | AT174: K | AU174: 1 | AY174: ROZPOCET | BE174: =IF(N174="základná",J174,0) -> 0 | BF174: =IF(N174="znížená",J174,0) -> 48.34 | BG174: =IF(N174="zákl. prenesená",J174,0) -> 0 | BH174: =IF(N174="zníž. prenesená",J174,0) -> 0 | BI174: =IF(N174="nulová",J174,0) -> 0 | BJ174: 2 | BK174: =ROUND(I174*H174,3) -> 48.34 | BL174: 4 | BM174: 96
C175: 49 | D175: M | E175: Pol39 | F175: WIFI Router | G175: ks | H175: 2 | I175: 54.51 | J175: =ROUND(I175*H175,3) -> 109.02 | N175: znížená | O175: 0 | P175: =O175*H175 -> 0 | Q175: 0 | R175: =Q175*H175 -> 0 | S175: 0 | T175: =S175*H175 -> 0 | AR175: 8 | AT175: M | AU175: 1 | AY175: ROZPOCET | BE175: =IF(N175="základná",J175,0) -> 0 | BF175: =IF(N175="znížená",J175,0) -> 109.02 | BG175: =IF(N175="zákl. prenesená",J175,0) -> 0 | BH175: =IF(N175="zníž. prenesená",J175,0) -> 0 | BI175: =IF(N175="nulová",J175,0) -> 0 | BJ175: 2 | BK175: =ROUND(I175*H175,3) -> 109.02 | BL175: 4 | BM175: 98
C176: 50 | D176: K | E176: Pol40 | F176: Vodič oznamovací izolovaný U 4 x 0,4 mm uložený v rúrke,lište,so zapojením (pre bytovú výstavbu) | G176: m | H176: 1750 | I176: 0.67 | J176: =ROUND(I176*H176,3) -> 1172.5 | N176: znížená | O176: 0 | P176: =O176*H176 -> 0 | Q176: 0 | R176: =Q176*H176 -> 0 | S176: 0 | T176: =S176*H176 -> 0 | AR176: 4 | AT176: K | AU176: 1 | AY176: ROZPOCET | BE176: =IF(N176="základná",J176,0) -> 0 | BF176: =IF(N176="znížená",J176,0) -> 1172.5 | BG176: =IF(N176="zákl. prenesená",J176,0) -> 0 | BH176: =IF(N176="zníž. prenesená",J176,0) -> 0 | BI176: =IF(N176="nulová",J176,0) -> 0 | BJ176: 2 | BK176: =ROUND(I176*H176,3) -> 1172.5 | BL176: 4 | BM176: 100
C177: 51 | D177: M | E177: Pol41 | F177: Štruktúrovaná kabeláž, FTP LSOH Cat.6a cca | G177: m | H177: 1750 | I177: 0.5 | J177: =ROUND(I177*H177,3) -> 875 | N177: znížená | O177: 0 | P177: =O177*H177 -> 0 | Q177: 0 | R177: =Q177*H177 -> 0 | S177: 0 | T177: =S177*H177 -> 0 | AR177: 8 | AT177: M | AU177: 1 | AY177: ROZPOCET | BE177: =IF(N177="základná",J177,0) -> 0 | BF177: =IF(N177="znížená",J177,0) -> 875 | BG177: =IF(N177="zákl. prenesená",J177,0) -> 0 | BH177: =IF(N177="zníž. prenesená",J177,0) -> 0 | BI177: =IF(N177="nulová",J177,0) -> 0 | BJ177: 2 | BK177: =ROUND(I177*H177,3) -> 875 | BL177: 4 | BM177: 102
D178: D | E178: D1 | J178: =BK178 -> 1684.3 | P178: =SUM(P179:P180) -> 0 | R178: =SUM(R179:R180) -> 0 | T178: =SUM(T179:T180) -> 0 | AR178: 1 | AT178: D | AU178: 1 | AY178: ROZPOCET | BK178: =SUM(BK179:BK180) -> 1684.3
C179: 52 | D179: M | E179: Pol42 | F179: Rozvádzač DTR, vrátane vnútorného vybavenia | G179: sub | H179: 1 | I179: 1635.24 | J179: =ROUND(I179*H179,3) -> 1635.24 | N179: znížená | O179: 0 | P179: =O179*H179 -> 0 | Q179: 0 | R179: =Q179*H179 -> 0 | S179: 0 | T179: =S179*H179 -> 0 | AR179: 8 | AT179: M | AU179: 2 | AY179: ROZPOCET | BE179: =IF(N179="základná",J179,0) -> 0 | BF179: =IF(N179="znížená",J179,0) -> 1635.24 | BG179: =IF(N179="zákl. prenesená",J179,0) -> 0 | BH179: =IF(N179="zníž. prenesená",J179,0) -> 0 | BI179: =IF(N179="nulová",J179,0) -> 0 | BJ179: 2 | BK179: =ROUND(I179*H179,3) -> 1635.24 | BL179: 4 | BM179: 104
C180: 53 | D180: M | E180: Pol43 | F180: pomocný montážny materiál 3% | G180: sub | H180: 1 | I180: 49.06 | J180: =ROUND(I180*H180,3) -> 49.06 | N180: znížená | O180: 0 | P180: =O180*H180 -> 0 | Q180: 0 | R180: =Q180*H180 -> 0 | S180: 0 | T180: =S180*H180 -> 0 | AR180: 8 | AT180: M | AU180: 2 | AY180: ROZPOCET | BE180: =IF(N180="základná",J180,0) -> 0 | BF180: =IF(N180="znížená",J180,0) -> 49.06 | BG180: =IF(N180="zákl. prenesená",J180,0) -> 0 | BH180: =IF(N180="zníž. prenesená",J180,0) -> 0 | BI180: =IF(N180="nulová",J180,0) -> 0 | BJ180: 2 | BK180: =ROUND(I180*H180,3) -> 49.06 | BL180: 4 | BM180: 106
D181: D | E181: 923 | F181: Dodávka a montáž vypínačov, snímačov a svetiel | J181: =BK181 -> 7227.61 | P181: =SUM(P182:P200) -> 0 | R181: =SUM(R182:R200) -> 0 | T181: =SUM(T182:T200) -> 0 | AR181: 1 | AT181: D | AU181: 0 | AY181: ROZPOCET | BK181: =SUM(BK182:BK200) -> 7227.61
C182: 54 | D182: K | E182: Pol44 | F182: Ukončenie kabeláže a príprava na osadenie zariadenia | G182: sub | H182: 1 | I182: 163.52 | J182: =ROUND(I182*H182,3) -> 163.52 | N182: znížená | O182: 0 | P182: =O182*H182 -> 0 | Q182: 0 | R182: =Q182*H182 -> 0 | S182: 0 | T182: =S182*H182 -> 0 | AR182: 4 | AT182: K | AU182: 1 | AY182: ROZPOCET | BE182: =IF(N182="základná",J182,0) -> 0 | BF182: =IF(N182="znížená",J182,0) -> 163.52 | BG182: =IF(N182="zákl. prenesená",J182,0) -> 0 | BH182: =IF(N182="zníž. prenesená",J182,0) -> 0 | BI182: =IF(N182="nulová",J182,0) -> 0 | BJ182: 2 | BK182: =ROUND(I182*H182,3) -> 163.52 | BL182: 4 | BM182: 108
C183: 55 | D183: K | E183: Pol45 | F183: Montáž vypínačov | G183: ks | H183: 104 | I183: 1.29 | J183: =ROUND(I183*H183,3) -> 134.16 | N183: znížená | O183: 0 | P183: =O183*H183 -> 0 | Q183: 0 | R183: =Q183*H183 -> 0 | S183: 0 | T183: =S183*H183 -> 0 | AR183: 4 | AT183: K | AU183: 1 | AY183: ROZPOCET | BE183: =IF(N183="základná",J183,0) -> 0 | BF183: =IF(N183="znížená",J183,0) -> 134.16 | BG183: =IF(N183="zákl. prenesená",J183,0) -> 0 | BH183: =IF(N183="zníž. prenesená",J183,0) -> 0 | BI183: =IF(N183="nulová",J183,0) -> 0 | BJ183: 2 | BK183: =ROUND(I183*H183,3) -> 134.16 | BL183: 4 | BM183: 110
C184: 56 | D184: M | E184: EV100001 | F184: Vypínač č.1, 1-pólový, 10A, pružinové svorky | G184: ks | H184: 73 | I184: 3.33 | J184: =ROUND(I184*H184,3) -> 243.09 | N184: znížená | O184: 0 | P184: =O184*H184 -> 0 | Q184: 0 | R184: =Q184*H184 -> 0 | S184: 0 | T184: =S184*H184 -> 0 | AR184: 8 | AT184: M | AU184: 1 | AY184: ROZPOCET | BE184: =IF(N184="základná",J184,0) -> 0 | BF184: =IF(N184="znížená",J184,0) -> 243.09 | BG184: =IF(N184="zákl. prenesená",J184,0) -> 0 | BH184: =IF(N184="zníž. prenesená",J184,0) -> 0 | BI184: =IF(N184="nulová",J184,0) -> 0 | BJ184: 2 | BK184: =ROUND(I184*H184,3) -> 243.09 | BL184: 4 | BM184: 112
C185: 57 | D185: M | E185: EV100009 | F185: Vypínač sériový č. 5, 10A, pružinové svorky | G185: ks | H185: 17 | I185: 5.14 | J185: =ROUND(I185*H185,3) -> 87.38 | N185: znížená | O185: 0 | P185: =O185*H185 -> 0 | Q185: 0 | R185: =Q185*H185 -> 0 | S185: 0 | T185: =S185*H185 -> 0 | AR185: 8 | AT185: M | AU185: 1 | AY185: ROZPOCET | BE185: =IF(N185="základná",J185,0) -> 0 | BF185: =IF(N185="znížená",J185,0) -> 87.38 | BG185: =IF(N185="zákl. prenesená",J185,0) -> 0 | BH185: =IF(N185="zníž. prenesená",J185,0) -> 0 | BI185: =IF(N185="nulová",J185,0) -> 0 | BJ185: 2 | BK185: =ROUND(I185*H185,3) -> 87.38 | BL185: 4 | BM185: 114
C186: 58 | D186: M | E186: EV10001 | F186: Vypínač striedavý č. 6, 10A, pružinové svorky | G186: ks | H186: 14 | I186: 6.61 | J186: =ROUND(I186*H186,3) -> 92.54 | N186: znížená | O186: 0 | P186: =O186*H186 -> 0 | Q186: 0 | R186: =Q186*H186 -> 0 | S186: 0 | T186: =S186*H186 -> 0 | AR186: 8 | AT186: M | AU186: 1 | AY186: ROZPOCET | BE186: =IF(N186="základná",J186,0) -> 0 | BF186: =IF(N186="znížená",J186,0) -> 92.54 | BG186: =IF(N186="zákl. prenesená",J186,0) -> 0 | BH186: =IF(N186="zníž. prenesená",J186,0) -> 0 | BI186: =IF(N186="nulová",J186,0) -> 0 | BJ186: 2 | BK186: =ROUND(I186*H186,3) -> 92.54 | BL186: 4 | BM186: 116
C187: 59 | D187: K | E187: Pol46 | F187: Montáž pohybového spínača interierového | G187: ks | H187: 6 | I187: 2.64 | J187: =ROUND(I187*H187,3) -> 15.84 | N187: znížená | O187: 0 | P187: =O187*H187 -> 0 | Q187: 0 | R187: =Q187*H187 -> 0 | S187: 0 | T187: =S187*H187 -> 0 | AR187: 4 | AT187: K | AU187: 1 | AY187: ROZPOCET | BE187: =IF(N187="základná",J187,0) -> 0 | BF187: =IF(N187="znížená",J187,0) -> 15.84 | BG187: =IF(N187="zákl. prenesená",J187,0) -> 0 | BH187: =IF(N187="zníž. prenesená",J187,0) -> 0 | BI187: =IF(N187="nulová",J187,0) -> 0 | BJ187: 2 | BK187: =ROUND(I187*H187,3) -> 15.84 | BL187: 4 | BM187: 118
C188: 60 | D188: M | E188: Pol47 | F188: Pohybový spínač interierový | G188: ks | H188: 6 | I188: 10.41 | J188: =ROUND(I188*H188,3) -> 62.46 | N188: znížená | O188: 0 | P188: =O188*H188 -> 0 | Q188: 0 | R188: =Q188*H188 -> 0 | S188: 0 | T188: =S188*H188 -> 0 | AR188: 8 | AT188: M | AU188: 1 | AY188: ROZPOCET | BE188: =IF(N188="základná",J188,0) -> 0 | BF188: =IF(N188="znížená",J188,0) -> 62.46 | BG188: =IF(N188="zákl. prenesená",J188,0) -> 0 | BH188: =IF(N188="zníž. prenesená",J188,0) -> 0 | BI188: =IF(N188="nulová",J188,0) -> 0 | BJ188: 2 | BK188: =ROUND(I188*H188,3) -> 62.46 | BL188: 4 | BM188: 120
C189: 61 | D189: M | E189: LILE0001 | F189: Svietidlo Elegance Round II 15W 1500lm 3000K ECG IP44 biele | G189: ks | H189: 12 | I189: 45.87 | J189: =ROUND(I189*H189,3) -> 550.44 | N189: znížená | O189: 0 | P189: =O189*H189 -> 0 | Q189: 0 | R189: =Q189*H189 -> 0 | S189: 0 | T189: =S189*H189 -> 0 | AR189: 8 | AT189: M | AU189: 1 | AY189: ROZPOCET | BE189: =IF(N189="základná",J189,0) -> 0 | BF189: =IF(N189="znížená",J189,0) -> 550.44 | BG189: =IF(N189="zákl. prenesená",J189,0) -> 0 | BH189: =IF(N189="zníž. prenesená",J189,0) -> 0 | BI189: =IF(N189="nulová",J189,0) -> 0 | BJ189: 2 | BK189: =ROUND(I189*H189,3) -> 550.44 | BL189: 4 | BM189: 122
C190: 62 | D190: M | E190: LILE0009 | F190: Svietidlo Elegance Round III 27W 2800lm 3000K ECG IP20 biele | G190: ks | H190: 30 | I190: 78.37 | J190: =ROUND(I190*H190,3) -> 2351.1 | N190: znížená | O190: 0 | P190: =O190*H190 -> 0 | Q190: 0 | R190: =Q190*H190 -> 0 | S190: 0 | T190: =S190*H190 -> 0 | AR190: 8 | AT190: M | AU190: 1 | AY190: ROZPOCET | BE190: =IF(N190="základná",J190,0) -> 0 | BF190: =IF(N190="znížená",J190,0) -> 2351.1 | BG190: =IF(N190="zákl. prenesená",J190,0) -> 0 | BH190: =IF(N190="zníž. prenesená",J190,0) -> 0 | BI190: =IF(N190="nulová",J190,0) -> 0 | BJ190: 2 | BK190: =ROUND(I190*H190,3) -> 2351.1 | BL190: 4 | BM190: 124
C191: 63 | D191: M | E191: LILE0011 | F191: Svietidlo Elegance Round III 27W 2800lm 4000K ECG IP20 biele | G191: ks | H191: 6 | I191: 78.37 | J191: =ROUND(I191*H191,3) -> 470.22 | N191: znížená | O191: 0 | P191: =O191*H191 -> 0 | Q191: 0 | R191: =Q191*H191 -> 0 | S191: 0 | T191: =S191*H191 -> 0 | AR191: 8 | AT191: M | AU191: 1 | AY191: ROZPOCET | BE191: =IF(N191="základná",J191,0) -> 0 | BF191: =IF(N191="znížená",J191,0) -> 470.22 | BG191: =IF(N191="zákl. prenesená",J191,0) -> 0 | BH191: =IF(N191="zníž. prenesená",J191,0) -> 0 | BI191: =IF(N191="nulová",J191,0) -> 0 | BJ191: 2 | BK191: =ROUND(I191*H191,3) -> 470.22 | BL191: 4 | BM191: 126
C192: 64 | D192: M | E192: LITP0013 | F192: Svietidlo Lano Eco LED 40W 840 4000lm M600 opálový dif. | G192: ks | H192: 15 | I192: 25.57 | J192: =ROUND(I192*H192,3) -> 383.55 | N192: znížená | O192: 0 | P192: =O192*H192 -> 0 | Q192: 0 | R192: =Q192*H192 -> 0 | S192: 0 | T192: =S192*H192 -> 0 | AR192: 8 | AT192: M | AU192: 1 | AY192: ROZPOCET | BE192: =IF(N192="základná",J192,0) -> 0 | BF192: =IF(N192="znížená",J192,0) -> 383.55 | BG192: =IF(N192="zákl. prenesená",J192,0) -> 0 | BH192: =IF(N192="zníž. prenesená",J192,0) -> 0 | BI192: =IF(N192="nulová",J192,0) -> 0 | BJ192: 2 | BK192: =ROUND(I192*H192,3) -> 383.55 | BL192: 4 | BM192: 128
C193: 65 | D193: M | E193: LITP0028 | F193: Trafo LED napájač 40W, 1000mA, pre sériu LANO ECO LED | G193: ks | H193: 15 | I193: 8.02 | J193: =ROUND(I193*H193,3) -> 120.3 | N193: znížená | O193: 0 | P193: =O193*H193 -> 0 | Q193: 0 | R193: =Q193*H193 -> 0 | S193: 0 | T193: =S193*H193 -> 0 | AR193: 8 | AT193: M | AU193: 1 | AY193: ROZPOCET | BE193: =IF(N193="základná",J193,0) -> 0 | BF193: =IF(N193="znížená",J193,0) -> 120.3 | BG193: =IF(N193="zákl. prenesená",J193,0) -> 0 | BH193: =IF(N193="zníž. prenesená",J193,0) -> 0 | BI193: =IF(N193="nulová",J193,0) -> 0 | BJ193: 2 | BK193: =ROUND(I193*H193,3) -> 120.3 | BL193: 4 | BM193: 130
... C200: 72 | D200: M | E200: Pol48 | F200: pomocný montážny materiál 3% | G200: ks | H200: 1 | I200: 201.37 | J200: =ROUND(I200*H200,3) -> 201.37 | N200: znížená | O200: 0 | P200: =O200*H200 -> 0 | Q200: 0 | R200: =Q200*H200 -> 0 | S200: 0 | T200: =S200*H200 -> 0 | AR200: 8 | AT200: M | AU200: 1 | AY200: ROZPOCET | BE200: =IF(N200="základná",J200,0) -> 0 | BF200: =IF(N200="znížená",J200,0) -> 201.37 | BG200: =IF(N200="zákl. prenesená",J200,0) -> 0 | BH200: =IF(N200="zníž. prenesená",J200,0) -> 0 | BI200: =IF(N200="nulová",J200,0) -> 0 | BJ200: 2 | BK200: =ROUND(I200*H200,3) -> 201.37 | BL200: 4 | BM200: 144
D201: D | E201: 924 | F201: Dodávka a montáž systemových prvkov a rozvádzača | J201: =BK201 -> 9705.11 | P201: =SUM(P202:P208) -> 0 | R201: =SUM(R202:R208) -> 0 | T201: =SUM(T202:T208) -> 0 | AR201: 1 | AT201: D | AU201: 0 | AY201: ROZPOCET | BK201: =SUM(BK202:BK208) -> 9705.11
C202: 73 | D202: M | E202: Pol49 | F202: Doplnenie do rozvádzača HR | G202: ks | H202: 1 | I202: 266.37 | J202: =ROUND(I202*H202,3) -> 266.37 | N202: znížená | O202: 0 | P202: =O202*H202 -> 0 | Q202: 0 | R202: =Q202*H202 -> 0 | S202: 0 | T202: =S202*H202 -> 0 | AR202: 8 | AT202: M | AU202: 1 | AY202: ROZPOCET | BE202: =IF(N202="základná",J202,0) -> 0 | BF202: =IF(N202="znížená",J202,0) -> 266.37 | BG202: =IF(N202="zákl. prenesená",J202,0) -> 0 | BH202: =IF(N202="zníž. prenesená",J202,0) -> 0 | BI202: =IF(N202="nulová",J202,0) -> 0 | BJ202: 2 | BK202: =ROUND(I202*H202,3) -> 266.37 | BL202: 4 | BM202: 146
C203: 74 | D203: M | E203: Pol50 | F203: Výroba a montáž rozvádzačov RA10,RA9,RA5,RA4, R1.12,R1.43 | G203: ks | H203: 6 | I203: 1294.6 | J203: =ROUND(I203*H203,3) -> 7767.6 | N203: znížená | O203: 0 | P203: =O203*H203 -> 0 | Q203: 0 | R203: =Q203*H203 -> 0 | S203: 0 | T203: =S203*H203 -> 0 | AR203: 8 | AT203: M | AU203: 1 | AY203: ROZPOCET | BE203: =IF(N203="základná",J203,0) -> 0 | BF203: =IF(N203="znížená",J203,0) -> 7767.6 | BG203: =IF(N203="zákl. prenesená",J203,0) -> 0 | BH203: =IF(N203="zníž. prenesená",J203,0) -> 0 | BI203: =IF(N203="nulová",J203,0) -> 0 | BJ203: 2 | BK203: =ROUND(I203*H203,3) -> 7767.6 | BL203: 4 | BM203: 148
C204: 75 | D204: M | E204: Pol51 | F204: Výroba a montáž rozvádzačov R1.26, R1.38 | G204: ks | H204: 0 | I204: 0 | J204: =ROUND(I204*H204,3) -> 0 | N204: znížená | O204: 0 | P204: =O204*H204 -> 0 | Q204: 0 | R204: =Q204*H204 -> 0 | S204: 0 | T204: =S204*H204 -> 0 | AR204: 8 | AT204: M | AU204: 1 | AY204: ROZPOCET | BE204: =IF(N204="základná",J204,0) -> 0 | BF204: =IF(N204="znížená",J204,0) -> 0 | BG204: =IF(N204="zákl. prenesená",J204,0) -> 0 | BH204: =IF(N204="zníž. prenesená",J204,0) -> 0 | BI204: =IF(N204="nulová",J204,0) -> 0 | BJ204: 2 | BK204: =ROUND(I204*H204,3) -> 0 | BL204: 4 | BM204: 150
...

Sheet SO04 - Oprava súvisiacich...
L2: >> skryté stĺpce << | AT2: {121657fc-d0fd-46b6-b0f0-f9630c7b81ae}
AT3: 0
D4: KRYCÍ LIST ROZPOČTU | M4: v --- nižšie sa nachádzajú doplnkové a pomocné údaje k zostavám --- v | AT4: False
D6: Stavba:
E7: ='Rekapitulácia stavby'!K6 -> Oprava internátu SPoŠ 1NP Bernolákovo bunky A10,A9,A5,A4 + vstup,čiastočne chodba 1.04
D8: Objekt:
E9: SO04 - Oprava súvisiacich priestorov - chodba 1.04 + požiarna deliaca stena
D11: JKSO: | I11: KS:
D12: Miesto: | I12: Dátum: | J12: 44172
D14: Objednávateľ: | F14: Spojená škola, ul. SNP 30, 900 28 Ivanka pri Dunaji | I14: IČO: | J14: =IF('Rekapitulácia stavby'!AN10="","",'Rekapitulácia stavby'!AN10)
E15: =IF('Rekapitulácia stavby'!E11="","",'Rekapitulácia stavby'!E11) | I15: IČ DPH: | J15: =IF('Rekapitulácia stavby'!AN11="","",'Rekapitulácia stavby'!AN11)
D17: Zhotoviteľ: | F17: Ferrmont a.s. Púchov | I17: IČO: | J17: ='Rekapitulácia stavby'!AN13 -> 31619916
E18: ='Rekapitulácia stavby'!E14 | I18: IČ DPH: | J18: ='Rekapitulácia stavby'!AN14 -> SK2020441907
D20: Projektant: | I20: IČO: | J20: =IF('Rekapitulácia stavby'!AN16="","",'Rekapitulácia stavby'!AN16)
E21: =IF('Rekapitulácia stavby'!E17="","",'Rekapitulácia stavby'!E17) | I21: IČ DPH: | J21: =IF('Rekapitulácia stavby'!AN17="","",'Rekapitulácia stavby'!AN17)
D23: Spracovateľ: | I23: IČO: | J23: =IF('Rekapitulácia stavby'!AN19="","",'Rekapitulácia stavby'!AN19)
E24: =IF('Rekapitulácia stavby'!E20="","",'Rekapitulácia stavby'!E20) | I24: IČ DPH: | J24: =IF('Rekapitulácia stavby'!AN20="","",'Rekapitulácia stavby'!AN20)
D26: Poznámka:
D30: Cena bez DPH | J30: =ROUND(J128, 2) -> 35889.79
F32: Základ dane | I32: Sadzba dane | J32: Výška dane
D33: DPH | E33: základná | F33: =ROUND((SUM(BE128:BE218)), 2) -> 0 | I33: 0.2 | J33: =ROUND(((SUM(BE128:BE218))*I33), 2) -> 0
E34: znížená | F34: =ROUND((SUM(BF128:BF218)), 2) -> 35889.79 | I34: 0.2 | J34: =ROUND(((SUM(BF128:BF218))*I34), 2) -> 7177.96
E35: zákl. prenesená | F35: =ROUND((SUM(BG128:BG218)), 2) -> 0 | I35: 0.2 | J35: =0 -> 0
E36: zníž. prenesená | F36: =ROUND((SUM(BH128:BH218)), 2) -> 0 | I36: 0.2 | J36: =0 -> 0
E37: nulová | F37: =ROUND((SUM(BI128:BI218)), 2) -> 0 | I37: 0 | J37: =0 -> 0
D39: Cena s DPH | G39: v | H39: EUR | J39: =SUM(J30:J37) -> 43067.75
D50: Projektant | G50: Spracovateľ
D61: Dátum a podpis: | F61: Pečiatka | G61: Dátum a podpis: | J61: Pečiatka
D65: Objednávateľ | G65: Zhotoviteľ
D76: Dátum a podpis: | F76: Pečiatka | G76: Dátum a podpis: | J76: Pečiatka
C82: REKAPITULÁCIA ROZPOČTU
C84: Stavba:
E85: =E7 -> Oprava internátu SPoŠ 1NP Bernolákovo bunky A10,A9,A5,A4 + vstup,čiastočne chodba 1.04
C86: Objekt:
E87: =E9 -> SO04 - Oprava súvisiacich priestorov - chodba 1.04 + požiarna deliaca stena
C89: Miesto: | F89: =F12 | I89: Dátum: | J89: 44172
C91: Objednávateľ: | F91: Spojená škola, ul. SNP 30, 900 28 Ivanka pri Dunaji | I91: Projektant: | J91: =E21
C92: Zhotoviteľ: | F92: Ferrmont a.s. Púchov | I92: Spracovateľ: | J92: =E24
C94: Kód dielu - Popis | J94: Cena celkom [EUR]
C96: Náklady z rozpočtu | J96: =J128 -> 35889.785 | AU96: -1
D97: HSV - Práce a dodávky HSV | J97: =J129 -> 15997.112
D98: 3 - Zvislé a kompletné konštrukcie | J98: =J130 -> 383.4
D99: 6 - Úpravy povrchov, podlahy, osadenie | J99: =J134 -> 10222.757
D100: 9 - Ostatné konštrukcie a práce-búranie | J100: =J149 -> 5212.989
D101: 99 - Presun hmôt HSV | J101: =J162 -> 177.966
D102: PSV - Práce a dodávky PSV | J102: =J164 -> 19507.073
D103: 713 - Izolácie tepelné | J103: =J165 -> 3490.074
D104: 766 - Konštrukcie stolárske | J104: =J169 -> 7699.18
D105: 767 - Konštrukcie doplnkové kovové | J105: =J186 -> 4549.41
D106: 776 - Podlahy povlakové | J106: =J195 -> 2978.401
D107: 784 - Maľby | J107: =J208 -> 790.008
D108: HZS - Hodinové zúčtovacie sadzby | J108: =J217 -> 385.6
C115: ROZPOČET
C117: Stavba:
E118: =E7 -> Oprava internátu SPoŠ 1NP Bernolákovo bunky A10,A9,A5,A4 + vstup,čiastočne chodba 1.04
C119: Objekt:
E120: =E9 -> SO04 - Oprava súvisiacich priestorov - chodba 1.04 + požiarna deliaca stena
C122: Miesto: | F122: =F12 | I122: Dátum: | J122: 44172
C124: Objednávateľ: | F124: Spojená škola, ul. SNP 30, 900 28 Ivanka pri Dunaji | I124: Projektant: | J124: =E21
C125: Zhotoviteľ: | F125: Ferrmont a.s. Púchov | I125: Spracovateľ: | J125: =E24
C127: PČ | D127: Typ | E127: Kód | F127: Popis | G127: MJ | H127: Množstvo | I127: J.cena [EUR] | J127: Cena celkom [EUR] | K127: Cenová sústava | N127: DPH | O127: J. Nh [h] | P127: Nh celkom [h] | Q127: J. hmotnosť [t] | R127: Hmotnosť celkom [t] | S127: J. suť [t] | T127: Suť Celkom [t]
C128: Náklady z rozpočtu | J128: =BK128 -> 35889.785 | P128: =P129+P164+P217 -> 62.167333 | R128: =R129+R164+R217 -> 0.137862 | T128: =T129+T164+T217 -> 57.1593 | AT128: D | AU128: -1 | BK128: =BK129+BK164+BK217 -> 35889.785
D129: D | E129: HSV | F129: Práce a dodávky HSV | J129: =BK129 -> 15997.112 | P129: =P130+P134+P149+P162 -> 48.125748 | R129: =R130+R134+R149+R162 -> 0 | T129: =T130+T134+T149+T162 -> 57.1593 | AR129: 1 | AT129: D | AU129: 0 | AY129: ROZPOCET | BK129: =BK130+BK134+BK149+BK162 -> 15997.112
D130: D | E130: 3 | F130: Zvislé a kompletné konštrukcie | J130: =BK130 -> 383.4 | P130: =SUM(P131:P133) -> 0 | R130: =SUM(R131:R133) -> 0 | T130: =SUM(T131:T133) -> 0 | AR130: 1 | AT130: D | AU130: 1 | AY130: ROZPOCET | BK130: =SUM(BK131:BK133) -> 383.4
C131: 1 | D131: K | E131: 342272104 | F131: Priečky z tvárnic YTONG hr. 150 mm P2-500 hladkých, na MVC a maltu YTONG (150x249x599) | G131: m2 | H131: 10.935 | I131: 32 | J131: =ROUND(I131*H131,3) -> 349.92 | N131: znížená | O131: 0 | P131: =O131*H131 -> 0 | Q131: 0 | R131: =Q131*H131 -> 0 | S131: 0 | T131: =S131*H131 -> 0 | AR131: 4 | AT131: K | AU131: 2 | AY131: ROZPOCET | BE131: =IF(N131="základná",J131,0) -> 0 | BF131: =IF(N131="znížená",J131,0) -> 349.92 | BG131: =IF(N131="zákl. prenesená",J131,0) -> 0 | BH131: =IF(N131="zníž. prenesená",J131,0) -> 0 | BI131: =IF(N131="nulová",J131,0) -> 0 | BJ131: 2 | BK131: =ROUND(I131*H131,3) -> 349.92 | BL131: 4 | BM131: 2
C132: 2 | D132: K | E132: 342948113 | F132: Ukotvenie priečok k betónovým konštrukciám priskrutkovaním | G132: m | H132: 5.4 | I132: 4.5 | J132: =ROUND(I132*H132,3) -> 24.3 | N132: znížená | O132: 0 | P132: =O132*H132 -> 0 | Q132: 0 | R132: =Q132*H132 -> 0 | S132: 0 | T132: =S132*H132 -> 0 | AR132: 4 | AT132: K | AU132: 2 | AY132: ROZPOCET | BE132: =IF(N132="základná",J132,0) -> 0 | BF132: =IF(N132="znížená",J132,0) -> 24.3 | BG132: =IF(N132="zákl. prenesená",J132,0) -> 0 | BH132: =IF(N132="zníž. prenesená",J132,0) -> 0 | BI132: =IF(N132="nulová",J132,0) -> 0 | BJ132: 2 | BK132: =ROUND(I132*H132,3) -> 24.3 | BL132: 4 | BM132: 4
C133: 3 | D133: K | E133: 342948115 | F133: Ukončenie priečok ku konštrukciam montážnou penou | G133: m | H133: 5.1 | I133: 1.8 | J133: =ROUND(I133*H133,3) -> 9.18 | N133: znížená | O133: 0 | P133: =O133*H133 -> 0 | Q133: 0 | R133: =Q133*H133 -> 0 | S133: 0 | T133: =S133*H133 -> 0 | AR133: 4 | AT133: K | AU133: 2 | AY133: ROZPOCET | BE133: =IF(N133="základná",J133,0) -> 0 | BF133: =IF(N133="znížená",J133,0) -> 9.18 | BG133: =IF(N133="zákl. prenesená",J133,0) -> 0 | BH133: =IF(N133="zníž. prenesená",J133,0) -> 0 | BI133: =IF(N133="nulová",J133,0) -> 0 | BJ133: 2 | BK133: =ROUND(I133*H133,3) -> 9.18 | BL133: 4 | BM133: 6
D134: D | E134: 6 | F134: Úpravy povrchov, podlahy, osadenie | J134: =BK134 -> 10222.757 | P134: =SUM(P135:P148) -> 0 | R134: =SUM(R135:R148) -> 0 | T134: =SUM(T135:T148) -> 32.967 | AR134: 1 | AT134: D | AU134: 1 | AY134: ROZPOCET | BK134: =SUM(BK135:BK148) -> 10222.757
C135: 4 | D135: K | E135: 612409991 | F135: Začistenie omietok (s dodaním hmoty) okolo dverí,podláh, obkladov atď. | G135: m | H135: 178.2 | I135: 2.13 | J135: =ROUND(I135*H135,3) -> 379.566 | N135: znížená | O135: 0 | P135: =O135*H135 -> 0 | Q135: 0 | R135: =Q135*H135 -> 0 | S135: 0.185 | T135: =S135*H135 -> 32.967 | AR135: 4 | AT135: K | AU135: 2 | AY135: ROZPOCET | BE135: =IF(N135="základná",J135,0) -> 0 | BF135: =IF(N135="znížená",J135,0) -> 379.566 | BG135: =IF(N135="zákl. prenesená",J135,0) -> 0 | BH135: =IF(N135="zníž. prenesená",J135,0) -> 0 | BI135: =IF(N135="nulová",J135,0) -> 0 | BJ135: 2 | BK135: =ROUND(I135*H135,3) -> 379.566 | BL135: 4 | BM135: 8
C136: 5 | D136: K | E136: 612421431 | F136: Oprava vnútorných vápenných omietok stien, v množstve opravenej plochy nad 30 do 50 % štukových ozn.a1 | G136: m2 | H136: 188.22 | I136: 7.99 | J136: =ROUND(I136*H136,3) -> 1503.878 | N136: znížená | O136: 0 | P136: =O136*H136 -> 0 | Q136: 0 | R136: =Q136*H136 -> 0 | S136: 0 | T136: =S136*H136 -> 0 | AR136: 4 | AT136: K | AU136: 2 | AY136: ROZPOCET | BE136: =IF(N136="základná",J136,0) -> 0 | BF136: =IF(N136="znížená",J136,0) -> 1503.878 | BG136: =IF(N136="zákl. prenesená",J136,0) -> 0 | BH136: =IF(N136="zníž. prenesená",J136,0) -> 0 | BI136: =IF(N136="nulová",J136,0) -> 0 | BJ136: 2 | BK136: =ROUND(I136*H136,3) -> 1503.878 | BL136: 4 | BM136: 10
C137: 6 | D137: K | E137: 612460121 | F137: Príprava vnútorného podkladu stien penetráciou základnou | G137: m2 | H137: 188.2 | I137: 1.96 | J137: =ROUND(I137*H137,3) -> 368.872 | N137: znížená | O137: 0 | P137: =O137*H137 -> 0 | Q137: 0 | R137: =Q137*H137 -> 0 | S137: 0 | T137: =S137*H137 -> 0 | AR137: 4 | AT137: K | AU137: 2 | AY137: ROZPOCET | BE137: =IF(N137="základná",J137,0) -> 0 | BF137: =IF(N137="znížená",J137,0) -> 368.872 | BG137: =IF(N137="zákl. prenesená",J137,0) -> 0 | BH137: =IF(N137="zníž. prenesená",J137,0) -> 0 | BI137: =IF(N137="nulová",J137,0) -> 0 | BJ137: 2 | BK137: =ROUND(I137*H137,3) -> 368.872 | BL137: 4 | BM137: 12
C138: 7 | D138: K | E138: 612460223 | F138: Vnútorná omietka stien vápenná štuková ozn.a | G138: m2 | H138: 188.2 | I138: 9.1 | J138: =ROUND(I138*H138,3) -> 1712.62 | N138: znížená | O138: 0 | P138: =O138*H138 -> 0 | Q138: 0 | R138: =Q138*H138 -> 0 | S138: 0 | T138: =S138*H138 -> 0 | AR138: 4 | AT138: K | AU138: 2 | AY138: ROZPOCET | BE138: =IF(N138="základná",J138,0) -> 0 | BF138: =IF(N138="znížená",J138,0) -> 1712.62 | BG138: =IF(N138="zákl. prenesená",J138,0) -> 0 | BH138: =IF(N138="zníž. prenesená",J138,0) -> 0 | BI138: =IF(N138="nulová",J138,0) -> 0 | BJ138: 2 | BK138: =ROUND(I138*H138,3) -> 1712.62 | BL138: 4 | BM138: 14
C139: 8 | D139: K | E139: 612481119 | F139: Potiahnutie vnútorných stien sklotextílnou mriežkou s celoplošným prilepením | G139: m2 | H139: 188.2 | I139: 5.23 | J139: =ROUND(I139*H139,3) -> 984.286 | N139: znížená | O139: 0 | P139: =O139*H139 -> 0 | Q139: 0 | R139: =Q139*H139 -> 0 | S139: 0 | T139: =S139*H139 -> 0 | AR139: 4 | AT139: K | AU139: 2 | AY139: ROZPOCET | BE139: =IF(N139="základná",J139,0) -> 0 | BF139: =IF(N139="znížená",J139,0) -> 984.286 | BG139: =IF(N139="zákl. prenesená",J139,0) -> 0 | BH139: =IF(N139="zníž. prenesená",J139,0) -> 0 | BI139: =IF(N139="nulová",J139,0) -> 0 | BJ139: 2 | BK139: =ROUND(I139*H139,3) -> 984.286 | BL139: 4 | BM139: 16
C140: 9 | D140: K | E140: 631312141 | F140: Doplnenie existujúcich mazanín prostým betónom (s dodaním hmôt) bez poteru rýh v mazaninách | G140: m3 | H140: 3.5 | I140: 143.22 | J140: =ROUND(I140*H140,3) -> 501.27 | N140: znížená | O140: 0 | P140: =O140*H140 -> 0 | Q140: 0 | R140: =Q140*H140 -> 0 | S140: 0 | T140: =S140*H140 -> 0 | AR140: 4 | AT140: K | AU140: 2 | AY140: ROZPOCET | BE140: =IF(N140="základná",J140,0) -> 0 | BF140: =IF(N140="znížená",J140,0) -> 501.27 | BG140: =IF(N140="zákl. prenesená",J140,0) -> 0 | BH140: =IF(N140="zníž. prenesená",J140,0) -> 0 | BI140: =IF(N140="nulová",J140,0) -> 0 | BJ140: 2 | BK140: =ROUND(I140*H140,3) -> 501.27 | BL140: 4 | BM140: 18
C141: 10 | D141: K | E141: 632457605 | F141: Cementová samonivelizačná hmota Weber - Terranova, weber.floor 4610, triedy CT-C35-F10, hr. 10 mm | G141: m2 | H141: 92.75 | I141: 24.82 | J141: =ROUND(I141*H141,3) -> 2302.055 | N141: znížená | O141: 0 | P141: =O141*H141 -> 0 | Q141: 0 | R141: =Q141*H141 -> 0 | S141: 0 | T141: =S141*H141 -> 0 | AR141: 4 | AT141: K | AU141: 2 | AY141: ROZPOCET | BE141: =IF(N141="základná",J141,0) -> 0 | BF141: =IF(N141="znížená",J141,0) -> 2302.055 | BG141: =IF(N141="zákl. prenesená",J141,0) -> 0 | BH141: =IF(N141="zníž. prenesená",J141,0) -> 0 | BI141: =IF(N141="nulová",J141,0) -> 0 | BJ141: 2 | BK141: =ROUND(I141*H141,3) -> 2302.055 | BL141: 4 | BM141: 20
C142: 11 | D142: K | E142: 642940020 | F142: Vyliatie ukotvenej zárubne čerstvým betónom | G142: ks | H142: 4 | I142: 74.83 | J142: =ROUND(I142*H142,3) -> 299.32 | N142: znížená | O142: 0 | P142: =O142*H142 -> 0 | Q142: 0 | R142: =Q142*H142 -> 0 | S142: 0 | T142: =S142*H142 -> 0 | AR142: 4 | AT142: K | AU142: 2 | AY142: ROZPOCET | BE142: =IF(N142="základná",J142,0) -> 0 | BF142: =IF(N142="znížená",J142,0) -> 299.32 | BG142: =IF(N142="zákl. prenesená",J142,0) -> 0 | BH142: =IF(N142="zníž. prenesená",J142,0) -> 0 | BI142: =IF(N142="nulová",J142,0) -> 0 | BJ142: 2 | BK142: =ROUND(I142*H142,3) -> 299.32 | BL142: 4 | BM142: 22
C143: 12 | D143: K | E143: 642944221 | F143: Dodatočná montáž oceľovej dverovej zárubne, plochy otvoru 2,5 - 4,5 m2 | G143: ks | H143: 1 | I143: 70.02 | J143: =ROUND(I143*H143,3) -> 70.02 | N143: znížená | O143: 0 | P143: =O143*H143 -> 0 | Q143: 0 | R143: =Q143*H143 -> 0 | S143: 0 | T143: =S143*H143 -> 0 | AR143: 4 | AT143: K | AU143: 2 | AY143: ROZPOCET | BE143: =IF(N143="základná",J143,0) -> 0 | BF143: =IF(N143="znížená",J143,0) -> 70.02 | BG143: =IF(N143="zákl. prenesená",J143,0) -> 0 | BH143: =IF(N143="zníž. prenesená",J143,0) -> 0 | BI143: =IF(N143="nulová",J143,0) -> 0 | BJ143: 2 | BK143: =ROUND(I143*H143,3) -> 70.02 | BL143: 4 | BM143: 24
C144: 13 | D144: M | E144: 553310002300 | F144: Zárubňa kovová šxv 300-1700 x do 2600 mm, dvojdielna na dodatočnú montáž | G144: ks | H144: 1 | I144: 168.57 | J144: =ROUND(I144*H144,3) -> 168.57 | N144: znížená | O144: 0 | P144: =O144*H144 -> 0 | Q144: 0 | R144: =Q144*H144 -> 0 | S144: 0 | T144: =S144*H144 -> 0 | AR144: 8 | AT144: M | AU144: 2 | AY144: ROZPOCET | BE144: =IF(N144="základná",J144,0) -> 0 | BF144: =IF(N144="znížená",J144,0) -> 168.57 | BG144: =IF(N144="zákl. prenesená",J144,0) -> 0 | BH144: =IF(N144="zníž. prenesená",J144,0) -> 0 | BI144: =IF(N144="nulová",J144,0) -> 0 | BJ144: 2 | BK144: =ROUND(I144*H144,3) -> 168.57 | BL144: 4 | BM144: 26
C145: 14 | D145: K | E145: 642945111 | F145: Osadenie oceľ. zárubní protipož. dverí s obetónov. jednokrídlové do 2,5 m2 | G145: ks | H145: 3 | I145: 198.21 | J145: =ROUND(I145*H145,3) -> 594.63 | N145: znížená | O145: 0 | P145: =O145*H145 -> 0 | Q145: 0 | R145: =Q145*H145 -> 0 | S145: 0 | T145: =S145*H145 -> 0 | AR145: 4 | AT145: K | AU145: 2 | AY145: ROZPOCET | BE145: =IF(N145="základná",J145,0) -> 0 | BF145: =IF(N145="znížená",J145,0) -> 594.63 | BG145: =IF(N145="zákl. prenesená",J145,0) -> 0 | BH145: =IF(N145="zníž. prenesená",J145,0) -> 0 | BI145: =IF(N145="nulová",J145,0) -> 0 | BJ145: 2 | BK145: =ROUND(I145*H145,3) -> 594.63 | BL145: 4 | BM145: 1190841416
C146: 15 | D146: M | E146: 553310010308 | F146: Zárubňa požiarna oceľová, šxvxhr 800x1970x170 mm | G146: ks | H146: 3 | I146: 111.64 | J146: =ROUND(I146*H146,3) -> 334.92 | N146: znížená | O146: 0 | P146: =O146*H146 -> 0 | Q146: 0 | R146: =Q146*H146 -> 0 | S146: 0 | T146: =S146*H146 -> 0 | AR146: 8 | AT146: M | AU146: 2 | AY146: ROZPOCET | BE146: =IF(N146="základná",J146,0) -> 0 | BF146: =IF(N146="znížená",J146,0) -> 334.92 | BG146: =IF(N146="zákl. prenesená",J146,0) -> 0 | BH146: =IF(N146="zníž. prenesená",J146,0) -> 0 | BI146: =IF(N146="nulová",J146,0) -> 0 | BJ146: 2 | BK146: =ROUND(I146*H146,3) -> 334.92 | BL146: 4 | BM146: -2127723050
... C148: 17 | D148: M | E148: 553310010300 | F148: Zárubňa oceľová CgU šxv 1650x1970 mm pre požiarne dvojkrídlové dvere | G148: ks | H148: 3 | I148: 96.95 | J148: =ROUND(I148*H148,3) -> 290.85 | N148: znížená | O148: 0 | P148: =O148*H148 -> 0 | Q148: 0 | R148: =Q148*H148 -> 0 | S148: 0 | T148: =S148*H148 -> 0 | AR148: 8 | AT148: M | AU148: 2 | AY148: ROZPOCET | BE148: =IF(N148="základná",J148,0) -> 0 | BF148: =IF(N148="znížená",J148,0) -> 290.85 | BG148: =IF(N148="zákl. prenesená",J148,0) -> 0 | BH148: =IF(N148="zníž. prenesená",J148,0) -> 0 | BI148: =IF(N148="nulová",J148,0) -> 0 | BJ148: 2 | BK148: =ROUND(I148*H148,3) -> 290.85 | BL148: 4 | BM148: 30
D149: D | E149: 9 | F149: Ostatné konštrukcie a práce-búranie | J149: =BK149 -> 5212.989 | P149: =SUM(P150:P161) -> 48.125748 | R149: =SUM(R150:R161) -> 0 | T149: =SUM(T150:T161) -> 24.1923 | AR149: 1 | AT149: D | AU149: 1 | AY149: ROZPOCET | BK149: =SUM(BK150:BK161) -> 5212.989
C150: 18 | D150: K | E150: 941955001 | F150: Lešenie ľahké pracovné pomocné, s výškou lešeňovej podlahy do 1,20 m | G150: m2 | H150: 200 | I150: 2.84 | J150: =ROUND(I150*H150,3) -> 568 | N150: znížená | O150: 0 | P150: =O150*H150 -> 0 | Q150: 0 | R150: =Q150*H150 -> 0 | S150: 0 | T150: =S150*H150 -> 0 | AR150: 4 | AT150: K | AU150: 2 | AY150: ROZPOCET | BE150: =IF(N150="základná",J150,0) -> 0 | BF150: =IF(N150="znížená",J150,0) -> 568 | BG150: =IF(N150="zákl. prenesená",J150,0) -> 0 | BH150: =IF(N150="zníž. prenesená",J150,0) -> 0 | BI150: =IF(N150="nulová",J150,0) -> 0 | BJ150: 2 | BK150: =ROUND(I150*H150,3) -> 568 | BL150: 4 | BM150: 32
C151: 19 | D151: K | E151: 965043331 | F151: Búranie podkladov pod dlažby, liatych dlažieb a mazanín,betón s poterom,hr.do 100 mm -2,20000t | G151: m3 | H151: 11.13 | I151: 126.98 | J151: =ROUND(I151*H151,3) -> 1413.287 | N151: znížená | O151: 0 | P151: =O151*H151 -> 0 | Q151: 0 | R151: =Q151*H151 -> 0 | S151: 1.95 | T151: =S151*H151 -> 21.7035 | AR151: 4 | AT151: K | AU151: 2 | AY151: ROZPOCET | BE151: =IF(N151="základná",J151,0) -> 0 | BF151: =IF(N151="znížená",J151,0) -> 1413.287 | BG151: =IF(N151="zákl. prenesená",J151,0) -> 0 | BH151: =IF(N151="zníž. prenesená",J151,0) -> 0 | BI151: =IF(N151="nulová",J151,0) -> 0 | BJ151: 2 | BK151: =ROUND(I151*H151,3) -> 1413.287 | BL151: 4 | BM151: 34
C152: 20 | D152: K | E152: 966079851 | F152: Prerušenie oceľového profilu prierezu do 100 mm2 | G152: ks | H152: 28 | I152: 0.5 | J152: =ROUND(I152*H152,3) -> 14 | N152: znížená | O152: 0 | P152: =O152*H152 -> 0 | Q152: 0 | R152: =Q152*H152 -> 0 | S152: 0 | T152: =S152*H152 -> 0 | AR152: 4 | AT152: K | AU152: 2 | AY152: ROZPOCET | BE152: =IF(N152="základná",J152,0) -> 0 | BF152: =IF(N152="znížená",J152,0) -> 14 | BG152: =IF(N152="zákl. prenesená",J152,0) -> 0 | BH152: =IF(N152="zníž. prenesená",J152,0) -> 0 | BI152: =IF(N152="nulová",J152,0) -> 0 | BJ152: 2 | BK152: =ROUND(I152*H152,3) -> 14 | BL152: 4 | BM152: 36
C153: 21 | D153: K | E153: 967041112 | F153: Prikresanie rovných ostení bez odstupu, po hrubom vybúraní otvorov, v betóne, -0,06600t | G153: m2 | H153: 4.8 | I153: 29.14 | J153: =ROUND(I153*H153,3) -> 139.872 | N153: znížená | O153: 0 | P153: =O153*H153 -> 0 | Q153: 0 | R153: =Q153*H153 -> 0 | S153: 0.17225 | T153: =S153*H153 -> 0.8268 | AR153: 4 | AT153: K | AU153: 2 | AY153: ROZPOCET | BE153: =IF(N153="základná",J153,0) -> 0 | BF153: =IF(N153="znížená",J153,0) -> 139.872 | BG153: =IF(N153="zákl. prenesená",J153,0) -> 0 | BH153: =IF(N153="zníž. prenesená",J153,0) -> 0 | BI153: =IF(N153="nulová",J153,0) -> 0 | BJ153: 2 | BK153: =ROUND(I153*H153,3) -> 139.872 | BL153: 4 | BM153: 38
C154: 22 | D154: K | E154: 968071125 | F154: Vyvesenie kovového dverného krídla do suti plochy do 2 m2 | G154: ks | H154: 7 | I154: 0.89 | J154: =ROUND(I154*H154,3) -> 6.23 | N154: znížená | O154: 0 | P154: =O154*H154 -> 0 | Q154: 0 | R154: =Q154*H154 -> 0 | S154: 0.022 | T154: =S154*H154 -> 0.154 | AR154: 4 | AT154: K | AU154: 2 | AY154: ROZPOCET | BE154: =IF(N154="základná",J154,0) -> 0 | BF154: =IF(N154="znížená",J154,0) -> 6.23 | BG154: =IF(N154="zákl. prenesená",J154,0) -> 0 | BH154: =IF(N154="zníž. prenesená",J154,0) -> 0 | BI154: =IF(N154="nulová",J154,0) -> 0 | BJ154: 2 | BK154: =ROUND(I154*H154,3) -> 6.23 | BL154: 4 | BM154: 40
C155: 23 | D155: K | E155: 968072455 | F155: Vybúranie kovových dverových zárubní plochy do 2 m2, -0,07600t | G155: m2 | H155: 5.6 | I155: 20.76 | J155: =ROUND(I155*H155,3) -> 116.256 | N155: znížená | O155: 0 | P155: =O155*H155 -> 0 | Q155: 0 | R155: =Q155*H155 -> 0 | S155: 0.03 | T155: =S155*H155 -> 0.168 | AR155: 4 | AT155: K | AU155: 2 | AY155: ROZPOCET | BE155: =IF(N155="základná",J155,0) -> 0 | BF155: =IF(N155="znížená",J155,0) -> 116.256 | BG155: =IF(N155="zákl. prenesená",J155,0) -> 0 | BH155: =IF(N155="zníž. prenesená",J155,0) -> 0 | BI155: =IF(N155="nulová",J155,0) -> 0 | BJ155: 2 | BK155: =ROUND(I155*H155,3) -> 116.256 | BL155: 4 | BM155: 42
C156: 24 | D156: K | E156: 972056001 | F156: Jadrové vrty diamantovými korunkami do D 20 mm - železobetónových -0,00001t | G156: cm | H156: 134 | I156: 0.93 | J156: =ROUND(I156*H156,3) -> 124.62 | N156: znížená | O156: 0 | P156: =O156*H156 -> 0 | Q156: 0 | R156: =Q156*H156 -> 0 | S156: 0.01 | T156: =S156*H156 -> 1.34 | AR156: 4 | AT156: K | AU156: 2 | AY156: ROZPOCET | BE156: =IF(N156="základná",J156,0) -> 0 | BF156: =IF(N156="znížená",J156,0) -> 124.62 | BG156: =IF(N156="zákl. prenesená",J156,0) -> 0 | BH156: =IF(N156="zníž. prenesená",J156,0) -> 0 | BI156: =IF(N156="nulová",J156,0) -> 0 | BJ156: 2 | BK156: =ROUND(I156*H156,3) -> 124.62 | BL156: 4 | BM156: 44
C157: 25 | D157: K | E157: 974041111 | F157: Vysekanie cementovej alebo betónovej zálievky zo škár medzi panelmi , prierez 30x30 mm, -0,00200t | G157: m | H157: 26 | I157: 5.76 | J157: =ROUND(I157*H157,3) -> 149.76 | N157: znížená | O157: 0 | P157: =O157*H157 -> 0 | Q157: 0 | R157: =Q157*H157 -> 0 | S157: 0 | T157: =S157*H157 -> 0 | AR157: 4 | AT157: K | AU157: 2 | AY157: ROZPOCET | BE157: =IF(N157="základná",J157,0) -> 0 | BF157: =IF(N157="znížená",J157,0) -> 149.76 | BG157: =IF(N157="zákl. prenesená",J157,0) -> 0 | BH157: =IF(N157="zníž. prenesená",J157,0) -> 0 | BI157: =IF(N157="nulová",J157,0) -> 0 | BJ157: 2 | BK157: =ROUND(I157*H157,3) -> 149.76 | BL157: 4 | BM157: 46
C158: 26 | D158: K | E158: 979011111.S | F158: Zvislá doprava sutiny a vybúraných hmôt za prvé podlažie nad alebo pod základným podlažím | G158: t | H158: 27.159 | I158: 9.67 | J158: =ROUND(I158*H158,3) -> 262.628 | N158: znížená | O158: 0.882 | P158: =O158*H158 -> 23.954238 | Q158: 0 | R158: =Q158*H158 -> 0 | S158: 0 | T158: =S158*H158 -> 0 | AR158: 4 | AT158: K | AU158: 2 | AY158: ROZPOCET | BE158: =IF(N158="základná",J158,0) -> 0 | BF158: =IF(N158="znížená",J158,0) -> 262.628 | BG158: =IF(N158="zákl. prenesená",J158,0) -> 0 | BH158: =IF(N158="zníž. prenesená",J158,0) -> 0 | BI158: =IF(N158="nulová",J158,0) -> 0 | BJ158: 2 | BK158: =ROUND(I158*H158,3) -> 262.628 | BL158: 4 | BM158: -1049112178
C159: 27 | D159: K | E159: 979082111.S | F159: Vnútrostavenisková doprava sutiny a vybúraných hmôt do 10 m | G159: t | H159: 27.159 | I159: 9.69 | J159: =ROUND(I159*H159,3) -> 263.171 | N159: znížená | O159: 0.89 | P159: =O159*H159 -> 24.17151 | Q159: 0 | R159: =Q159*H159 -> 0 | S159: 0 | T159: =S159*H159 -> 0 | AR159: 4 | AT159: K | AU159: 2 | AY159: ROZPOCET | BE159: =IF(N159="základná",J159,0) -> 0 | BF159: =IF(N159="znížená",J159,0) -> 263.171 | BG159: =IF(N159="zákl. prenesená",J159,0) -> 0 | BH159: =IF(N159="zníž. prenesená",J159,0) -> 0 | BI159: =IF(N159="nulová",J159,0) -> 0 | BJ159: 2 | BK159: =ROUND(I159*H159,3) -> 263.171 | BL159: 4 | BM159: -243156671
C160: 28 | D160: K | E160: 979082121 | F160: Vnútrostavenisková doprava sutiny a vybúraných hmôt za každých ďalších 5 m | G160: t | H160: 271.59 | I160: 1.11 | J160: =ROUND(I160*H160,3) -> 301.465 | N160: znížená | O160: 0 | P160: =O160*H160 -> 0 | Q160: 0 | R160: =Q160*H160 -> 0 | S160: 0 | T160: =S160*H160 -> 0 | AR160: 4 | AT160: K | AU160: 2 | AY160: ROZPOCET | BE160: =IF(N160="základná",J160,0) -> 0 | BF160: =IF(N160="znížená",J160,0) -> 301.465 | BG160: =IF(N160="zákl. prenesená",J160,0) -> 0 | BH160: =IF(N160="zníž. prenesená",J160,0) -> 0 | BI160: =IF(N160="nulová",J160,0) -> 0 | BJ160: 2 | BK160: =ROUND(I160*H160,3) -> 301.465 | BL160: 4 | BM160: 52
C161: 29 | D161: K | E161: 979089713 | F161: Prenájom kontajneru 4 m3, vrátane poplatkov za skládku | G161: ks | H161: 6 | I161: 308.95 | J161: =ROUND(I161*H161,3) -> 1853.7 | N161: znížená | O161: 0 | P161: =O161*H161 -> 0 | Q161: 0 | R161: =Q161*H161 -> 0 | S161: 0 | T161: =S161*H161 -> 0 | AR161: 4 | AT161: K | AU161: 2 | AY161: ROZPOCET | BE161: =IF(N161="základná",J161,0) -> 0 | BF161: =IF(N161="znížená",J161,0) -> 1853.7 | BG161: =IF(N161="zákl. prenesená",J161,0) -> 0 | BH161: =IF(N161="zníž. prenesená",J161,0) -> 0 | BI161: =IF(N161="nulová",J161,0) -> 0 | BJ161: 2 | BK161: =ROUND(I161*H161,3) -> 1853.7 | BL161: 4 | BM161: 54
D162: D | E162: 99 | F162: Presun hmôt HSV | J162: =BK162 -> 177.966 | P162: =P163 -> 0 | R162: =R163 -> 0 | T162: =T163 -> 0 | AR162: 1 | AT162: D | AU162: 1 | AY162: ROZPOCET | BK162: =BK163 -> 177.966
C163: 30 | D163: K | E163: 998012023 | F163: Presun hmôt pre budovy (801, 803, 812), zvislá konštr. monolit. betónová výšky do 24 m | G163: t | H163: 13.828 | I163: 12.87 | J163: =ROUND(I163*H163,3) -> 177.966 | N163: znížená | O163: 0 | P163: =O163*H163 -> 0 | Q163: 0 | R163: =Q163*H163 -> 0 | S163: 0 | T163: =S163*H163 -> 0 | AR163: 4 | AT163: K | AU163: 2 | AY163: ROZPOCET | BE163: =IF(N163="základná",J163,0) -> 0 | BF163: =IF(N163="znížená",J163,0) -> 177.966 | BG163: =IF(N163="zákl. prenesená",J163,0) -> 0 | BH163: =IF(N163="zníž. prenesená",J163,0) -> 0 | BI163: =IF(N163="nulová",J163,0) -> 0 | BJ163: 2 | BK163: =ROUND(I163*H163,3) -> 177.966 | BL163: 4 | BM163: 56
D164: D | E164: PSV | F164: Práce a dodávky PSV | J164: =BK164 -> 19507.073 | P164: =P165+P169+P186+P195+P208 -> 14.041585 | R164: =R165+R169+R186+R195+R208 -> 0.137862 | T164: =T165+T169+T186+T195+T208 -> 0 | AR164: 2 | AT164: D | AU164: 0 | AY164: ROZPOCET | BK164: =BK165+BK169+BK186+BK195+BK208 -> 19507.073
D165: D | E165: 713 | F165: Izolácie tepelné | J165: =BK165 -> 3490.074 | P165: =SUM(P166:P168) -> 0 | R165: =SUM(R166:R168) -> 0 | T165: =SUM(T166:T168) -> 0 | AR165: 2 | AT165: D | AU165: 1 | AY165: ROZPOCET | BK165: =SUM(BK166:BK168) -> 3490.074
C166: 31 | D166: K | E166: 713510207 | F166: Montáž tesnenia prestupu káblových, potrubných trás a tesnenie škár prierezu 0,8-1 m2 protipožiarnym povlakom | G166: ks | H166: 16 | I166: 182.47 | J166: =ROUND(I166*H166,3) -> 2919.52 | N166: znížená | O166: 0 | P166: =O166*H166 -> 0 | Q166: 0 | R166: =Q166*H166 -> 0 | S166: 0 | T166: =S166*H166 -> 0 | AR166: 16 | AT166: K | AU166: 2 | AY166: ROZPOCET | BE166: =IF(N166="základná",J166,0) -> 0 | BF166: =IF(N166="znížená",J166,0) -> 2919.52 | BG166: =IF(N166="zákl. prenesená",J166,0) -> 0 | BH166: =IF(N166="zníž. prenesená",J166,0) -> 0 | BI166: =IF(N166="nulová",J166,0) -> 0 | BJ166: 2 | BK166: =ROUND(I166*H166,3) -> 2919.52 | BL166: 16 | BM166: 58
C167: 32 | D167: M | E167: 631470000400 | F167: Technická izolácia protipožiarna | G167: m2 | H167: 10.5 | I167: 50.44 | J167: =ROUND(I167*H167,3) -> 529.62 | N167: znížená | O167: 0 | P167: =O167*H167 -> 0 | Q167: 0 | R167: =Q167*H167 -> 0 | S167: 0 | T167: =S167*H167 -> 0 | AR167: 32 | AT167: M | AU167: 2 | AY167: ROZPOCET | BE167: =IF(N167="základná",J167,0) -> 0 | BF167: =IF(N167="znížená",J167,0) -> 529.62 | BG167: =IF(N167="zákl. prenesená",J167,0) -> 0 | BH167: =IF(N167="zníž. prenesená",J167,0) -> 0 | BI167: =IF(N167="nulová",J167,0) -> 0 | BJ167: 2 | BK167: =ROUND(I167*H167,3) -> 529.62 | BL167: 16 | BM167: 60
...
